BEGIN:VCALENDAR
VERSION:2.0
PRODID:-//New Communities, Inc. - ECPv6.15.20//NONSGML v1.0//EN
CALSCALE:GREGORIAN
METHOD:PUBLISH
X-WR-CALNAME:New Communities, Inc.
X-ORIGINAL-URL:https://newcommunitiesinc.org
X-WR-CALDESC:Events for New Communities, Inc.
REFRESH-INTERVAL;VALUE=DURATION:PT1H
X-Robots-Tag:noindex
X-PUBLISHED-TTL:PT1H
BEGIN:VTIMEZONE
TZID:America/New_York
BEGIN:DAYLIGHT
TZOFFSETFROM:-0500
TZOFFSETTO:-0400
TZNAME:EDT
DTSTART:20250309T070000
END:DAYLIGHT
BEGIN:STANDARD
TZOFFSETFROM:-0400
TZOFFSETTO:-0500
TZNAME:EST
DTSTART:20251102T060000
END:STANDARD
BEGIN:DAYLIGHT
TZOFFSETFROM:-0500
TZOFFSETTO:-0400
TZNAME:EDT
DTSTART:20260308T070000
END:DAYLIGHT
BEGIN:STANDARD
TZOFFSETFROM:-0400
TZOFFSETTO:-0500
TZNAME:EST
DTSTART:20261101T060000
END:STANDARD
BEGIN:DAYLIGHT
TZOFFSETFROM:-0500
TZOFFSETTO:-0400
TZNAME:EDT
DTSTART:20270314T070000
END:DAYLIGHT
BEGIN:STANDARD
TZOFFSETFROM:-0400
TZOFFSETTO:-0500
TZNAME:EST
DTSTART:20271107T060000
END:STANDARD
END:VTIMEZONE
BEGIN:VEVENT
DTSTART;TZID=America/New_York:20260311T090000
DTEND;TZID=America/New_York:20260311T130000
DTSTAMP:20260421T104214
CREATED:20251029T182534Z
LAST-MODIFIED:20251029T182534Z
UID:10000360-1773219600-1773234000@newcommunitiesinc.org
SUMMARY:American Heart Association CPR-First Aid-AED In-Person (Gardiner Training Center)
DESCRIPTION:A video-based\, instructor-led course that teaches students critical skills to respond to and manage an emergency in the first few minutes before emergency medical services arrive. The instructor observes student practice and guides students’ learning of skills.
URL:https://newcommunitiesinc.org/event/american-heart-association-cpr-first-aid-aed-in-person-gardiner-training-center-9/
LOCATION:Gardiner Training Center\, 13 Plaisted Street\, Gardiner\, ME\, 04345\, United States
CATEGORIES:American Heart Association CPR & First Aid
END:VEVENT
BEGIN:VEVENT
DTSTART;TZID=America/New_York:20260325T090000
DTEND;TZID=America/New_York:20260325T130000
DTSTAMP:20260421T104214
CREATED:20251029T183004Z
LAST-MODIFIED:20260223T130926Z
UID:10000363-1774429200-1774443600@newcommunitiesinc.org
SUMMARY:American Heart Association CPR-First Aid-AED In-Person (Hampden Meadows)
DESCRIPTION:A video-based\, instructor-led course that teaches students critical skills to respond to and manage an emergency in the first few minutes before emergency medical services arrive. The instructor observes student practice and guides students’ learning of skills.
URL:https://newcommunitiesinc.org/event/american-heart-association-cpr-first-aid-aed-in-person-hampden-meadows-9/
LOCATION:Hampden Meadows\, 1282 Kennebec Road\, Hampden\, ME\, 04444
CATEGORIES:American Heart Association CPR & First Aid
END:VEVENT
BEGIN:VEVENT
DTSTART;TZID=America/New_York:20260403T090000
DTEND;TZID=America/New_York:20260403T130000
DTSTAMP:20260421T104214
CREATED:20251029T183227Z
LAST-MODIFIED:20260223T182727Z
UID:10000366-1775206800-1775221200@newcommunitiesinc.org
SUMMARY:American Heart Association CPR-First Aid-AED In-Person (Norway)
DESCRIPTION:A video-based\, instructor-led course that teaches students critical skills to respond to and manage an emergency in the first few minutes before emergency medical services arrive. The instructor observes student practice and guides students’ learning of skills.
URL:https://newcommunitiesinc.org/event/american-heart-association-cpr-first-aid-aed-in-person-norway-5/
LOCATION:Norway Training Center (Marston Street)\, 16 Marston Street\, Norway\, ME\, 04268\, United States
CATEGORIES:American Heart Association CPR & First Aid
END:VEVENT
BEGIN:VEVENT
DTSTART;TZID=America/New_York:20260423T090000
DTEND;TZID=America/New_York:20260423T130000
DTSTAMP:20260421T104214
CREATED:20251029T183038Z
LAST-MODIFIED:20260304T192214Z
UID:10000364-1776934800-1776949200@newcommunitiesinc.org
SUMMARY:American Heart Association CPR-First Aid-AED In-Person (Hampden Meadows)
DESCRIPTION:A video-based\, instructor-led course that teaches students critical skills to respond to and manage an emergency in the first few minutes before emergency medical services arrive. The instructor observes student practice and guides students’ learning of skills.
URL:https://newcommunitiesinc.org/event/american-heart-association-cpr-first-aid-aed-in-person-hampden-meadows-10/
LOCATION:Hampden Meadows\, 1282 Kennebec Road\, Hampden\, ME\, 04444
CATEGORIES:American Heart Association CPR & First Aid
END:VEVENT
BEGIN:VEVENT
DTSTART;TZID=America/New_York:20260507T090000
DTEND;TZID=America/New_York:20260507T130000
DTSTAMP:20260421T104214
CREATED:20251029T182605Z
LAST-MODIFIED:20251029T182605Z
UID:10000361-1778144400-1778158800@newcommunitiesinc.org
SUMMARY:American Heart Association CPR-First Aid-AED In-Person (Gardiner Training Center)
DESCRIPTION:A video-based\, instructor-led course that teaches students critical skills to respond to and manage an emergency in the first few minutes before emergency medical services arrive. The instructor observes student practice and guides students’ learning of skills.
URL:https://newcommunitiesinc.org/event/american-heart-association-cpr-first-aid-aed-in-person-gardiner-training-center-10/
LOCATION:Gardiner Training Center\, 13 Plaisted Street\, Gardiner\, ME\, 04345\, United States
CATEGORIES:American Heart Association CPR & First Aid
END:VEVENT
BEGIN:VEVENT
DTSTART;TZID=America/New_York:20260603T090000
DTEND;TZID=America/New_York:20260603T130000
DTSTAMP:20260421T104214
CREATED:20251029T185044Z
LAST-MODIFIED:20251029T185044Z
UID:10000367-1780477200-1780491600@newcommunitiesinc.org
SUMMARY:American Heart Association CPR-First Aid-AED In-Person (Norway)
DESCRIPTION:A video-based\, instructor-led course that teaches students critical skills to respond to and manage an emergency in the first few minutes before emergency medical services arrive. The instructor observes student practice and guides students’ learning of skills.
URL:https://newcommunitiesinc.org/event/american-heart-association-cpr-first-aid-aed-in-person-norway-6/
LOCATION:Norway Training Center (Marston Street)\, 16 Marston Street\, Norway\, ME\, 04268\, United States
CATEGORIES:American Heart Association CPR & First Aid
END:VEVENT
BEGIN:VEVENT
DTSTART;TZID=America/New_York:20260713T090000
DTEND;TZID=America/New_York:20260713T130000
DTSTAMP:20260421T104214
CREATED:20260421T140310Z
LAST-MODIFIED:20260421T140310Z
UID:10000476-1783933200-1783947600@newcommunitiesinc.org
SUMMARY:American Heart Association CPR-First Aid-AED In-Person (Norway)
DESCRIPTION:A video-based\, instructor-led course that teaches students critical skills to respond to and manage an emergency in the first few minutes before emergency medical services arrive. The instructor observes student practice and guides students’ learning of skills.
URL:https://newcommunitiesinc.org/event/american-heart-association-cpr-first-aid-aed-in-person-norway-8/
LOCATION:Norway Training Center (Marston Street)\, 16 Marston Street\, Norway\, ME\, 04268\, United States
CATEGORIES:American Heart Association CPR & First Aid
END:VEVENT
BEGIN:VEVENT
DTSTART;TZID=America/New_York:20260717T090000
DTEND;TZID=America/New_York:20260717T130000
DTSTAMP:20260421T104214
CREATED:20260421T142854Z
LAST-MODIFIED:20260421T142854Z
UID:10000482-1784278800-1784293200@newcommunitiesinc.org
SUMMARY:American Heart Association CPR-First Aid-AED In-Person (Hampden Meadows)
DESCRIPTION:A video-based\, instructor-led course that teaches students critical skills to respond to and manage an emergency in the first few minutes before emergency medical services arrive. The instructor observes student practice and guides students’ learning of skills.
URL:https://newcommunitiesinc.org/event/american-heart-association-cpr-first-aid-aed-in-person-hampden-meadows-11/
LOCATION:Hampden Meadows\, 1282 Kennebec Road\, Hampden\, ME\, 04444
CATEGORIES:American Heart Association CPR & First Aid
END:VEVENT
BEGIN:VEVENT
DTSTART;TZID=America/New_York:20260807T090000
DTEND;TZID=America/New_York:20260807T130000
DTSTAMP:20260421T104214
CREATED:20260421T140402Z
LAST-MODIFIED:20260421T140402Z
UID:10000477-1786093200-1786107600@newcommunitiesinc.org
SUMMARY:American Heart Association CPR-First Aid-AED In-Person (Norway)
DESCRIPTION:A video-based\, instructor-led course that teaches students critical skills to respond to and manage an emergency in the first few minutes before emergency medical services arrive. The instructor observes student practice and guides students’ learning of skills.
URL:https://newcommunitiesinc.org/event/american-heart-association-cpr-first-aid-aed-in-person-norway-9/
LOCATION:Norway Training Center (Marston Street)\, 16 Marston Street\, Norway\, ME\, 04268\, United States
CATEGORIES:American Heart Association CPR & First Aid
END:VEVENT
BEGIN:VEVENT
DTSTART;TZID=America/New_York:20260908T090000
DTEND;TZID=America/New_York:20260908T130000
DTSTAMP:20260421T104214
CREATED:20260421T143415Z
LAST-MODIFIED:20260421T143415Z
UID:10000483-1788858000-1788872400@newcommunitiesinc.org
SUMMARY:American Heart Association CPR-First Aid-AED In-Person (Hampden Meadows)
DESCRIPTION:A video-based\, instructor-led course that teaches students critical skills to respond to and manage an emergency in the first few minutes before emergency medical services arrive. The instructor observes student practice and guides students’ learning of skills.
URL:https://newcommunitiesinc.org/event/american-heart-association-cpr-first-aid-aed-in-person-hampden-meadows-12/
LOCATION:Hampden Meadows\, 1282 Kennebec Road\, Hampden\, ME\, 04444
CATEGORIES:American Heart Association CPR & First Aid
END:VEVENT
BEGIN:VEVENT
DTSTART;TZID=America/New_York:20260925T090000
DTEND;TZID=America/New_York:20260925T130000
DTSTAMP:20260421T104214
CREATED:20260421T140444Z
LAST-MODIFIED:20260421T140444Z
UID:10000478-1790326800-1790341200@newcommunitiesinc.org
SUMMARY:American Heart Association CPR-First Aid-AED In-Person (Norway)
DESCRIPTION:A video-based\, instructor-led course that teaches students critical skills to respond to and manage an emergency in the first few minutes before emergency medical services arrive. The instructor observes student practice and guides students’ learning of skills.
URL:https://newcommunitiesinc.org/event/american-heart-association-cpr-first-aid-aed-in-person-norway-10/
LOCATION:Norway Training Center (Marston Street)\, 16 Marston Street\, Norway\, ME\, 04268\, United States
CATEGORIES:American Heart Association CPR & First Aid
END:VEVENT
BEGIN:VEVENT
DTSTART;TZID=America/New_York:20261006T090000
DTEND;TZID=America/New_York:20261006T130000
DTSTAMP:20260421T104214
CREATED:20260421T141711Z
LAST-MODIFIED:20260421T141711Z
UID:10000479-1791277200-1791291600@newcommunitiesinc.org
SUMMARY:American Heart Association CPR-First Aid-AED In-Person (Norway)
DESCRIPTION:A video-based\, instructor-led course that teaches students critical skills to respond to and manage an emergency in the first few minutes before emergency medical services arrive. The instructor observes student practice and guides students’ learning of skills.
URL:https://newcommunitiesinc.org/event/american-heart-association-cpr-first-aid-aed-in-person-norway-11/
LOCATION:Norway Training Center (Marston Street)\, 16 Marston Street\, Norway\, ME\, 04268\, United States
CATEGORIES:American Heart Association CPR & First Aid
END:VEVENT
BEGIN:VEVENT
DTSTART;TZID=America/New_York:20261021T090000
DTEND;TZID=America/New_York:20261021T130000
DTSTAMP:20260421T104214
CREATED:20260421T143826Z
LAST-MODIFIED:20260421T143826Z
UID:10000484-1792573200-1792587600@newcommunitiesinc.org
SUMMARY:American Heart Association CPR-First Aid-AED In-Person (Hampden Meadows)
DESCRIPTION:A video-based\, instructor-led course that teaches students critical skills to respond to and manage an emergency in the first few minutes before emergency medical services arrive. The instructor observes student practice and guides students’ learning of skills.
URL:https://newcommunitiesinc.org/event/american-heart-association-cpr-first-aid-aed-in-person-hampden-meadows-13/
LOCATION:Hampden Meadows\, 1282 Kennebec Road\, Hampden\, ME\, 04444
CATEGORIES:American Heart Association CPR & First Aid
END:VEVENT
BEGIN:VEVENT
DTSTART;TZID=America/New_York:20261117T090000
DTEND;TZID=America/New_York:20261117T130000
DTSTAMP:20260421T104214
CREATED:20260421T141835Z
LAST-MODIFIED:20260421T141835Z
UID:10000480-1794906000-1794920400@newcommunitiesinc.org
SUMMARY:American Heart Association CPR-First Aid-AED In-Person (Norway)
DESCRIPTION:A video-based\, instructor-led course that teaches students critical skills to respond to and manage an emergency in the first few minutes before emergency medical services arrive. The instructor observes student practice and guides students’ learning of skills.
URL:https://newcommunitiesinc.org/event/american-heart-association-cpr-first-aid-aed-in-person-norway-12/
LOCATION:Norway Training Center (Marston Street)\, 16 Marston Street\, Norway\, ME\, 04268\, United States
CATEGORIES:American Heart Association CPR & First Aid
END:VEVENT
BEGIN:VEVENT
DTSTART;TZID=America/New_York:20261215T090000
DTEND;TZID=America/New_York:20261215T130000
DTSTAMP:20260421T104214
CREATED:20260421T141912Z
LAST-MODIFIED:20260421T141912Z
UID:10000481-1797325200-1797339600@newcommunitiesinc.org
SUMMARY:American Heart Association CPR-First Aid-AED In-Person (Norway)
DESCRIPTION:A video-based\, instructor-led course that teaches students critical skills to respond to and manage an emergency in the first few minutes before emergency medical services arrive. The instructor observes student practice and guides students’ learning of skills.
URL:https://newcommunitiesinc.org/event/american-heart-association-cpr-first-aid-aed-in-person-norway-13/
LOCATION:Norway Training Center (Marston Street)\, 16 Marston Street\, Norway\, ME\, 04268\, United States
CATEGORIES:American Heart Association CPR & First Aid
END:VEVENT
END:VCALENDAR