BEGIN:VCALENDAR
VERSION:2.0
PRODID:-//New Communities, Inc. - ECPv6.15.20//NONSGML v1.0//EN
CALSCALE:GREGORIAN
METHOD:PUBLISH
X-ORIGINAL-URL:https://newcommunitiesinc.org
X-WR-CALDESC:Events for New Communities, Inc.
REFRESH-INTERVAL;VALUE=DURATION:PT1H
X-Robots-Tag:noindex
X-PUBLISHED-TTL:PT1H
BEGIN:VTIMEZONE
TZID:America/New_York
BEGIN:DAYLIGHT
TZOFFSETFROM:-0500
TZOFFSETTO:-0400
TZNAME:EDT
DTSTART:20250309T070000
END:DAYLIGHT
BEGIN:STANDARD
TZOFFSETFROM:-0400
TZOFFSETTO:-0500
TZNAME:EST
DTSTART:20251102T060000
END:STANDARD
BEGIN:DAYLIGHT
TZOFFSETFROM:-0500
TZOFFSETTO:-0400
TZNAME:EDT
DTSTART:20260308T070000
END:DAYLIGHT
BEGIN:STANDARD
TZOFFSETFROM:-0400
TZOFFSETTO:-0500
TZNAME:EST
DTSTART:20261101T060000
END:STANDARD
BEGIN:DAYLIGHT
TZOFFSETFROM:-0500
TZOFFSETTO:-0400
TZNAME:EDT
DTSTART:20270314T070000
END:DAYLIGHT
BEGIN:STANDARD
TZOFFSETFROM:-0400
TZOFFSETTO:-0500
TZNAME:EST
DTSTART:20271107T060000
END:STANDARD
END:VTIMEZONE
BEGIN:VEVENT
DTSTART;TZID=America/New_York:20260311T090000
DTEND;TZID=America/New_York:20260311T130000
DTSTAMP:20260421T190615
CREATED:20251029T182534Z
LAST-MODIFIED:20251029T182534Z
UID:10000360-1773219600-1773234000@newcommunitiesinc.org
SUMMARY:American Heart Association CPR-First Aid-AED In-Person (Gardiner Training Center)
DESCRIPTION:A video-based\, instructor-led course that teaches students critical skills to respond to and manage an emergency in the first few minutes before emergency medical services arrive. The instructor observes student practice and guides students’ learning of skills.
URL:https://newcommunitiesinc.org/event/american-heart-association-cpr-first-aid-aed-in-person-gardiner-training-center-9/
LOCATION:Gardiner Training Center\, 13 Plaisted Street\, Gardiner\, ME\, 04345\, United States
CATEGORIES:American Heart Association CPR & First Aid
END:VEVENT
BEGIN:VEVENT
DTSTART;TZID=America/New_York:20260325T090000
DTEND;TZID=America/New_York:20260325T130000
DTSTAMP:20260421T190615
CREATED:20251029T183004Z
LAST-MODIFIED:20260223T130926Z
UID:10000363-1774429200-1774443600@newcommunitiesinc.org
SUMMARY:American Heart Association CPR-First Aid-AED In-Person (Hampden Meadows)
DESCRIPTION:A video-based\, instructor-led course that teaches students critical skills to respond to and manage an emergency in the first few minutes before emergency medical services arrive. The instructor observes student practice and guides students’ learning of skills.
URL:https://newcommunitiesinc.org/event/american-heart-association-cpr-first-aid-aed-in-person-hampden-meadows-9/
LOCATION:Hampden Meadows\, 1282 Kennebec Road\, Hampden\, ME\, 04444
CATEGORIES:American Heart Association CPR & First Aid
END:VEVENT
BEGIN:VEVENT
DTSTART;TZID=America/New_York:20260403T090000
DTEND;TZID=America/New_York:20260403T130000
DTSTAMP:20260421T190615
CREATED:20251029T183227Z
LAST-MODIFIED:20260223T182727Z
UID:10000366-1775206800-1775221200@newcommunitiesinc.org
SUMMARY:American Heart Association CPR-First Aid-AED In-Person (Norway)
DESCRIPTION:A video-based\, instructor-led course that teaches students critical skills to respond to and manage an emergency in the first few minutes before emergency medical services arrive. The instructor observes student practice and guides students’ learning of skills.
URL:https://newcommunitiesinc.org/event/american-heart-association-cpr-first-aid-aed-in-person-norway-5/
LOCATION:Norway Training Center (Marston Street)\, 16 Marston Street\, Norway\, ME\, 04268\, United States
CATEGORIES:American Heart Association CPR & First Aid
END:VEVENT
BEGIN:VEVENT
DTSTART;TZID=America/New_York:20260423T090000
DTEND;TZID=America/New_York:20260423T130000
DTSTAMP:20260421T190615
CREATED:20251029T183038Z
LAST-MODIFIED:20260304T192214Z
UID:10000364-1776934800-1776949200@newcommunitiesinc.org
SUMMARY:American Heart Association CPR-First Aid-AED In-Person (Hampden Meadows)
DESCRIPTION:A video-based\, instructor-led course that teaches students critical skills to respond to and manage an emergency in the first few minutes before emergency medical services arrive. The instructor observes student practice and guides students’ learning of skills.
URL:https://newcommunitiesinc.org/event/american-heart-association-cpr-first-aid-aed-in-person-hampden-meadows-10/
LOCATION:Hampden Meadows\, 1282 Kennebec Road\, Hampden\, ME\, 04444
CATEGORIES:American Heart Association CPR & First Aid
END:VEVENT
BEGIN:VEVENT
DTSTART;TZID=America/New_York:20260507T090000
DTEND;TZID=America/New_York:20260507T130000
DTSTAMP:20260421T190615
CREATED:20251029T182605Z
LAST-MODIFIED:20251029T182605Z
UID:10000361-1778144400-1778158800@newcommunitiesinc.org
SUMMARY:American Heart Association CPR-First Aid-AED In-Person (Gardiner Training Center)
DESCRIPTION:A video-based\, instructor-led course that teaches students critical skills to respond to and manage an emergency in the first few minutes before emergency medical services arrive. The instructor observes student practice and guides students’ learning of skills.
URL:https://newcommunitiesinc.org/event/american-heart-association-cpr-first-aid-aed-in-person-gardiner-training-center-10/
LOCATION:Gardiner Training Center\, 13 Plaisted Street\, Gardiner\, ME\, 04345\, United States
CATEGORIES:American Heart Association CPR & First Aid
END:VEVENT
BEGIN:VEVENT
DTSTART;TZID=America/New_York:20260603T090000
DTEND;TZID=America/New_York:20260603T130000
DTSTAMP:20260421T190615
CREATED:20251029T185044Z
LAST-MODIFIED:20251029T185044Z
UID:10000367-1780477200-1780491600@newcommunitiesinc.org
SUMMARY:American Heart Association CPR-First Aid-AED In-Person (Norway)
DESCRIPTION:A video-based\, instructor-led course that teaches students critical skills to respond to and manage an emergency in the first few minutes before emergency medical services arrive. The instructor observes student practice and guides students’ learning of skills.
URL:https://newcommunitiesinc.org/event/american-heart-association-cpr-first-aid-aed-in-person-norway-6/
LOCATION:Norway Training Center (Marston Street)\, 16 Marston Street\, Norway\, ME\, 04268\, United States
CATEGORIES:American Heart Association CPR & First Aid
END:VEVENT
BEGIN:VEVENT
DTSTART;TZID=America/New_York:20260710T090000
DTEND;TZID=America/New_York:20260710T130000
DTSTAMP:20260421T190615
CREATED:20260421T152159Z
LAST-MODIFIED:20260421T152239Z
UID:10000491-1783674000-1783688400@newcommunitiesinc.org
SUMMARY:American Heart Association CPR-First Aid-AED In-Person (Skowhegan)
DESCRIPTION:A video-based\, instructor-led course that teaches students critical skills to respond to and manage an emergency in the first few minutes before emergency medical services arrive. The instructor observes student practice and guides students’ learning of skills.
URL:https://newcommunitiesinc.org/event/american-heart-association-cpr-first-aid-aed-in-person-norway-14/
LOCATION:Skowhegan Training Center\, 52 High Street\, Skowhegan\, ME\, 04976
CATEGORIES:American Heart Association CPR & First Aid
END:VEVENT
BEGIN:VEVENT
DTSTART;TZID=America/New_York:20260713T090000
DTEND;TZID=America/New_York:20260713T130000
DTSTAMP:20260421T190615
CREATED:20260421T140310Z
LAST-MODIFIED:20260421T140310Z
UID:10000476-1783933200-1783947600@newcommunitiesinc.org
SUMMARY:American Heart Association CPR-First Aid-AED In-Person (Norway)
DESCRIPTION:A video-based\, instructor-led course that teaches students critical skills to respond to and manage an emergency in the first few minutes before emergency medical services arrive. The instructor observes student practice and guides students’ learning of skills.
URL:https://newcommunitiesinc.org/event/american-heart-association-cpr-first-aid-aed-in-person-norway-8/
LOCATION:Norway Training Center (Marston Street)\, 16 Marston Street\, Norway\, ME\, 04268\, United States
CATEGORIES:American Heart Association CPR & First Aid
END:VEVENT
BEGIN:VEVENT
DTSTART;TZID=America/New_York:20260717T090000
DTEND;TZID=America/New_York:20260717T130000
DTSTAMP:20260421T190615
CREATED:20260421T142854Z
LAST-MODIFIED:20260421T142854Z
UID:10000482-1784278800-1784293200@newcommunitiesinc.org
SUMMARY:American Heart Association CPR-First Aid-AED In-Person (Hampden Meadows)
DESCRIPTION:A video-based\, instructor-led course that teaches students critical skills to respond to and manage an emergency in the first few minutes before emergency medical services arrive. The instructor observes student practice and guides students’ learning of skills.
URL:https://newcommunitiesinc.org/event/american-heart-association-cpr-first-aid-aed-in-person-hampden-meadows-11/
LOCATION:Hampden Meadows\, 1282 Kennebec Road\, Hampden\, ME\, 04444
CATEGORIES:American Heart Association CPR & First Aid
END:VEVENT
BEGIN:VEVENT
DTSTART;TZID=America/New_York:20260720T090000
DTEND;TZID=America/New_York:20260720T130000
DTSTAMP:20260421T190615
CREATED:20260421T151133Z
LAST-MODIFIED:20260421T151133Z
UID:10000486-1784538000-1784552400@newcommunitiesinc.org
SUMMARY:American Heart Association CPR-First Aid-AED In-Person (Gardiner Training Center)
DESCRIPTION:A video-based\, instructor-led course that teaches students critical skills to respond to and manage an emergency in the first few minutes before emergency medical services arrive. The instructor observes student practice and guides students’ learning of skills.
URL:https://newcommunitiesinc.org/event/american-heart-association-cpr-first-aid-aed-in-person-gardiner-training-center-11/
LOCATION:Gardiner Training Center\, 13 Plaisted Street\, Gardiner\, ME\, 04345\, United States
CATEGORIES:American Heart Association CPR & First Aid
END:VEVENT
BEGIN:VEVENT
DTSTART;TZID=America/New_York:20260807T090000
DTEND;TZID=America/New_York:20260807T130000
DTSTAMP:20260421T190615
CREATED:20260421T140402Z
LAST-MODIFIED:20260421T140402Z
UID:10000477-1786093200-1786107600@newcommunitiesinc.org
SUMMARY:American Heart Association CPR-First Aid-AED In-Person (Norway)
DESCRIPTION:A video-based\, instructor-led course that teaches students critical skills to respond to and manage an emergency in the first few minutes before emergency medical services arrive. The instructor observes student practice and guides students’ learning of skills.
URL:https://newcommunitiesinc.org/event/american-heart-association-cpr-first-aid-aed-in-person-norway-9/
LOCATION:Norway Training Center (Marston Street)\, 16 Marston Street\, Norway\, ME\, 04268\, United States
CATEGORIES:American Heart Association CPR & First Aid
END:VEVENT
BEGIN:VEVENT
DTSTART;TZID=America/New_York:20260824T090000
DTEND;TZID=America/New_York:20260824T130000
DTSTAMP:20260421T190615
CREATED:20260421T151457Z
LAST-MODIFIED:20260421T151457Z
UID:10000487-1787562000-1787576400@newcommunitiesinc.org
SUMMARY:American Heart Association CPR-First Aid-AED In-Person (Gardiner Training Center)
DESCRIPTION:A video-based\, instructor-led course that teaches students critical skills to respond to and manage an emergency in the first few minutes before emergency medical services arrive. The instructor observes student practice and guides students’ learning of skills.
URL:https://newcommunitiesinc.org/event/american-heart-association-cpr-first-aid-aed-in-person-gardiner-training-center-12/
LOCATION:Gardiner Training Center\, 13 Plaisted Street\, Gardiner\, ME\, 04345\, United States
CATEGORIES:American Heart Association CPR & First Aid
END:VEVENT
BEGIN:VEVENT
DTSTART;TZID=America/New_York:20260827T090000
DTEND;TZID=America/New_York:20260827T130000
DTSTAMP:20260421T190615
CREATED:20260421T152325Z
LAST-MODIFIED:20260421T152325Z
UID:10000492-1787821200-1787835600@newcommunitiesinc.org
SUMMARY:American Heart Association CPR-First Aid-AED In-Person (Skowhegan)
DESCRIPTION:A video-based\, instructor-led course that teaches students critical skills to respond to and manage an emergency in the first few minutes before emergency medical services arrive. The instructor observes student practice and guides students’ learning of skills.
URL:https://newcommunitiesinc.org/event/american-heart-association-cpr-first-aid-aed-in-person-skowhegan/
LOCATION:Skowhegan Training Center\, 52 High Street\, Skowhegan\, ME\, 04976
CATEGORIES:American Heart Association CPR & First Aid
END:VEVENT
BEGIN:VEVENT
DTSTART;TZID=America/New_York:20260908T090000
DTEND;TZID=America/New_York:20260908T130000
DTSTAMP:20260421T190615
CREATED:20260421T143415Z
LAST-MODIFIED:20260421T143415Z
UID:10000483-1788858000-1788872400@newcommunitiesinc.org
SUMMARY:American Heart Association CPR-First Aid-AED In-Person (Hampden Meadows)
DESCRIPTION:A video-based\, instructor-led course that teaches students critical skills to respond to and manage an emergency in the first few minutes before emergency medical services arrive. The instructor observes student practice and guides students’ learning of skills.
URL:https://newcommunitiesinc.org/event/american-heart-association-cpr-first-aid-aed-in-person-hampden-meadows-12/
LOCATION:Hampden Meadows\, 1282 Kennebec Road\, Hampden\, ME\, 04444
CATEGORIES:American Heart Association CPR & First Aid
END:VEVENT
BEGIN:VEVENT
DTSTART;TZID=America/New_York:20260914T090000
DTEND;TZID=America/New_York:20260914T130000
DTSTAMP:20260421T190615
CREATED:20260421T151759Z
LAST-MODIFIED:20260421T151759Z
UID:10000488-1789376400-1789390800@newcommunitiesinc.org
SUMMARY:American Heart Association CPR-First Aid-AED In-Person (Gardiner Training Center)
DESCRIPTION:A video-based\, instructor-led course that teaches students critical skills to respond to and manage an emergency in the first few minutes before emergency medical services arrive. The instructor observes student practice and guides students’ learning of skills.
URL:https://newcommunitiesinc.org/event/american-heart-association-cpr-first-aid-aed-in-person-gardiner-training-center-13/
LOCATION:Gardiner Training Center\, 13 Plaisted Street\, Gardiner\, ME\, 04345\, United States
CATEGORIES:American Heart Association CPR & First Aid
END:VEVENT
BEGIN:VEVENT
DTSTART;TZID=America/New_York:20260916T090000
DTEND;TZID=America/New_York:20260916T130000
DTSTAMP:20260421T190615
CREATED:20260421T154925Z
LAST-MODIFIED:20260421T154925Z
UID:10000493-1789549200-1789563600@newcommunitiesinc.org
SUMMARY:American Heart Association CPR-First Aid-AED In-Person (Skowhegan)
DESCRIPTION:A video-based\, instructor-led course that teaches students critical skills to respond to and manage an emergency in the first few minutes before emergency medical services arrive. The instructor observes student practice and guides students’ learning of skills.
URL:https://newcommunitiesinc.org/event/american-heart-association-cpr-first-aid-aed-in-person-skowhegan-2/
LOCATION:Skowhegan Training Center\, 52 High Street\, Skowhegan\, ME\, 04976
CATEGORIES:American Heart Association CPR & First Aid
END:VEVENT
BEGIN:VEVENT
DTSTART;TZID=America/New_York:20260925T090000
DTEND;TZID=America/New_York:20260925T130000
DTSTAMP:20260421T190615
CREATED:20260421T140444Z
LAST-MODIFIED:20260421T140444Z
UID:10000478-1790326800-1790341200@newcommunitiesinc.org
SUMMARY:American Heart Association CPR-First Aid-AED In-Person (Norway)
DESCRIPTION:A video-based\, instructor-led course that teaches students critical skills to respond to and manage an emergency in the first few minutes before emergency medical services arrive. The instructor observes student practice and guides students’ learning of skills.
URL:https://newcommunitiesinc.org/event/american-heart-association-cpr-first-aid-aed-in-person-norway-10/
LOCATION:Norway Training Center (Marston Street)\, 16 Marston Street\, Norway\, ME\, 04268\, United States
CATEGORIES:American Heart Association CPR & First Aid
END:VEVENT
BEGIN:VEVENT
DTSTART;TZID=America/New_York:20261006T090000
DTEND;TZID=America/New_York:20261006T130000
DTSTAMP:20260421T190615
CREATED:20260421T141711Z
LAST-MODIFIED:20260421T141711Z
UID:10000479-1791277200-1791291600@newcommunitiesinc.org
SUMMARY:American Heart Association CPR-First Aid-AED In-Person (Norway)
DESCRIPTION:A video-based\, instructor-led course that teaches students critical skills to respond to and manage an emergency in the first few minutes before emergency medical services arrive. The instructor observes student practice and guides students’ learning of skills.
URL:https://newcommunitiesinc.org/event/american-heart-association-cpr-first-aid-aed-in-person-norway-11/
LOCATION:Norway Training Center (Marston Street)\, 16 Marston Street\, Norway\, ME\, 04268\, United States
CATEGORIES:American Heart Association CPR & First Aid
END:VEVENT
BEGIN:VEVENT
DTSTART;TZID=America/New_York:20261007T090000
DTEND;TZID=America/New_York:20261007T130000
DTSTAMP:20260421T190615
CREATED:20260421T155756Z
LAST-MODIFIED:20260421T155756Z
UID:10000495-1791363600-1791378000@newcommunitiesinc.org
SUMMARY:American Heart Association CPR-First Aid-AED In-Person (Skowhegan)
DESCRIPTION:A video-based\, instructor-led course that teaches students critical skills to respond to and manage an emergency in the first few minutes before emergency medical services arrive. The instructor observes student practice and guides students’ learning of skills.
URL:https://newcommunitiesinc.org/event/american-heart-association-cpr-first-aid-aed-in-person-skowhegan-4/
LOCATION:Skowhegan Training Center\, 52 High Street\, Skowhegan\, ME\, 04976
CATEGORIES:American Heart Association CPR & First Aid
END:VEVENT
BEGIN:VEVENT
DTSTART;TZID=America/New_York:20261021T090000
DTEND;TZID=America/New_York:20261021T130000
DTSTAMP:20260421T190615
CREATED:20260421T143826Z
LAST-MODIFIED:20260421T143826Z
UID:10000484-1792573200-1792587600@newcommunitiesinc.org
SUMMARY:American Heart Association CPR-First Aid-AED In-Person (Hampden Meadows)
DESCRIPTION:A video-based\, instructor-led course that teaches students critical skills to respond to and manage an emergency in the first few minutes before emergency medical services arrive. The instructor observes student practice and guides students’ learning of skills.
URL:https://newcommunitiesinc.org/event/american-heart-association-cpr-first-aid-aed-in-person-hampden-meadows-13/
LOCATION:Hampden Meadows\, 1282 Kennebec Road\, Hampden\, ME\, 04444
CATEGORIES:American Heart Association CPR & First Aid
END:VEVENT
BEGIN:VEVENT
DTSTART;TZID=America/New_York:20261103T090000
DTEND;TZID=America/New_York:20261103T130000
DTSTAMP:20260421T190615
CREATED:20260421T151844Z
LAST-MODIFIED:20260421T151844Z
UID:10000489-1793696400-1793710800@newcommunitiesinc.org
SUMMARY:American Heart Association CPR-First Aid-AED In-Person (Gardiner Training Center)
DESCRIPTION:A video-based\, instructor-led course that teaches students critical skills to respond to and manage an emergency in the first few minutes before emergency medical services arrive. The instructor observes student practice and guides students’ learning of skills.
URL:https://newcommunitiesinc.org/event/american-heart-association-cpr-first-aid-aed-in-person-gardiner-training-center-14/
LOCATION:Gardiner Training Center\, 13 Plaisted Street\, Gardiner\, ME\, 04345\, United States
CATEGORIES:American Heart Association CPR & First Aid
END:VEVENT
BEGIN:VEVENT
DTSTART;TZID=America/New_York:20261116T090000
DTEND;TZID=America/New_York:20261116T130000
DTSTAMP:20260421T190615
CREATED:20260421T141835Z
LAST-MODIFIED:20260421T150657Z
UID:10000480-1794819600-1794834000@newcommunitiesinc.org
SUMMARY:American Heart Association CPR-First Aid-AED In-Person (Norway)
DESCRIPTION:A video-based\, instructor-led course that teaches students critical skills to respond to and manage an emergency in the first few minutes before emergency medical services arrive. The instructor observes student practice and guides students’ learning of skills.
URL:https://newcommunitiesinc.org/event/american-heart-association-cpr-first-aid-aed-in-person-norway-12/
LOCATION:Norway Training Center (Marston Street)\, 16 Marston Street\, Norway\, ME\, 04268\, United States
CATEGORIES:American Heart Association CPR & First Aid
END:VEVENT
BEGIN:VEVENT
DTSTART;TZID=America/New_York:20261117T090000
DTEND;TZID=America/New_York:20261117T130000
DTSTAMP:20260421T190615
CREATED:20260421T155325Z
LAST-MODIFIED:20260421T155355Z
UID:10000494-1794906000-1794920400@newcommunitiesinc.org
SUMMARY:American Heart Association CPR-First Aid-AED In-Person (Skowhegan)
DESCRIPTION:A video-based\, instructor-led course that teaches students critical skills to respond to and manage an emergency in the first few minutes before emergency medical services arrive. The instructor observes student practice and guides students’ learning of skills.
URL:https://newcommunitiesinc.org/event/american-heart-association-cpr-first-aid-aed-in-person-skowhegan-3/
LOCATION:Skowhegan Training Center\, 52 High Street\, Skowhegan\, ME\, 04976
CATEGORIES:American Heart Association CPR & First Aid
END:VEVENT
BEGIN:VEVENT
DTSTART;TZID=America/New_York:20261202T090000
DTEND;TZID=America/New_York:20261202T130000
DTSTAMP:20260421T190615
CREATED:20260421T141912Z
LAST-MODIFIED:20260421T150740Z
UID:10000481-1796202000-1796216400@newcommunitiesinc.org
SUMMARY:American Heart Association CPR-First Aid-AED In-Person (Norway)
DESCRIPTION:A video-based\, instructor-led course that teaches students critical skills to respond to and manage an emergency in the first few minutes before emergency medical services arrive. The instructor observes student practice and guides students’ learning of skills.
URL:https://newcommunitiesinc.org/event/american-heart-association-cpr-first-aid-aed-in-person-norway-13/
LOCATION:Norway Training Center (Marston Street)\, 16 Marston Street\, Norway\, ME\, 04268\, United States
CATEGORIES:American Heart Association CPR & First Aid
END:VEVENT
BEGIN:VEVENT
DTSTART;TZID=America/New_York:20261211T090000
DTEND;TZID=America/New_York:20261211T130000
DTSTAMP:20260421T190615
CREATED:20260421T155841Z
LAST-MODIFIED:20260421T155841Z
UID:10000496-1796979600-1796994000@newcommunitiesinc.org
SUMMARY:American Heart Association CPR-First Aid-AED In-Person (Skowhegan)
DESCRIPTION:A video-based\, instructor-led course that teaches students critical skills to respond to and manage an emergency in the first few minutes before emergency medical services arrive. The instructor observes student practice and guides students’ learning of skills.
URL:https://newcommunitiesinc.org/event/american-heart-association-cpr-first-aid-aed-in-person-skowhegan-5/
LOCATION:Skowhegan Training Center\, 52 High Street\, Skowhegan\, ME\, 04976
CATEGORIES:American Heart Association CPR & First Aid
END:VEVENT
BEGIN:VEVENT
DTSTART;TZID=America/New_York:20261215T090000
DTEND;TZID=America/New_York:20261215T130000
DTSTAMP:20260421T190615
CREATED:20260421T150955Z
LAST-MODIFIED:20260421T150955Z
UID:10000485-1797325200-1797339600@newcommunitiesinc.org
SUMMARY:American Heart Association CPR-First Aid-AED In-Person (Hampden Meadows)
DESCRIPTION:A video-based\, instructor-led course that teaches students critical skills to respond to and manage an emergency in the first few minutes before emergency medical services arrive. The instructor observes student practice and guides students’ learning of skills.
URL:https://newcommunitiesinc.org/event/american-heart-association-cpr-first-aid-aed-in-person-hampden-meadows-14/
LOCATION:Hampden Meadows\, 1282 Kennebec Road\, Hampden\, ME\, 04444
CATEGORIES:American Heart Association CPR & First Aid
END:VEVENT
BEGIN:VEVENT
DTSTART;TZID=America/New_York:20261216T090000
DTEND;TZID=America/New_York:20261216T130000
DTSTAMP:20260421T190615
CREATED:20260421T151937Z
LAST-MODIFIED:20260421T151937Z
UID:10000490-1797411600-1797426000@newcommunitiesinc.org
SUMMARY:American Heart Association CPR-First Aid-AED In-Person (Gardiner Training Center)
DESCRIPTION:A video-based\, instructor-led course that teaches students critical skills to respond to and manage an emergency in the first few minutes before emergency medical services arrive. The instructor observes student practice and guides students’ learning of skills.
URL:https://newcommunitiesinc.org/event/american-heart-association-cpr-first-aid-aed-in-person-gardiner-training-center-15/
LOCATION:Gardiner Training Center\, 13 Plaisted Street\, Gardiner\, ME\, 04345\, United States
CATEGORIES:American Heart Association CPR & First Aid
END:VEVENT
END:VCALENDAR