BEGIN:VCALENDAR
VERSION:2.0
PRODID:-//New Communities, Inc. - ECPv6.15.20//NONSGML v1.0//EN
CALSCALE:GREGORIAN
METHOD:PUBLISH
X-WR-CALNAME:New Communities, Inc.
X-ORIGINAL-URL:https://newcommunitiesinc.org
X-WR-CALDESC:Events for New Communities, Inc.
REFRESH-INTERVAL;VALUE=DURATION:PT1H
X-Robots-Tag:noindex
X-PUBLISHED-TTL:PT1H
BEGIN:VTIMEZONE
TZID:America/New_York
BEGIN:DAYLIGHT
TZOFFSETFROM:-0500
TZOFFSETTO:-0400
TZNAME:EDT
DTSTART:20240310T070000
END:DAYLIGHT
BEGIN:STANDARD
TZOFFSETFROM:-0400
TZOFFSETTO:-0500
TZNAME:EST
DTSTART:20241103T060000
END:STANDARD
BEGIN:DAYLIGHT
TZOFFSETFROM:-0500
TZOFFSETTO:-0400
TZNAME:EDT
DTSTART:20250309T070000
END:DAYLIGHT
BEGIN:STANDARD
TZOFFSETFROM:-0400
TZOFFSETTO:-0500
TZNAME:EST
DTSTART:20251102T060000
END:STANDARD
BEGIN:DAYLIGHT
TZOFFSETFROM:-0500
TZOFFSETTO:-0400
TZNAME:EDT
DTSTART:20260308T070000
END:DAYLIGHT
BEGIN:STANDARD
TZOFFSETFROM:-0400
TZOFFSETTO:-0500
TZNAME:EST
DTSTART:20261101T060000
END:STANDARD
END:VTIMEZONE
BEGIN:VEVENT
DTSTART;TZID=America/New_York:20251121T083000
DTEND;TZID=America/New_York:20251121T123000
DTSTAMP:20260425T122716
CREATED:20251112T175841Z
LAST-MODIFIED:20251112T205825Z
UID:10000457-1763713800-1763728200@newcommunitiesinc.org
SUMMARY:Certified Residential Medication Aide (CRMA) Recertification (Biddeford Training Center)
DESCRIPTION:This class is scheduled for November 21\, 2025. \nThis RN led\, course for certified CRMAs renewing their certificate includes review and study\, followed by an exam. CRMAs who do not work for New Communities (NCI) may choose to attend only the exam. \nOne Day Option: Exam plus study group $150 (NCI employees must take the Two Day Option) \nOne Day Option: Exam only $95 \nDay 1 November 21\, 2025 – in-person\, instructor-led study group\, 8:30am-12:30pm \nDay 1 November 21\, 2025 – in-person exam\, 12:30am-4:30pm \n  \nMaterials needed for class: \n\nCRMAs must bring their current CRMA certificates to the live day for verification. Certificates may not be more than 30 days past expiration.\nThe Fortitier Study Guide and other required class materials can be downloaded for printing here: CRMA Recertification Packet.\nPaper\, pen/pencil\, and highlighter for activities and notes.\nA face mask is optional on the live second day.
URL:https://newcommunitiesinc.org/event/certified-residential-medication-aide-crma-recertification-hybrid-biddeford-training-center-15/
LOCATION:Biddeford Training Center\, 25 Amherst Street\, Biddeford\, ME\, 04005\, United States
CATEGORIES:Certified Residential Medication Aide (CRMA) Recert
END:VEVENT
END:VCALENDAR