BEGIN:VCALENDAR
VERSION:2.0
PRODID:-//New Communities, Inc. - ECPv6.15.20//NONSGML v1.0//EN
CALSCALE:GREGORIAN
METHOD:PUBLISH
X-ORIGINAL-URL:https://newcommunitiesinc.org
X-WR-CALDESC:Events for New Communities, Inc.
REFRESH-INTERVAL;VALUE=DURATION:PT1H
X-Robots-Tag:noindex
X-PUBLISHED-TTL:PT1H
BEGIN:VTIMEZONE
TZID:America/New_York
BEGIN:DAYLIGHT
TZOFFSETFROM:-0500
TZOFFSETTO:-0400
TZNAME:EDT
DTSTART:20240310T070000
END:DAYLIGHT
BEGIN:STANDARD
TZOFFSETFROM:-0400
TZOFFSETTO:-0500
TZNAME:EST
DTSTART:20241103T060000
END:STANDARD
BEGIN:DAYLIGHT
TZOFFSETFROM:-0500
TZOFFSETTO:-0400
TZNAME:EDT
DTSTART:20250309T070000
END:DAYLIGHT
BEGIN:STANDARD
TZOFFSETFROM:-0400
TZOFFSETTO:-0500
TZNAME:EST
DTSTART:20251102T060000
END:STANDARD
BEGIN:DAYLIGHT
TZOFFSETFROM:-0500
TZOFFSETTO:-0400
TZNAME:EDT
DTSTART:20260308T070000
END:DAYLIGHT
BEGIN:STANDARD
TZOFFSETFROM:-0400
TZOFFSETTO:-0500
TZNAME:EST
DTSTART:20261101T060000
END:STANDARD
BEGIN:DAYLIGHT
TZOFFSETFROM:-0500
TZOFFSETTO:-0400
TZNAME:EDT
DTSTART:20270314T070000
END:DAYLIGHT
BEGIN:STANDARD
TZOFFSETFROM:-0400
TZOFFSETTO:-0500
TZNAME:EST
DTSTART:20271107T060000
END:STANDARD
END:VTIMEZONE
BEGIN:VEVENT
DTSTART;TZID=America/New_York:20251217T083000
DTEND;TZID=America/New_York:20251217T150000
DTSTAMP:20260423T050542
CREATED:20250604T140011Z
LAST-MODIFIED:20250718T153547Z
UID:10000321-1765960200-1765983600@newcommunitiesinc.org
SUMMARY:Direct Support Professional (DSP) Remote
DESCRIPTION:This class is scheduled for December 17\,18\, 2025. \nTwo-day instructor led course needed to complete the DSP certificate. Instruction covers all material required to be taught live by the Maine standard in a participatory\, interactive environment. \n$320 – remote class and online classes; and tracking & reporting (for NCI employees only) \n$100 – remote class only \nAfter registration and payment confirmation\, you will receive an email with information about accessing the class\, including a Zoom link.
URL:https://newcommunitiesinc.org/event/direct-support-professional-dsp-remote-17/
CATEGORIES:Direct Support Professional Certificate
END:VEVENT
BEGIN:VEVENT
DTSTART;TZID=America/New_York:20260120T083000
DTEND;TZID=America/New_York:20260120T150000
DTSTAMP:20260423T050542
CREATED:20251029T181116Z
LAST-MODIFIED:20260319T130239Z
UID:10000354-1768897800-1768921200@newcommunitiesinc.org
SUMMARY:Direct Support Professional (DSP) Remote
DESCRIPTION:This class is scheduled for January 20\,21\, 2026. \nTwo-day instructor led course needed to complete the DSP certificate. Instruction covers all material required to be taught live by the Maine standard in a participatory\, interactive environment. \n$320 – remote class and online classes; and tracking & reporting (for NCI employees only) \n$100 – remote class only \nAfter registration and payment confirmation\, you will receive an email with information about accessing the class\, including a Zoom link.
URL:https://newcommunitiesinc.org/event/direct-support-professional-dsp-remote-18/
CATEGORIES:Direct Support Professional Certificate
END:VEVENT
BEGIN:VEVENT
DTSTART;TZID=America/New_York:20260218T083000
DTEND;TZID=America/New_York:20260218T150000
DTSTAMP:20260423T050542
CREATED:20251029T181302Z
LAST-MODIFIED:20260319T130140Z
UID:10000355-1771403400-1771426800@newcommunitiesinc.org
SUMMARY:Direct Support Professional (DSP) Remote
DESCRIPTION:This class is scheduled for February 18\,19\, 2026. \nTwo-day instructor led course needed to complete the DSP certificate. Instruction covers all material required to be taught live by the Maine standard in a participatory\, interactive environment. \n$320 – remote class and online classes; and tracking & reporting (for NCI employees only) \n$100 – remote class only \nAfter registration and payment confirmation\, you will receive an email with information about accessing the class\, including a Zoom link.
URL:https://newcommunitiesinc.org/event/direct-support-professional-dsp-remote-19/
CATEGORIES:Direct Support Professional Certificate
END:VEVENT
BEGIN:VEVENT
DTSTART;TZID=America/New_York:20260318T083000
DTEND;TZID=America/New_York:20260318T150000
DTSTAMP:20260423T050542
CREATED:20251029T181358Z
LAST-MODIFIED:20260319T130035Z
UID:10000356-1773822600-1773846000@newcommunitiesinc.org
SUMMARY:Direct Support Professional (DSP) Remote
DESCRIPTION:This class is scheduled for March 18\,19\, 2026. \nTwo-day instructor led course needed to complete the DSP certificate. Instruction covers all material required to be taught live by the Maine standard in a participatory\, interactive environment. \n$320 – remote class and online classes; and tracking & reporting (for NCI employees only) \n$100 – remote class only \nAfter registration and payment confirmation\, you will receive an email with information about accessing the class\, including a Zoom link.
URL:https://newcommunitiesinc.org/event/direct-support-professional-dsp-remote-20/
CATEGORIES:Direct Support Professional Certificate
END:VEVENT
BEGIN:VEVENT
DTSTART;TZID=America/New_York:20260415T083000
DTEND;TZID=America/New_York:20260415T150000
DTSTAMP:20260423T050542
CREATED:20251029T181458Z
LAST-MODIFIED:20260320T134450Z
UID:10000357-1776241800-1776265200@newcommunitiesinc.org
SUMMARY:Direct Support Professional (DSP) Remote
DESCRIPTION:This class is scheduled for April 15\,17\, 2026. \nTwo-day instructor led course needed to complete the DSP certificate. Instruction covers all material required to be taught live by the Maine standard in a participatory\, interactive environment. \n$320 – remote class and online classes; and tracking & reporting (for NCI employees only) \n$100 – remote class only \nAfter registration and payment confirmation\, you will receive an email with information about accessing the class\, including a Zoom link.
URL:https://newcommunitiesinc.org/event/direct-support-professional-dsp-remote-21/
CATEGORIES:Direct Support Professional Certificate
END:VEVENT
BEGIN:VEVENT
DTSTART;TZID=America/New_York:20260520T083000
DTEND;TZID=America/New_York:20260520T150000
DTSTAMP:20260423T050542
CREATED:20251029T181724Z
LAST-MODIFIED:20260319T124137Z
UID:10000358-1779265800-1779289200@newcommunitiesinc.org
SUMMARY:Direct Support Professional (DSP) Remote
DESCRIPTION:This class is scheduled for May 20\,21\, 2026. \nTwo-day instructor led course needed to complete the DSP certificate. Instruction covers all material required to be taught live by the Maine standard in a participatory\, interactive environment. \n$320 – remote class and online classes; and tracking & reporting (for NCI employees only) \n$100 – remote class only \nAfter registration and payment confirmation\, you will receive an email with information about accessing the class\, including a Zoom link.
URL:https://newcommunitiesinc.org/event/direct-support-professional-dsp-remote-22/
CATEGORIES:Direct Support Professional Certificate
END:VEVENT
BEGIN:VEVENT
DTSTART;TZID=America/New_York:20260625T083000
DTEND;TZID=America/New_York:20260625T150000
DTSTAMP:20260423T050542
CREATED:20251029T181818Z
LAST-MODIFIED:20260421T125215Z
UID:10000359-1782376200-1782399600@newcommunitiesinc.org
SUMMARY:Direct Support Professional (DSP) Remote
DESCRIPTION:This class is scheduled for June 25\,26\, 2026. \nTwo-day instructor led course needed to complete the DSP certificate. Instruction covers all material required to be taught live by the Maine standard in a participatory\, interactive environment. \n$320 – remote class and online classes; and tracking & reporting (for NCI employees only) \n$100 – remote class only \nAfter registration and payment confirmation\, you will receive an email with information about accessing the class\, including a Zoom link.
URL:https://newcommunitiesinc.org/event/direct-support-professional-dsp-remote-23/
CATEGORIES:Direct Support Professional Certificate
END:VEVENT
BEGIN:VEVENT
DTSTART;TZID=America/New_York:20260715T083000
DTEND;TZID=America/New_York:20260715T150000
DTSTAMP:20260423T050542
CREATED:20260422T152658Z
LAST-MODIFIED:20260422T152906Z
UID:10000551-1784104200-1784127600@newcommunitiesinc.org
SUMMARY:Direct Support Professional (DSP) Remote
DESCRIPTION:This class is scheduled for July 15\,16\, 2026. \nTwo-day instructor led course needed to complete the DSP certificate. Instruction covers all material required to be taught live by the Maine standard in a participatory\, interactive environment. \n$320 – remote class and online classes; and tracking & reporting (for NCI employees only) \n$100 – remote class only \nAfter registration and payment confirmation\, you will receive an email with information about accessing the class\, including a Zoom link.
URL:https://newcommunitiesinc.org/event/direct-support-professional-dsp-remote-24/
CATEGORIES:Direct Support Professional Certificate
END:VEVENT
BEGIN:VEVENT
DTSTART;TZID=America/New_York:20260828T083000
DTEND;TZID=America/New_York:20260828T150000
DTSTAMP:20260423T050542
CREATED:20260422T153249Z
LAST-MODIFIED:20260422T153249Z
UID:10000552-1787905800-1787929200@newcommunitiesinc.org
SUMMARY:Direct Support Professional (DSP) Remote
DESCRIPTION:This class is scheduled for August 28\,31\, 2026. \nTwo-day instructor led course needed to complete the DSP certificate. Instruction covers all material required to be taught live by the Maine standard in a participatory\, interactive environment. \n$320 – remote class and online classes; and tracking & reporting (for NCI employees only) \n$100 – remote class only \nAfter registration and payment confirmation\, you will receive an email with information about accessing the class\, including a Zoom link.
URL:https://newcommunitiesinc.org/event/direct-support-professional-dsp-remote-25/
CATEGORIES:Direct Support Professional Certificate
END:VEVENT
BEGIN:VEVENT
DTSTART;TZID=America/New_York:20260923T083000
DTEND;TZID=America/New_York:20260923T150000
DTSTAMP:20260423T050542
CREATED:20260422T153456Z
LAST-MODIFIED:20260422T153456Z
UID:10000553-1790152200-1790175600@newcommunitiesinc.org
SUMMARY:Direct Support Professional (DSP) Remote
DESCRIPTION:This class is scheduled for September 23\,24\, 2026. \nTwo-day instructor led course needed to complete the DSP certificate. Instruction covers all material required to be taught live by the Maine standard in a participatory\, interactive environment. \n$320 – remote class and online classes; and tracking & reporting (for NCI employees only) \n$100 – remote class only \nAfter registration and payment confirmation\, you will receive an email with information about accessing the class\, including a Zoom link.
URL:https://newcommunitiesinc.org/event/direct-support-professional-dsp-remote-26/
CATEGORIES:Direct Support Professional Certificate
END:VEVENT
BEGIN:VEVENT
DTSTART;TZID=America/New_York:20261028T083000
DTEND;TZID=America/New_York:20261028T150000
DTSTAMP:20260423T050542
CREATED:20260422T153936Z
LAST-MODIFIED:20260422T153936Z
UID:10000554-1793176200-1793199600@newcommunitiesinc.org
SUMMARY:Direct Support Professional (DSP) Remote
DESCRIPTION:This class is scheduled for October 28\,29\, 2026. \nTwo-day instructor led course needed to complete the DSP certificate. Instruction covers all material required to be taught live by the Maine standard in a participatory\, interactive environment. \n$320 – remote class and online classes; and tracking & reporting (for NCI employees only) \n$100 – remote class only \nAfter registration and payment confirmation\, you will receive an email with information about accessing the class\, including a Zoom link.
URL:https://newcommunitiesinc.org/event/direct-support-professional-dsp-remote-27/
CATEGORIES:Direct Support Professional Certificate
END:VEVENT
BEGIN:VEVENT
DTSTART;TZID=America/New_York:20261119T083000
DTEND;TZID=America/New_York:20261119T150000
DTSTAMP:20260423T050542
CREATED:20260422T154158Z
LAST-MODIFIED:20260422T154158Z
UID:10000555-1795077000-1795100400@newcommunitiesinc.org
SUMMARY:Direct Support Professional (DSP) Remote
DESCRIPTION:This class is scheduled for November 19\,20\, 2026. \nTwo-day instructor led course needed to complete the DSP certificate. Instruction covers all material required to be taught live by the Maine standard in a participatory\, interactive environment. \n$320 – remote class and online classes; and tracking & reporting (for NCI employees only) \n$100 – remote class only \nAfter registration and payment confirmation\, you will receive an email with information about accessing the class\, including a Zoom link.
URL:https://newcommunitiesinc.org/event/direct-support-professional-dsp-remote-28/
CATEGORIES:Direct Support Professional Certificate
END:VEVENT
BEGIN:VEVENT
DTSTART;TZID=America/New_York:20261229T083000
DTEND;TZID=America/New_York:20261229T150000
DTSTAMP:20260423T050542
CREATED:20260422T154557Z
LAST-MODIFIED:20260422T190821Z
UID:10000556-1798533000-1798556400@newcommunitiesinc.org
SUMMARY:Direct Support Professional (DSP) Remote
DESCRIPTION:This class is scheduled for December 29\,30\, 2026. \nTwo-day instructor led course needed to complete the DSP certificate. Instruction covers all material required to be taught live by the Maine standard in a participatory\, interactive environment. \n$320 – remote class and online classes; and tracking & reporting (for NCI employees only) \n$100 – remote class only \nAfter registration and payment confirmation\, you will receive an email with information about accessing the class\, including a Zoom link.
URL:https://newcommunitiesinc.org/event/direct-support-professional-dsp-remote-29/
CATEGORIES:Direct Support Professional Certificate
END:VEVENT
END:VCALENDAR