BEGIN:VCALENDAR
VERSION:2.0
PRODID:-//New Communities, Inc. - ECPv6.15.20//NONSGML v1.0//EN
CALSCALE:GREGORIAN
METHOD:PUBLISH
X-ORIGINAL-URL:https://newcommunitiesinc.org
X-WR-CALDESC:Events for New Communities, Inc.
REFRESH-INTERVAL;VALUE=DURATION:PT1H
X-Robots-Tag:noindex
X-PUBLISHED-TTL:PT1H
BEGIN:VTIMEZONE
TZID:America/New_York
BEGIN:DAYLIGHT
TZOFFSETFROM:-0500
TZOFFSETTO:-0400
TZNAME:EDT
DTSTART:20250309T070000
END:DAYLIGHT
BEGIN:STANDARD
TZOFFSETFROM:-0400
TZOFFSETTO:-0500
TZNAME:EST
DTSTART:20251102T060000
END:STANDARD
BEGIN:DAYLIGHT
TZOFFSETFROM:-0500
TZOFFSETTO:-0400
TZNAME:EDT
DTSTART:20260308T070000
END:DAYLIGHT
BEGIN:STANDARD
TZOFFSETFROM:-0400
TZOFFSETTO:-0500
TZNAME:EST
DTSTART:20261101T060000
END:STANDARD
BEGIN:DAYLIGHT
TZOFFSETFROM:-0500
TZOFFSETTO:-0400
TZNAME:EDT
DTSTART:20270314T070000
END:DAYLIGHT
BEGIN:STANDARD
TZOFFSETFROM:-0400
TZOFFSETTO:-0500
TZNAME:EST
DTSTART:20271107T060000
END:STANDARD
END:VTIMEZONE
BEGIN:VEVENT
DTSTART;TZID=America/New_York:20260319T083000
DTEND;TZID=America/New_York:20260319T110000
DTSTAMP:20260421T115120
CREATED:20251029T180224Z
LAST-MODIFIED:20260319T125721Z
UID:10000350-1773909000-1773918000@newcommunitiesinc.org
SUMMARY:Individual Rights and Choice (Remote)
DESCRIPTION:A live\, remote class that fulfills the refresher course for DSPs needed 36 months after an individual receives their DSP certificate. The course will review the rights of individuals with intellectual disabilities and how to facilitate choice for individuals supported.
URL:https://newcommunitiesinc.org/event/individual-rights-and-choice-remote-20/
CATEGORIES:Individual Rights and Choice
END:VEVENT
BEGIN:VEVENT
DTSTART;TZID=America/New_York:20260417T083000
DTEND;TZID=America/New_York:20260417T110000
DTSTAMP:20260421T115120
CREATED:20251029T180254Z
LAST-MODIFIED:20260320T134541Z
UID:10000351-1776414600-1776423600@newcommunitiesinc.org
SUMMARY:Individual Rights and Choice (Remote)
DESCRIPTION:A live\, remote class that fulfills the refresher course for DSPs needed 36 months after an individual receives their DSP certificate. The course will review the rights of individuals with intellectual disabilities and how to facilitate choice for individuals supported.
URL:https://newcommunitiesinc.org/event/individual-rights-and-choice-remote-21/
CATEGORIES:Individual Rights and Choice
END:VEVENT
BEGIN:VEVENT
DTSTART;TZID=America/New_York:20260521T083000
DTEND;TZID=America/New_York:20260521T110000
DTSTAMP:20260421T115120
CREATED:20251029T180328Z
LAST-MODIFIED:20260319T124506Z
UID:10000352-1779352200-1779361200@newcommunitiesinc.org
SUMMARY:Individual Rights and Choice (Remote)
DESCRIPTION:A live\, remote class that fulfills the refresher course for DSPs needed 36 months after an individual receives their DSP certificate. The course will review the rights of individuals with intellectual disabilities and how to facilitate choice for individuals supported.
URL:https://newcommunitiesinc.org/event/individual-rights-and-choice-remote-22/
CATEGORIES:Individual Rights and Choice
END:VEVENT
BEGIN:VEVENT
DTSTART;TZID=America/New_York:20260626T083000
DTEND;TZID=America/New_York:20260626T110000
DTSTAMP:20260421T115120
CREATED:20251029T180359Z
LAST-MODIFIED:20260421T125105Z
UID:10000353-1782462600-1782471600@newcommunitiesinc.org
SUMMARY:Individual Rights and Choice (Remote)
DESCRIPTION:A live\, remote class that fulfills the refresher course for DSPs needed 36 months after an individual receives their DSP certificate. The course will review the rights of individuals with intellectual disabilities and how to facilitate choice for individuals supported.
URL:https://newcommunitiesinc.org/event/individual-rights-and-choice-remote-23/
CATEGORIES:Individual Rights and Choice
END:VEVENT
BEGIN:VEVENT
DTSTART;TZID=America/New_York:20260716T083000
DTEND;TZID=America/New_York:20260716T110000
DTSTAMP:20260421T115120
CREATED:20260421T135606Z
LAST-MODIFIED:20260421T135606Z
UID:10000470-1784190600-1784199600@newcommunitiesinc.org
SUMMARY:Individual Rights and Choice (Remote)
DESCRIPTION:A live\, remote class that fulfills the refresher course for DSPs needed 36 months after an individual receives their DSP certificate. The course will review the rights of individuals with intellectual disabilities and how to facilitate choice for individuals supported.
URL:https://newcommunitiesinc.org/event/individual-rights-and-choice-remote-24/
CATEGORIES:Individual Rights and Choice
END:VEVENT
BEGIN:VEVENT
DTSTART;TZID=America/New_York:20260831T083000
DTEND;TZID=America/New_York:20260831T110000
DTSTAMP:20260421T115120
CREATED:20260421T135645Z
LAST-MODIFIED:20260421T135755Z
UID:10000471-1788165000-1788174000@newcommunitiesinc.org
SUMMARY:Individual Rights and Choice (Remote)
DESCRIPTION:A live\, remote class that fulfills the refresher course for DSPs needed 36 months after an individual receives their DSP certificate. The course will review the rights of individuals with intellectual disabilities and how to facilitate choice for individuals supported.
URL:https://newcommunitiesinc.org/event/individual-rights-and-choice-remote-25/
CATEGORIES:Individual Rights and Choice
END:VEVENT
BEGIN:VEVENT
DTSTART;TZID=America/New_York:20260924T083000
DTEND;TZID=America/New_York:20260924T110000
DTSTAMP:20260421T115120
CREATED:20260421T135847Z
LAST-MODIFIED:20260421T135847Z
UID:10000472-1790238600-1790247600@newcommunitiesinc.org
SUMMARY:Individual Rights and Choice (Remote)
DESCRIPTION:A live\, remote class that fulfills the refresher course for DSPs needed 36 months after an individual receives their DSP certificate. The course will review the rights of individuals with intellectual disabilities and how to facilitate choice for individuals supported.
URL:https://newcommunitiesinc.org/event/individual-rights-and-choice-remote-26/
CATEGORIES:Individual Rights and Choice
END:VEVENT
BEGIN:VEVENT
DTSTART;TZID=America/New_York:20261029T083000
DTEND;TZID=America/New_York:20261029T110000
DTSTAMP:20260421T115120
CREATED:20260421T135926Z
LAST-MODIFIED:20260421T135926Z
UID:10000473-1793262600-1793271600@newcommunitiesinc.org
SUMMARY:Individual Rights and Choice (Remote)
DESCRIPTION:A live\, remote class that fulfills the refresher course for DSPs needed 36 months after an individual receives their DSP certificate. The course will review the rights of individuals with intellectual disabilities and how to facilitate choice for individuals supported.
URL:https://newcommunitiesinc.org/event/individual-rights-and-choice-remote-27/
CATEGORIES:Individual Rights and Choice
END:VEVENT
BEGIN:VEVENT
DTSTART;TZID=America/New_York:20261120T083000
DTEND;TZID=America/New_York:20261120T110000
DTSTAMP:20260421T115120
CREATED:20260421T140020Z
LAST-MODIFIED:20260421T140020Z
UID:10000474-1795163400-1795172400@newcommunitiesinc.org
SUMMARY:Individual Rights and Choice (Remote)
DESCRIPTION:A live\, remote class that fulfills the refresher course for DSPs needed 36 months after an individual receives their DSP certificate. The course will review the rights of individuals with intellectual disabilities and how to facilitate choice for individuals supported.
URL:https://newcommunitiesinc.org/event/individual-rights-and-choice-remote-28/
CATEGORIES:Individual Rights and Choice
END:VEVENT
BEGIN:VEVENT
DTSTART;TZID=America/New_York:20261210T083000
DTEND;TZID=America/New_York:20261210T110000
DTSTAMP:20260421T115120
CREATED:20260421T140103Z
LAST-MODIFIED:20260421T140103Z
UID:10000475-1796891400-1796900400@newcommunitiesinc.org
SUMMARY:Individual Rights and Choice (Remote)
DESCRIPTION:A live\, remote class that fulfills the refresher course for DSPs needed 36 months after an individual receives their DSP certificate. The course will review the rights of individuals with intellectual disabilities and how to facilitate choice for individuals supported.
URL:https://newcommunitiesinc.org/event/individual-rights-and-choice-remote-29/
CATEGORIES:Individual Rights and Choice
END:VEVENT
END:VCALENDAR