BEGIN:VCALENDAR
VERSION:2.0
PRODID:-//New Communities, Inc. - ECPv6.15.20//NONSGML v1.0//EN
CALSCALE:GREGORIAN
METHOD:PUBLISH
X-WR-CALNAME:New Communities, Inc.
X-ORIGINAL-URL:https://newcommunitiesinc.org
X-WR-CALDESC:Events for New Communities, Inc.
REFRESH-INTERVAL;VALUE=DURATION:PT1H
X-Robots-Tag:noindex
X-PUBLISHED-TTL:PT1H
BEGIN:VTIMEZONE
TZID:America/New_York
BEGIN:DAYLIGHT
TZOFFSETFROM:-0500
TZOFFSETTO:-0400
TZNAME:EDT
DTSTART:20250309T070000
END:DAYLIGHT
BEGIN:STANDARD
TZOFFSETFROM:-0400
TZOFFSETTO:-0500
TZNAME:EST
DTSTART:20251102T060000
END:STANDARD
BEGIN:DAYLIGHT
TZOFFSETFROM:-0500
TZOFFSETTO:-0400
TZNAME:EDT
DTSTART:20260308T070000
END:DAYLIGHT
BEGIN:STANDARD
TZOFFSETFROM:-0400
TZOFFSETTO:-0500
TZNAME:EST
DTSTART:20261101T060000
END:STANDARD
BEGIN:DAYLIGHT
TZOFFSETFROM:-0500
TZOFFSETTO:-0400
TZNAME:EDT
DTSTART:20270314T070000
END:DAYLIGHT
BEGIN:STANDARD
TZOFFSETFROM:-0400
TZOFFSETTO:-0500
TZNAME:EST
DTSTART:20271107T060000
END:STANDARD
END:VTIMEZONE
BEGIN:VEVENT
DTSTART;TZID=America/New_York:20260616T090000
DTEND;TZID=America/New_York:20260616T103000
DTSTAMP:20260423T004213
CREATED:20251029T194107Z
LAST-MODIFIED:20260304T160740Z
UID:10000407-1781600400-1781605800@newcommunitiesinc.org
SUMMARY:Medication Administration Policies and Practices Remote (NCI only)
DESCRIPTION:This remote\, RN instructor-led class reviews New Communities’ medication administration policies and practices and is a required annual training for CRMAs. \nAfter registration confirmation\, you will receive an email with information about accessing the class\, including a Zoom link to the remote class. \nMaterials needed for class: \n\nPrinted: How to Administer Medications\nPrinted: Medication Administration Common Errors
URL:https://newcommunitiesinc.org/event/medication-administration-policies-and-practices-remote-nci-only-23/
CATEGORIES:Medication Administration
END:VEVENT
BEGIN:VEVENT
DTSTART;TZID=America/New_York:20260721T073000
DTEND;TZID=America/New_York:20260721T090000
DTSTAMP:20260423T004213
CREATED:20260422T141003Z
LAST-MODIFIED:20260422T141003Z
UID:10000533-1784619000-1784624400@newcommunitiesinc.org
SUMMARY:Medication Administration Policies and Practices Remote (NCI only)
DESCRIPTION:This remote\, RN instructor-led class reviews New Communities’ medication administration policies and practices and is a required annual training for CRMAs. \nAfter registration confirmation\, you will receive an email with information about accessing the class\, including a Zoom link to the remote class. \nMaterials needed for class: \n\nPrinted: How to Administer Medications\nPrinted: Medication Administration Common Errors
URL:https://newcommunitiesinc.org/event/medication-administration-policies-and-practices-remote-nci-only-27/
CATEGORIES:Medication Administration
END:VEVENT
BEGIN:VEVENT
DTSTART;TZID=America/New_York:20260818T090000
DTEND;TZID=America/New_York:20260818T103000
DTSTAMP:20260423T004213
CREATED:20260422T141742Z
LAST-MODIFIED:20260422T141742Z
UID:10000536-1787043600-1787049000@newcommunitiesinc.org
SUMMARY:Medication Administration Policies and Practices Remote (NCI only)
DESCRIPTION:This remote\, RN instructor-led class reviews New Communities’ medication administration policies and practices and is a required annual training for CRMAs. \nAfter registration confirmation\, you will receive an email with information about accessing the class\, including a Zoom link to the remote class. \nMaterials needed for class: \n\nPrinted: How to Administer Medications\nPrinted: Medication Administration Common Errors
URL:https://newcommunitiesinc.org/event/medication-administration-policies-and-practices-remote-nci-only-30/
CATEGORIES:Medication Administration
END:VEVENT
BEGIN:VEVENT
DTSTART;TZID=America/New_York:20260901T130000
DTEND;TZID=America/New_York:20260901T143000
DTSTAMP:20260423T004213
CREATED:20260422T141151Z
LAST-MODIFIED:20260422T141151Z
UID:10000534-1788267600-1788273000@newcommunitiesinc.org
SUMMARY:Medication Administration Policies and Practices Remote (NCI only)
DESCRIPTION:This remote\, RN instructor-led class reviews New Communities’ medication administration policies and practices and is a required annual training for CRMAs. \nAfter registration confirmation\, you will receive an email with information about accessing the class\, including a Zoom link to the remote class. \nMaterials needed for class: \n\nPrinted: How to Administer Medications\nPrinted: Medication Administration Common Errors
URL:https://newcommunitiesinc.org/event/medication-administration-policies-and-practices-remote-nci-only-28/
CATEGORIES:Medication Administration
END:VEVENT
BEGIN:VEVENT
DTSTART;TZID=America/New_York:20261014T140000
DTEND;TZID=America/New_York:20261014T153000
DTSTAMP:20260423T004213
CREATED:20260422T141943Z
LAST-MODIFIED:20260422T141943Z
UID:10000537-1791986400-1791991800@newcommunitiesinc.org
SUMMARY:Medication Administration Policies and Practices Remote (NCI only)
DESCRIPTION:This remote\, RN instructor-led class reviews New Communities’ medication administration policies and practices and is a required annual training for CRMAs. \nAfter registration confirmation\, you will receive an email with information about accessing the class\, including a Zoom link to the remote class. \nMaterials needed for class: \n\nPrinted: How to Administer Medications\nPrinted: Medication Administration Common Errors
URL:https://newcommunitiesinc.org/event/medication-administration-policies-and-practices-remote-nci-only-31/
CATEGORIES:Medication Administration
END:VEVENT
BEGIN:VEVENT
DTSTART;TZID=America/New_York:20261124T130000
DTEND;TZID=America/New_York:20261124T143000
DTSTAMP:20260423T004213
CREATED:20260422T141516Z
LAST-MODIFIED:20260422T141516Z
UID:10000535-1795525200-1795530600@newcommunitiesinc.org
SUMMARY:Medication Administration Policies and Practices Remote (NCI only)
DESCRIPTION:This remote\, RN instructor-led class reviews New Communities’ medication administration policies and practices and is a required annual training for CRMAs. \nAfter registration confirmation\, you will receive an email with information about accessing the class\, including a Zoom link to the remote class. \nMaterials needed for class: \n\nPrinted: How to Administer Medications\nPrinted: Medication Administration Common Errors
URL:https://newcommunitiesinc.org/event/medication-administration-policies-and-practices-remote-nci-only-29/
CATEGORIES:Medication Administration
END:VEVENT
BEGIN:VEVENT
DTSTART;TZID=America/New_York:20261207T073000
DTEND;TZID=America/New_York:20261207T090000
DTSTAMP:20260423T004213
CREATED:20260422T142056Z
LAST-MODIFIED:20260422T142056Z
UID:10000538-1796628600-1796634000@newcommunitiesinc.org
SUMMARY:Medication Administration Policies and Practices Remote (NCI only)
DESCRIPTION:This remote\, RN instructor-led class reviews New Communities’ medication administration policies and practices and is a required annual training for CRMAs. \nAfter registration confirmation\, you will receive an email with information about accessing the class\, including a Zoom link to the remote class. \nMaterials needed for class: \n\nPrinted: How to Administer Medications\nPrinted: Medication Administration Common Errors
URL:https://newcommunitiesinc.org/event/medication-administration-policies-and-practices-remote-nci-only-32/
CATEGORIES:Medication Administration
END:VEVENT
END:VCALENDAR