BEGIN:VCALENDAR
VERSION:2.0
PRODID:-//New Communities, Inc. - ECPv6.15.20//NONSGML v1.0//EN
CALSCALE:GREGORIAN
METHOD:PUBLISH
X-ORIGINAL-URL:https://newcommunitiesinc.org
X-WR-CALDESC:Events for New Communities, Inc.
REFRESH-INTERVAL;VALUE=DURATION:PT1H
X-Robots-Tag:noindex
X-PUBLISHED-TTL:PT1H
BEGIN:VTIMEZONE
TZID:America/New_York
BEGIN:DAYLIGHT
TZOFFSETFROM:-0500
TZOFFSETTO:-0400
TZNAME:EDT
DTSTART:20240310T070000
END:DAYLIGHT
BEGIN:STANDARD
TZOFFSETFROM:-0400
TZOFFSETTO:-0500
TZNAME:EST
DTSTART:20241103T060000
END:STANDARD
BEGIN:DAYLIGHT
TZOFFSETFROM:-0500
TZOFFSETTO:-0400
TZNAME:EDT
DTSTART:20250309T070000
END:DAYLIGHT
BEGIN:STANDARD
TZOFFSETFROM:-0400
TZOFFSETTO:-0500
TZNAME:EST
DTSTART:20251102T060000
END:STANDARD
BEGIN:DAYLIGHT
TZOFFSETFROM:-0500
TZOFFSETTO:-0400
TZNAME:EDT
DTSTART:20260308T070000
END:DAYLIGHT
BEGIN:STANDARD
TZOFFSETFROM:-0400
TZOFFSETTO:-0500
TZNAME:EST
DTSTART:20261101T060000
END:STANDARD
BEGIN:DAYLIGHT
TZOFFSETFROM:-0500
TZOFFSETTO:-0400
TZNAME:EDT
DTSTART:20270314T070000
END:DAYLIGHT
BEGIN:STANDARD
TZOFFSETFROM:-0400
TZOFFSETTO:-0500
TZNAME:EST
DTSTART:20271107T060000
END:STANDARD
END:VTIMEZONE
BEGIN:VEVENT
DTSTART;TZID=America/New_York:20250610T083000
DTEND;TZID=America/New_York:20250610T170000
DTSTAMP:20260420T032110
CREATED:20241126T121352Z
LAST-MODIFIED:20241126T121352Z
UID:10000172-1749544200-1749574800@newcommunitiesinc.org
SUMMARY:Safety Care Initial One-Day In-Person (NCI MH Employees only) Gardiner Training Center
DESCRIPTION:This is a one-day\, in-person class for New Communities MH employees only. \nSafety-Care safely trains people in the basics of applied behavioral analysis principles such as challenging behavior\, identification of antecedents and consequences\, and differential reinforcement as methods for preventing or minimizing behavioral crises.
URL:https://newcommunitiesinc.org/event/safety-care-initial-one-day-in-person-nci-mh-employees-only-gardiner-training-center-4/
LOCATION:Gardiner Training Center\, 13 Plaisted Street\, Gardiner\, ME\, 04345\, United States
CATEGORIES:Safety Care (MH Staff)
END:VEVENT
BEGIN:VEVENT
DTSTART;TZID=America/New_York:20250613T090000
DTEND;TZID=America/New_York:20250613T170000
DTSTAMP:20260420T032110
CREATED:20241126T121017Z
LAST-MODIFIED:20250425T183416Z
UID:10000170-1749805200-1749834000@newcommunitiesinc.org
SUMMARY:Safety Care Initial One-Day In-Person (NCI MH Employees only) Hampden Meadows
DESCRIPTION:This is a one-day\, in-person class for New Communities MH employees only. \nSafety-Care safely trains people in the basics of applied behavioral analysis principles such as challenging behavior\, identification of antecedents and consequences\, and differential reinforcement as methods for preventing or minimizing behavioral crises.
URL:https://newcommunitiesinc.org/event/safety-care-initial-one-day-in-person-nci-mh-employees-only-hampden-meadows-5/
LOCATION:Hampden Meadows\, 1282 Kennebec Road\, Hampden\, ME\, 04444
CATEGORIES:Safety Care (MH Staff)
END:VEVENT
BEGIN:VEVENT
DTSTART;TZID=America/New_York:20250618T083000
DTEND;TZID=America/New_York:20250618T170000
DTSTAMP:20260420T032110
CREATED:20241126T122132Z
LAST-MODIFIED:20250207T180657Z
UID:10000183-1750235400-1750266000@newcommunitiesinc.org
SUMMARY:Safety Care Initial One-Day In-Person (NCI ID and MH Employees only) Norway
DESCRIPTION:This is a one-day\, in-person class for New Communities ID & MH Norway employees only. \nSafety-Care safely trains people in the basics of applied behavioral analysis principles such as challenging behavior\, identification of antecedents and consequences\, and differential reinforcement as methods for preventing or minimizing behavioral crises.
URL:https://newcommunitiesinc.org/event/safety-care-initial-one-day-in-person-nci-id-and-mh-employees-only-norway-7/
LOCATION:Norway Training Center (Marston Street)\, 16 Marston Street\, Norway\, ME\, 04268\, United States
CATEGORIES:Safety Care (ID Staff),Safety Care (MH Staff)
END:VEVENT
BEGIN:VEVENT
DTSTART;TZID=America/New_York:20250729T083000
DTEND;TZID=America/New_York:20250729T170000
DTSTAMP:20260420T032110
CREATED:20250604T130024Z
LAST-MODIFIED:20250604T130024Z
UID:10000276-1753777800-1753808400@newcommunitiesinc.org
SUMMARY:Safety Care Initial One-Day In-Person (NCI ID and MH Employees only) Norway
DESCRIPTION:This is a one-day\, in-person class for New Communities ID & MH Norway employees only. \nSafety-Care safely trains people in the basics of applied behavioral analysis principles such as challenging behavior\, identification of antecedents and consequences\, and differential reinforcement as methods for preventing or minimizing behavioral crises.
URL:https://newcommunitiesinc.org/event/safety-care-initial-one-day-in-person-nci-id-and-mh-employees-only-norway-10/
LOCATION:Norway Training Center (Marston Street)\, 16 Marston Street\, Norway\, ME\, 04268\, United States
CATEGORIES:Safety Care (ID Staff),Safety Care (MH Staff)
END:VEVENT
BEGIN:VEVENT
DTSTART;TZID=America/New_York:20250812T083000
DTEND;TZID=America/New_York:20250812T170000
DTSTAMP:20260420T032110
CREATED:20250813T144636Z
LAST-MODIFIED:20250813T144636Z
UID:10000333-1754987400-1755018000@newcommunitiesinc.org
SUMMARY:Safety Care Initial One-Day In-Person (NCI ID and MH Employees only) Norway
DESCRIPTION:This is a one-day\, in-person class for New Communities ID & MH Norway employees only. \nSafety-Care safely trains people in the basics of applied behavioral analysis principles such as challenging behavior\, identification of antecedents and consequences\, and differential reinforcement as methods for preventing or minimizing behavioral crises.
URL:https://newcommunitiesinc.org/event/safety-care-initial-one-day-in-person-nci-id-and-mh-employees-only-norway-13/
LOCATION:Norway Training Center (Main Street)\, 245 Main Street\, Norway\, ME\, 04268\, United States
CATEGORIES:Safety Care (ID Staff),Safety Care (MH Staff)
END:VEVENT
BEGIN:VEVENT
DTSTART;TZID=America/New_York:20250903T083000
DTEND;TZID=America/New_York:20250903T170000
DTSTAMP:20260420T032110
CREATED:20250604T130921Z
LAST-MODIFIED:20250604T130921Z
UID:10000285-1756888200-1756918800@newcommunitiesinc.org
SUMMARY:Safety Care Initial One-Day In-Person (NCI MH Employees only) Gardiner Training Center
DESCRIPTION:This is a one-day\, in-person class for New Communities MH employees only. \nSafety-Care safely trains people in the basics of applied behavioral analysis principles such as challenging behavior\, identification of antecedents and consequences\, and differential reinforcement as methods for preventing or minimizing behavioral crises.
URL:https://newcommunitiesinc.org/event/safety-care-initial-one-day-in-person-nci-mh-employees-only-gardiner-training-center-5/
LOCATION:Gardiner Training Center\, 13 Plaisted Street\, Gardiner\, ME\, 04345\, United States
CATEGORIES:Safety Care (MH Staff)
END:VEVENT
BEGIN:VEVENT
DTSTART;TZID=America/New_York:20250915T083000
DTEND;TZID=America/New_York:20250915T170000
DTSTAMP:20260420T032110
CREATED:20250904T181741Z
LAST-MODIFIED:20250904T181741Z
UID:10000337-1757925000-1757955600@newcommunitiesinc.org
SUMMARY:Safety Care Initial One-Day In-Person (NCI MH Employees only) Gardiner Training Center
DESCRIPTION:This is a one-day\, in-person class for New Communities MH employees only. \nSafety-Care safely trains people in the basics of applied behavioral analysis principles such as challenging behavior\, identification of antecedents and consequences\, and differential reinforcement as methods for preventing or minimizing behavioral crises.
URL:https://newcommunitiesinc.org/event/safety-care-initial-one-day-in-person-nci-mh-employees-only-gardiner-training-center-8/
LOCATION:Gardiner Training Center\, 13 Plaisted Street\, Gardiner\, ME\, 04345\, United States
CATEGORIES:Safety Care (MH Staff)
END:VEVENT
BEGIN:VEVENT
DTSTART;TZID=America/New_York:20250930T090000
DTEND;TZID=America/New_York:20250930T170000
DTSTAMP:20260420T032110
CREATED:20250604T131056Z
LAST-MODIFIED:20250604T131056Z
UID:10000288-1759222800-1759251600@newcommunitiesinc.org
SUMMARY:Safety Care Initial One-Day In-Person (NCI MH Employees only) Hampden Meadows
DESCRIPTION:This is a one-day\, in-person class for New Communities MH employees only. \nSafety-Care safely trains people in the basics of applied behavioral analysis principles such as challenging behavior\, identification of antecedents and consequences\, and differential reinforcement as methods for preventing or minimizing behavioral crises.
URL:https://newcommunitiesinc.org/event/safety-care-initial-one-day-in-person-nci-mh-employees-only-hampden-meadows-6/
LOCATION:Hampden Meadows\, 1282 Kennebec Road\, Hampden\, ME\, 04444
CATEGORIES:Safety Care (MH Staff)
END:VEVENT
BEGIN:VEVENT
DTSTART;TZID=America/New_York:20251002T083000
DTEND;TZID=America/New_York:20251002T170000
DTSTAMP:20260420T032110
CREATED:20250604T130100Z
LAST-MODIFIED:20250604T130100Z
UID:10000277-1759393800-1759424400@newcommunitiesinc.org
SUMMARY:Safety Care Initial One-Day In-Person (NCI ID and MH Employees only) Norway
DESCRIPTION:This is a one-day\, in-person class for New Communities ID & MH Norway employees only. \nSafety-Care safely trains people in the basics of applied behavioral analysis principles such as challenging behavior\, identification of antecedents and consequences\, and differential reinforcement as methods for preventing or minimizing behavioral crises.
URL:https://newcommunitiesinc.org/event/safety-care-initial-one-day-in-person-nci-id-and-mh-employees-only-norway-11/
LOCATION:Norway Training Center (Marston Street)\, 16 Marston Street\, Norway\, ME\, 04268\, United States
CATEGORIES:Safety Care (ID Staff),Safety Care (MH Staff)
END:VEVENT
BEGIN:VEVENT
DTSTART;TZID=America/New_York:20251014T090000
DTEND;TZID=America/New_York:20251014T170000
DTSTAMP:20260420T032110
CREATED:20250604T131122Z
LAST-MODIFIED:20250604T131122Z
UID:10000289-1760432400-1760461200@newcommunitiesinc.org
SUMMARY:Safety Care Initial One-Day In-Person (NCI MH Employees only) Hampden Meadows
DESCRIPTION:This is a one-day\, in-person class for New Communities MH employees only. \nSafety-Care safely trains people in the basics of applied behavioral analysis principles such as challenging behavior\, identification of antecedents and consequences\, and differential reinforcement as methods for preventing or minimizing behavioral crises.
URL:https://newcommunitiesinc.org/event/safety-care-initial-one-day-in-person-nci-mh-employees-only-hampden-meadows-7/
LOCATION:Hampden Meadows\, 1282 Kennebec Road\, Hampden\, ME\, 04444
CATEGORIES:Safety Care (MH Staff)
END:VEVENT
BEGIN:VEVENT
DTSTART;TZID=America/New_York:20251021T083000
DTEND;TZID=America/New_York:20251021T170000
DTSTAMP:20260420T032110
CREATED:20250604T130950Z
LAST-MODIFIED:20250930T153256Z
UID:10000286-1761035400-1761066000@newcommunitiesinc.org
SUMMARY:Safety Care Initial One-Day In-Person (NCI ID & MH Employees only) Gardiner Training Center
DESCRIPTION:This is a one-day\, in-person class for New Communities ID & MH employees only. \nSafety-Care safely trains people in the basics of applied behavioral analysis principles such as challenging behavior\, identification of antecedents and consequences\, and differential reinforcement as methods for preventing or minimizing behavioral crises.
URL:https://newcommunitiesinc.org/event/safety-care-initial-one-day-in-person-nci-mh-employees-only-gardiner-training-center-6/
LOCATION:Gardiner Training Center\, 13 Plaisted Street\, Gardiner\, ME\, 04345\, United States
CATEGORIES:Safety Care (MH Staff)
END:VEVENT
BEGIN:VEVENT
DTSTART;TZID=America/New_York:20251210T083000
DTEND;TZID=America/New_York:20251210T170000
DTSTAMP:20260420T032110
CREATED:20250604T131021Z
LAST-MODIFIED:20250930T153153Z
UID:10000287-1765355400-1765386000@newcommunitiesinc.org
SUMMARY:Safety Care Initial One-Day In-Person (NCI ID & MH Employees only) Gardiner Training Center
DESCRIPTION:This is a one-day\, in-person class for New Communities ID & MH employees only. \nSafety-Care safely trains people in the basics of applied behavioral analysis principles such as challenging behavior\, identification of antecedents and consequences\, and differential reinforcement as methods for preventing or minimizing behavioral crises.
URL:https://newcommunitiesinc.org/event/safety-care-initial-one-day-in-person-nci-mh-employees-only-gardiner-training-center-7/
LOCATION:Gardiner Training Center\, 13 Plaisted Street\, Gardiner\, ME\, 04345\, United States
CATEGORIES:Safety Care (MH Staff)
END:VEVENT
BEGIN:VEVENT
DTSTART;TZID=America/New_York:20251211T083000
DTEND;TZID=America/New_York:20251211T170000
DTSTAMP:20260420T032110
CREATED:20251112T172010Z
LAST-MODIFIED:20251112T172010Z
UID:10000455-1765441800-1765472400@newcommunitiesinc.org
SUMMARY:Safety Care Initial One-Day In-Person (NCI ID and MH Employees only) Norway
DESCRIPTION:This is a one-day\, in-person class for New Communities ID & MH Norway employees only. \nSafety-Care safely trains people in the basics of applied behavioral analysis principles such as challenging behavior\, identification of antecedents and consequences\, and differential reinforcement as methods for preventing or minimizing behavioral crises.
URL:https://newcommunitiesinc.org/event/safety-care-initial-one-day-in-person-nci-id-and-mh-employees-only-norway-18/
LOCATION:Norway Training Center (Marston Street)\, 16 Marston Street\, Norway\, ME\, 04268\, United States
CATEGORIES:Safety Care (ID Staff),Safety Care (MH Staff)
END:VEVENT
BEGIN:VEVENT
DTSTART;TZID=America/New_York:20251223T083000
DTEND;TZID=America/New_York:20251223T170000
DTSTAMP:20260420T032110
CREATED:20250604T130132Z
LAST-MODIFIED:20250604T130132Z
UID:10000278-1766478600-1766509200@newcommunitiesinc.org
SUMMARY:Safety Care Initial One-Day In-Person (NCI ID and MH Employees only) Norway
DESCRIPTION:This is a one-day\, in-person class for New Communities ID & MH Norway employees only. \nSafety-Care safely trains people in the basics of applied behavioral analysis principles such as challenging behavior\, identification of antecedents and consequences\, and differential reinforcement as methods for preventing or minimizing behavioral crises.
URL:https://newcommunitiesinc.org/event/safety-care-initial-one-day-in-person-nci-id-and-mh-employees-only-norway-12/
LOCATION:Norway Training Center (Marston Street)\, 16 Marston Street\, Norway\, ME\, 04268\, United States
CATEGORIES:Safety Care (ID Staff),Safety Care (MH Staff)
END:VEVENT
BEGIN:VEVENT
DTSTART;TZID=America/New_York:20251231T090000
DTEND;TZID=America/New_York:20251231T170000
DTSTAMP:20260420T032110
CREATED:20250604T131151Z
LAST-MODIFIED:20250604T131151Z
UID:10000290-1767171600-1767200400@newcommunitiesinc.org
SUMMARY:Safety Care Initial One-Day In-Person (NCI MH Employees only) Hampden Meadows
DESCRIPTION:This is a one-day\, in-person class for New Communities MH employees only. \nSafety-Care safely trains people in the basics of applied behavioral analysis principles such as challenging behavior\, identification of antecedents and consequences\, and differential reinforcement as methods for preventing or minimizing behavioral crises.
URL:https://newcommunitiesinc.org/event/safety-care-initial-one-day-in-person-nci-mh-employees-only-hampden-meadows-8/
LOCATION:Hampden Meadows\, 1282 Kennebec Road\, Hampden\, ME\, 04444
CATEGORIES:Safety Care (MH Staff)
END:VEVENT
BEGIN:VEVENT
DTSTART;TZID=America/New_York:20260209T083000
DTEND;TZID=America/New_York:20260209T170000
DTSTAMP:20260420T032110
CREATED:20251029T192754Z
LAST-MODIFIED:20251029T192754Z
UID:10000398-1770625800-1770656400@newcommunitiesinc.org
SUMMARY:Safety Care Initial One-Day In-Person (NCI ID and MH Employees only) Norway
DESCRIPTION:This is a one-day\, in-person class for New Communities ID & MH Norway employees only. \nSafety-Care safely trains people in the basics of applied behavioral analysis principles such as challenging behavior\, identification of antecedents and consequences\, and differential reinforcement as methods for preventing or minimizing behavioral crises.
URL:https://newcommunitiesinc.org/event/safety-care-initial-one-day-in-person-nci-id-and-mh-employees-only-norway-14/
LOCATION:Norway Training Center (Marston Street)\, 16 Marston Street\, Norway\, ME\, 04268\, United States
CATEGORIES:Safety Care (ID Staff),Safety Care (MH Staff)
END:VEVENT
BEGIN:VEVENT
DTSTART;TZID=America/New_York:20260211T083000
DTEND;TZID=America/New_York:20260211T170000
DTSTAMP:20260420T032110
CREATED:20251029T191730Z
LAST-MODIFIED:20251029T191730Z
UID:10000385-1770798600-1770829200@newcommunitiesinc.org
SUMMARY:Safety Care Initial One-Day In-Person (NCI MH Employees only) Gardiner Training Center
DESCRIPTION:This is a one-day\, in-person class for New Communities MH employees only. \nSafety-Care safely trains people in the basics of applied behavioral analysis principles such as challenging behavior\, identification of antecedents and consequences\, and differential reinforcement as methods for preventing or minimizing behavioral crises.
URL:https://newcommunitiesinc.org/event/safety-care-initial-one-day-in-person-nci-mh-employees-only-gardiner-training-center-9/
LOCATION:Gardiner Training Center\, 13 Plaisted Street\, Gardiner\, ME\, 04345\, United States
CATEGORIES:Safety Care (MH Staff)
END:VEVENT
BEGIN:VEVENT
DTSTART;TZID=America/New_York:20260217T090000
DTEND;TZID=America/New_York:20260217T170000
DTSTAMP:20260420T032110
CREATED:20251029T192023Z
LAST-MODIFIED:20251029T192023Z
UID:10000388-1771318800-1771347600@newcommunitiesinc.org
SUMMARY:Safety Care Initial One-Day In-Person (NCI MH Employees only) Hampden Meadows
DESCRIPTION:This is a one-day\, in-person class for New Communities MH employees only. \nSafety-Care safely trains people in the basics of applied behavioral analysis principles such as challenging behavior\, identification of antecedents and consequences\, and differential reinforcement as methods for preventing or minimizing behavioral crises.
URL:https://newcommunitiesinc.org/event/safety-care-initial-one-day-in-person-nci-mh-employees-only-hampden-meadows-9/
LOCATION:Hampden Meadows\, 1282 Kennebec Road\, Hampden\, ME\, 04444
CATEGORIES:Safety Care (MH Staff)
END:VEVENT
BEGIN:VEVENT
DTSTART;TZID=America/New_York:20260317T083000
DTEND;TZID=America/New_York:20260317T170000
DTSTAMP:20260420T032110
CREATED:20251029T192831Z
LAST-MODIFIED:20251029T192831Z
UID:10000399-1773736200-1773766800@newcommunitiesinc.org
SUMMARY:Safety Care Initial One-Day In-Person (NCI ID and MH Employees only) Norway
DESCRIPTION:This is a one-day\, in-person class for New Communities ID & MH Norway employees only. \nSafety-Care safely trains people in the basics of applied behavioral analysis principles such as challenging behavior\, identification of antecedents and consequences\, and differential reinforcement as methods for preventing or minimizing behavioral crises.
URL:https://newcommunitiesinc.org/event/safety-care-initial-one-day-in-person-nci-id-and-mh-employees-only-norway-15/
LOCATION:Norway Training Center (Marston Street)\, 16 Marston Street\, Norway\, ME\, 04268\, United States
CATEGORIES:Safety Care (ID Staff),Safety Care (MH Staff)
END:VEVENT
BEGIN:VEVENT
DTSTART;TZID=America/New_York:20260331T083000
DTEND;TZID=America/New_York:20260331T170000
DTSTAMP:20260420T032110
CREATED:20251029T191803Z
LAST-MODIFIED:20251029T191803Z
UID:10000386-1774945800-1774976400@newcommunitiesinc.org
SUMMARY:Safety Care Initial One-Day In-Person (NCI MH Employees only) Gardiner Training Center
DESCRIPTION:This is a one-day\, in-person class for New Communities MH employees only. \nSafety-Care safely trains people in the basics of applied behavioral analysis principles such as challenging behavior\, identification of antecedents and consequences\, and differential reinforcement as methods for preventing or minimizing behavioral crises.
URL:https://newcommunitiesinc.org/event/safety-care-initial-one-day-in-person-nci-mh-employees-only-gardiner-training-center-10/
LOCATION:Gardiner Training Center\, 13 Plaisted Street\, Gardiner\, ME\, 04345\, United States
CATEGORIES:Safety Care (MH Staff)
END:VEVENT
BEGIN:VEVENT
DTSTART;TZID=America/New_York:20260409T090000
DTEND;TZID=America/New_York:20260409T170000
DTSTAMP:20260420T032110
CREATED:20251029T192114Z
LAST-MODIFIED:20260325T171906Z
UID:10000390-1775725200-1775754000@newcommunitiesinc.org
SUMMARY:Safety Care Initial One-Day In-Person (NCI MH Employees only) Hampden Meadows
DESCRIPTION:This is a one-day\, in-person class for New Communities MH employees only. \nSafety-Care safely trains people in the basics of applied behavioral analysis principles such as challenging behavior\, identification of antecedents and consequences\, and differential reinforcement as methods for preventing or minimizing behavioral crises.
URL:https://newcommunitiesinc.org/event/safety-care-initial-one-day-in-person-nci-mh-employees-only-hampden-meadows-10/
LOCATION:Hampden Meadows\, 1282 Kennebec Road\, Hampden\, ME\, 04444
CATEGORIES:Safety Care (MH Staff)
END:VEVENT
BEGIN:VEVENT
DTSTART;TZID=America/New_York:20260430T083000
DTEND;TZID=America/New_York:20260430T170000
DTSTAMP:20260420T032110
CREATED:20251029T192901Z
LAST-MODIFIED:20260415T124125Z
UID:10000400-1777537800-1777568400@newcommunitiesinc.org
SUMMARY:Safety Care Initial One-Day In-Person (NCI ID and MH Employees only) Norway
DESCRIPTION:This is a one-day\, in-person class for New Communities ID & MH Norway employees only. \nSafety-Care safely trains people in the basics of applied behavioral analysis principles such as challenging behavior\, identification of antecedents and consequences\, and differential reinforcement as methods for preventing or minimizing behavioral crises.
URL:https://newcommunitiesinc.org/event/safety-care-initial-one-day-in-person-nci-id-and-mh-employees-only-norway-16/
LOCATION:Norway Training Center (Marston Street)\, 16 Marston Street\, Norway\, ME\, 04268\, United States
CATEGORIES:Safety Care (ID Staff),Safety Care (MH Staff)
END:VEVENT
BEGIN:VEVENT
DTSTART;TZID=America/New_York:20260528T083000
DTEND;TZID=America/New_York:20260528T170000
DTSTAMP:20260420T032110
CREATED:20251029T191832Z
LAST-MODIFIED:20251029T191832Z
UID:10000387-1779957000-1779987600@newcommunitiesinc.org
SUMMARY:Safety Care Initial One-Day In-Person (NCI MH Employees only) Gardiner Training Center
DESCRIPTION:This is a one-day\, in-person class for New Communities MH employees only. \nSafety-Care safely trains people in the basics of applied behavioral analysis principles such as challenging behavior\, identification of antecedents and consequences\, and differential reinforcement as methods for preventing or minimizing behavioral crises.
URL:https://newcommunitiesinc.org/event/safety-care-initial-one-day-in-person-nci-mh-employees-only-gardiner-training-center-11/
LOCATION:Gardiner Training Center\, 13 Plaisted Street\, Gardiner\, ME\, 04345\, United States
CATEGORIES:Safety Care (MH Staff)
END:VEVENT
BEGIN:VEVENT
DTSTART;TZID=America/New_York:20260612T083000
DTEND;TZID=America/New_York:20260612T170000
DTSTAMP:20260420T032110
CREATED:20251029T193047Z
LAST-MODIFIED:20251029T193047Z
UID:10000401-1781253000-1781283600@newcommunitiesinc.org
SUMMARY:Safety Care Initial One-Day In-Person (NCI ID and MH Employees only) Norway
DESCRIPTION:This is a one-day\, in-person class for New Communities ID & MH Norway employees only. \nSafety-Care safely trains people in the basics of applied behavioral analysis principles such as challenging behavior\, identification of antecedents and consequences\, and differential reinforcement as methods for preventing or minimizing behavioral crises.
URL:https://newcommunitiesinc.org/event/safety-care-initial-one-day-in-person-nci-id-and-mh-employees-only-norway-17/
LOCATION:Norway Training Center (Marston Street)\, 16 Marston Street\, Norway\, ME\, 04268\, United States
CATEGORIES:Safety Care (ID Staff),Safety Care (MH Staff)
END:VEVENT
BEGIN:VEVENT
DTSTART;TZID=America/New_York:20260616T090000
DTEND;TZID=America/New_York:20260616T170000
DTSTAMP:20260420T032110
CREATED:20251029T192147Z
LAST-MODIFIED:20251029T192147Z
UID:10000391-1781600400-1781629200@newcommunitiesinc.org
SUMMARY:Safety Care Initial One-Day In-Person (NCI MH Employees only) Hampden Meadows
DESCRIPTION:This is a one-day\, in-person class for New Communities MH employees only. \nSafety-Care safely trains people in the basics of applied behavioral analysis principles such as challenging behavior\, identification of antecedents and consequences\, and differential reinforcement as methods for preventing or minimizing behavioral crises.
URL:https://newcommunitiesinc.org/event/safety-care-initial-one-day-in-person-nci-mh-employees-only-hampden-meadows-11/
LOCATION:Hampden Meadows\, 1282 Kennebec Road\, Hampden\, ME\, 04444
CATEGORIES:Safety Care (MH Staff)
END:VEVENT
END:VCALENDAR