BEGIN:VCALENDAR
VERSION:2.0
PRODID:-//New Communities, Inc. - ECPv6.15.20//NONSGML v1.0//EN
CALSCALE:GREGORIAN
METHOD:PUBLISH
X-ORIGINAL-URL:https://newcommunitiesinc.org
X-WR-CALDESC:Events for New Communities, Inc.
REFRESH-INTERVAL;VALUE=DURATION:PT1H
X-Robots-Tag:noindex
X-PUBLISHED-TTL:PT1H
BEGIN:VTIMEZONE
TZID:America/New_York
BEGIN:DAYLIGHT
TZOFFSETFROM:-0500
TZOFFSETTO:-0400
TZNAME:EDT
DTSTART:20250309T070000
END:DAYLIGHT
BEGIN:STANDARD
TZOFFSETFROM:-0400
TZOFFSETTO:-0500
TZNAME:EST
DTSTART:20251102T060000
END:STANDARD
BEGIN:DAYLIGHT
TZOFFSETFROM:-0500
TZOFFSETTO:-0400
TZNAME:EDT
DTSTART:20260308T070000
END:DAYLIGHT
BEGIN:STANDARD
TZOFFSETFROM:-0400
TZOFFSETTO:-0500
TZNAME:EST
DTSTART:20261101T060000
END:STANDARD
BEGIN:DAYLIGHT
TZOFFSETFROM:-0500
TZOFFSETTO:-0400
TZNAME:EDT
DTSTART:20270314T070000
END:DAYLIGHT
BEGIN:STANDARD
TZOFFSETFROM:-0400
TZOFFSETTO:-0500
TZNAME:EST
DTSTART:20271107T060000
END:STANDARD
END:VTIMEZONE
BEGIN:VEVENT
DTSTART;TZID=America/New_York:20260402T083000
DTEND;TZID=America/New_York:20260402T150000
DTSTAMP:20260422T181122
CREATED:20251029T191005Z
LAST-MODIFIED:20260310T142807Z
UID:10000381-1775118600-1775142000@newcommunitiesinc.org
SUMMARY:Safety Care Recertification One-Day In-Person (NCI only) Marston Street Training Center
DESCRIPTION:This is a one-day\, in-person Safety Care Recertification class for DSPs and MHRTs who are currently certified and need to renew their certificate. The class safely trains people in the basics of applied behavioral analysis principles such as challenging behavior\, identification of antecedents and consequences\, and differential reinforcement as methods for preventing or minimizing behavioral crises.
URL:https://newcommunitiesinc.org/event/safety-care-recertification-one-day-in-person-nci-only-marston-street-training-center-10/
LOCATION:Norway Training Center (Marston Street)\, 16 Marston Street\, Norway\, ME\, 04268\, United States
CATEGORIES:Safety Care Recertification
END:VEVENT
BEGIN:VEVENT
DTSTART;TZID=America/New_York:20260407T083000
DTEND;TZID=America/New_York:20260407T150000
DTSTAMP:20260422T181122
CREATED:20251029T190541Z
LAST-MODIFIED:20251029T190541Z
UID:10000375-1775550600-1775574000@newcommunitiesinc.org
SUMMARY:Safety Care Recertification One-Day In-Person (NCI only) Skowhegan Training Center
DESCRIPTION:This is a one-day\, in-person Safety Care Recertification class for DSPs and MHRTs who are currently certified and need to renew their certificate. The class safely trains people in the basics of applied behavioral analysis principles such as challenging behavior\, identification of antecedents and consequences\, and differential reinforcement as methods for preventing or minimizing behavioral crises.
URL:https://newcommunitiesinc.org/event/safety-care-recertification-one-day-in-person-nci-only-skowhegan-training-center-13/
LOCATION:Skowhegan Training Center\, 52 High Street\, Skowhegan\, ME\, 04976
CATEGORIES:Safety Care Recertification
END:VEVENT
BEGIN:VEVENT
DTSTART;TZID=America/New_York:20260408T083000
DTEND;TZID=America/New_York:20260408T150000
DTSTAMP:20260422T181122
CREATED:20251029T191035Z
LAST-MODIFIED:20260312T192841Z
UID:10000382-1775637000-1775660400@newcommunitiesinc.org
SUMMARY:Safety Care Recertification One-Day In-Person (NCI only) Marston Street Training Center
DESCRIPTION:This is a one-day\, in-person Safety Care Recertification class for DSPs and MHRTs who are currently certified and need to renew their certificate. The class safely trains people in the basics of applied behavioral analysis principles such as challenging behavior\, identification of antecedents and consequences\, and differential reinforcement as methods for preventing or minimizing behavioral crises.
URL:https://newcommunitiesinc.org/event/safety-care-recertification-one-day-in-person-nci-only-marston-street-training-center-11/
LOCATION:Norway Training Center (Marston Street)\, 16 Marston Street\, Norway\, ME\, 04268\, United States
CATEGORIES:Safety Care Recertification
END:VEVENT
BEGIN:VEVENT
DTSTART;TZID=America/New_York:20260501T083000
DTEND;TZID=America/New_York:20260501T150000
DTSTAMP:20260422T181122
CREATED:20251029T190140Z
LAST-MODIFIED:20251029T190140Z
UID:10000372-1777624200-1777647600@newcommunitiesinc.org
SUMMARY:Safety Care Recertification One-Day In-Person (NCI only) Gardiner Training Center
DESCRIPTION:This is a one-day\, in-person Safety Care Recertification class for DSPs and MHRT’s who are currently certified and need to renew their certificate. The class safely trains people in the basics of applied behavioral analysis principles such as challenging behavior\, identification of antecedents and consequences\, and differential reinforcement as methods for preventing or minimizing behavioral crises.
URL:https://newcommunitiesinc.org/event/safety-care-recertification-one-day-in-person-nci-only-gardiner-training-center-7/
LOCATION:Gardiner Training Center\, 13 Plaisted Street\, Gardiner\, ME\, 04345\, United States
CATEGORIES:Safety Care Recertification
END:VEVENT
BEGIN:VEVENT
DTSTART;TZID=America/New_York:20260505T083000
DTEND;TZID=America/New_York:20260505T150000
DTSTAMP:20260422T181122
CREATED:20251029T191104Z
LAST-MODIFIED:20251029T191104Z
UID:10000383-1777969800-1777993200@newcommunitiesinc.org
SUMMARY:Safety Care Recertification One-Day In-Person (NCI only) Marston Street Training Center
DESCRIPTION:This is a one-day\, in-person Safety Care Recertification class for DSPs and MHRTs who are currently certified and need to renew their certificate. The class safely trains people in the basics of applied behavioral analysis principles such as challenging behavior\, identification of antecedents and consequences\, and differential reinforcement as methods for preventing or minimizing behavioral crises.
URL:https://newcommunitiesinc.org/event/safety-care-recertification-one-day-in-person-nci-only-marston-street-training-center-12/
LOCATION:Norway Training Center (Marston Street)\, 16 Marston Street\, Norway\, ME\, 04268\, United States
CATEGORIES:Safety Care Recertification
END:VEVENT
BEGIN:VEVENT
DTSTART;TZID=America/New_York:20260506T083000
DTEND;TZID=America/New_York:20260506T150000
DTSTAMP:20260422T181122
CREATED:20251029T190631Z
LAST-MODIFIED:20251029T190631Z
UID:10000376-1778056200-1778079600@newcommunitiesinc.org
SUMMARY:Safety Care Recertification One-Day In-Person (NCI only) Skowhegan Training Center
DESCRIPTION:This is a one-day\, in-person Safety Care Recertification class for DSPs and MHRTs who are currently certified and need to renew their certificate. The class safely trains people in the basics of applied behavioral analysis principles such as challenging behavior\, identification of antecedents and consequences\, and differential reinforcement as methods for preventing or minimizing behavioral crises.
URL:https://newcommunitiesinc.org/event/safety-care-recertification-one-day-in-person-nci-only-skowhegan-training-center-14/
LOCATION:Skowhegan Training Center\, 52 High Street\, Skowhegan\, ME\, 04976
CATEGORIES:Safety Care Recertification
END:VEVENT
BEGIN:VEVENT
DTSTART;TZID=America/New_York:20260604T090000
DTEND;TZID=America/New_York:20260604T133000
DTSTAMP:20260422T181122
CREATED:20251029T185830Z
LAST-MODIFIED:20251029T185830Z
UID:10000369-1780563600-1780579800@newcommunitiesinc.org
SUMMARY:Safety Care Recertification One-Day In-Person (NCI only) Hampden Meadows
DESCRIPTION:This is a one-day\, in-person Safety Care Recertification class for MHRTs who are currently certified and need to renew their certificate. The class safely trains people in the basics of applied behavioral analysis principles such as challenging behavior\, identification of antecedents and consequences\, and differential reinforcement as methods for preventing or minimizing behavioral crises.
URL:https://newcommunitiesinc.org/event/safety-care-recertification-one-day-in-person-nci-only-hampden-meadows-10/
LOCATION:Hampden Meadows\, 1282 Kennebec Road\, Hampden\, ME\, 04444
CATEGORIES:Safety Care Recertification
END:VEVENT
BEGIN:VEVENT
DTSTART;TZID=America/New_York:20260608T083000
DTEND;TZID=America/New_York:20260608T150000
DTSTAMP:20260422T181122
CREATED:20251029T190702Z
LAST-MODIFIED:20260127T142538Z
UID:10000377-1780907400-1780930800@newcommunitiesinc.org
SUMMARY:Safety Care Recertification One-Day In-Person (NCI only) Skowhegan Training Center
DESCRIPTION:This is a one-day\, in-person Safety Care Recertification class for DSPs and MHRTs who are currently certified and need to renew their certificate. The class safely trains people in the basics of applied behavioral analysis principles such as challenging behavior\, identification of antecedents and consequences\, and differential reinforcement as methods for preventing or minimizing behavioral crises.
URL:https://newcommunitiesinc.org/event/safety-care-recertification-one-day-in-person-nci-only-skowhegan-training-center-15/
LOCATION:Skowhegan Training Center\, 52 High Street\, Skowhegan\, ME\, 04976
CATEGORIES:Safety Care Recertification
END:VEVENT
BEGIN:VEVENT
DTSTART;TZID=America/New_York:20260610T083000
DTEND;TZID=America/New_York:20260610T150000
DTSTAMP:20260422T181122
CREATED:20251029T191135Z
LAST-MODIFIED:20251029T191135Z
UID:10000384-1781080200-1781103600@newcommunitiesinc.org
SUMMARY:Safety Care Recertification One-Day In-Person (NCI only) Marston Street Training Center
DESCRIPTION:This is a one-day\, in-person Safety Care Recertification class for DSPs and MHRTs who are currently certified and need to renew their certificate. The class safely trains people in the basics of applied behavioral analysis principles such as challenging behavior\, identification of antecedents and consequences\, and differential reinforcement as methods for preventing or minimizing behavioral crises.
URL:https://newcommunitiesinc.org/event/safety-care-recertification-one-day-in-person-nci-only-marston-street-training-center-13/
LOCATION:Norway Training Center (Marston Street)\, 16 Marston Street\, Norway\, ME\, 04268\, United States
CATEGORIES:Safety Care Recertification
END:VEVENT
BEGIN:VEVENT
DTSTART;TZID=America/New_York:20260611T090000
DTEND;TZID=America/New_York:20260611T133000
DTSTAMP:20260422T181122
CREATED:20251029T185901Z
LAST-MODIFIED:20251029T185901Z
UID:10000370-1781168400-1781184600@newcommunitiesinc.org
SUMMARY:Safety Care Recertification One-Day In-Person (NCI only) Hampden Meadows
DESCRIPTION:This is a one-day\, in-person Safety Care Recertification class for MHRTs who are currently certified and need to renew their certificate. The class safely trains people in the basics of applied behavioral analysis principles such as challenging behavior\, identification of antecedents and consequences\, and differential reinforcement as methods for preventing or minimizing behavioral crises.
URL:https://newcommunitiesinc.org/event/safety-care-recertification-one-day-in-person-nci-only-hampden-meadows-11/
LOCATION:Hampden Meadows\, 1282 Kennebec Road\, Hampden\, ME\, 04444
CATEGORIES:Safety Care Recertification
END:VEVENT
BEGIN:VEVENT
DTSTART;TZID=America/New_York:20260706T083000
DTEND;TZID=America/New_York:20260706T150000
DTSTAMP:20260422T181122
CREATED:20260421T194551Z
LAST-MODIFIED:20260421T194551Z
UID:10000509-1783326600-1783350000@newcommunitiesinc.org
SUMMARY:Safety Care Recertification One-Day In-Person (NCI only) Marston Street Training Center
DESCRIPTION:This is a one-day\, in-person Safety Care Recertification class for DSPs and MHRTs who are currently certified and need to renew their certificate. The class safely trains people in the basics of applied behavioral analysis principles such as challenging behavior\, identification of antecedents and consequences\, and differential reinforcement as methods for preventing or minimizing behavioral crises.
URL:https://newcommunitiesinc.org/event/safety-care-recertification-one-day-in-person-nci-only-marston-street-training-center-14/
LOCATION:Norway Training Center (Marston Street)\, 16 Marston Street\, Norway\, ME\, 04268\, United States
CATEGORIES:Safety Care Recertification
END:VEVENT
BEGIN:VEVENT
DTSTART;TZID=America/New_York:20260707T083000
DTEND;TZID=America/New_York:20260707T150000
DTSTAMP:20260422T181122
CREATED:20260421T193424Z
LAST-MODIFIED:20260421T193424Z
UID:10000505-1783413000-1783436400@newcommunitiesinc.org
SUMMARY:Safety Care Recertification One-Day In-Person (NCI only) Skowhegan Training Center
DESCRIPTION:This is a one-day\, in-person Safety Care Recertification class for DSPs and MHRTs who are currently certified and need to renew their certificate. The class safely trains people in the basics of applied behavioral analysis principles such as challenging behavior\, identification of antecedents and consequences\, and differential reinforcement as methods for preventing or minimizing behavioral crises.
URL:https://newcommunitiesinc.org/event/safety-care-recertification-one-day-in-person-nci-only-skowhegan-training-center-16/
LOCATION:Skowhegan Training Center\, 52 High Street\, Skowhegan\, ME\, 04976
CATEGORIES:Safety Care Recertification
END:VEVENT
BEGIN:VEVENT
DTSTART;TZID=America/New_York:20260722T083000
DTEND;TZID=America/New_York:20260722T150000
DTSTAMP:20260422T181122
CREATED:20260421T190057Z
LAST-MODIFIED:20260421T191731Z
UID:10000497-1784709000-1784732400@newcommunitiesinc.org
SUMMARY:Safety Care Recertification One-Day In-Person (NCI only) Venture House
DESCRIPTION:This is a one-day\, in-person Safety Care Recertification class for DSPs who are currently certified and need to renew their certificate. The class safely trains people in the basics of applied behavioral analysis principles such as challenging behavior\, identification of antecedents and consequences\, and differential reinforcement as methods for preventing or minimizing behavioral crises.
URL:https://newcommunitiesinc.org/event/safety-care-recertification-one-day-in-person-nci-only-venture-house/
LOCATION:Venture House (Lewiston)\, 23 Ventura Street\, Lewiston\, ME\, 04240\, United States
CATEGORIES:Safety Care Recertification
END:VEVENT
BEGIN:VEVENT
DTSTART;TZID=America/New_York:20260803T083000
DTEND;TZID=America/New_York:20260803T150000
DTSTAMP:20260422T181122
CREATED:20260421T193903Z
LAST-MODIFIED:20260421T193903Z
UID:10000506-1785745800-1785769200@newcommunitiesinc.org
SUMMARY:Safety Care Recertification One-Day In-Person (NCI only) Skowhegan Training Center
DESCRIPTION:This is a one-day\, in-person Safety Care Recertification class for DSPs and MHRTs who are currently certified and need to renew their certificate. The class safely trains people in the basics of applied behavioral analysis principles such as challenging behavior\, identification of antecedents and consequences\, and differential reinforcement as methods for preventing or minimizing behavioral crises.
URL:https://newcommunitiesinc.org/event/safety-care-recertification-one-day-in-person-nci-only-skowhegan-training-center-17/
LOCATION:Skowhegan Training Center\, 52 High Street\, Skowhegan\, ME\, 04976
CATEGORIES:Safety Care Recertification
END:VEVENT
BEGIN:VEVENT
DTSTART;TZID=America/New_York:20260804T083000
DTEND;TZID=America/New_York:20260804T150000
DTSTAMP:20260422T181122
CREATED:20260421T194720Z
LAST-MODIFIED:20260421T194720Z
UID:10000510-1785832200-1785855600@newcommunitiesinc.org
SUMMARY:Safety Care Recertification One-Day In-Person (NCI only) Marston Street Training Center
DESCRIPTION:This is a one-day\, in-person Safety Care Recertification class for DSPs and MHRTs who are currently certified and need to renew their certificate. The class safely trains people in the basics of applied behavioral analysis principles such as challenging behavior\, identification of antecedents and consequences\, and differential reinforcement as methods for preventing or minimizing behavioral crises.
URL:https://newcommunitiesinc.org/event/safety-care-recertification-one-day-in-person-nci-only-marston-street-training-center-15/
LOCATION:Norway Training Center (Marston Street)\, 16 Marston Street\, Norway\, ME\, 04268\, United States
CATEGORIES:Safety Care Recertification
END:VEVENT
BEGIN:VEVENT
DTSTART;TZID=America/New_York:20260805T083000
DTEND;TZID=America/New_York:20260805T150000
DTSTAMP:20260422T181122
CREATED:20260421T193117Z
LAST-MODIFIED:20260421T193117Z
UID:10000502-1785918600-1785942000@newcommunitiesinc.org
SUMMARY:Safety Care Recertification One-Day In-Person (NCI only) Gardiner Training Center
DESCRIPTION:This is a one-day\, in-person Safety Care Recertification class for DSPs and MHRT’s who are currently certified and need to renew their certificate. The class safely trains people in the basics of applied behavioral analysis principles such as challenging behavior\, identification of antecedents and consequences\, and differential reinforcement as methods for preventing or minimizing behavioral crises.
URL:https://newcommunitiesinc.org/event/safety-care-recertification-one-day-in-person-nci-only-gardiner-training-center-8/
LOCATION:Gardiner Training Center\, 13 Plaisted Street\, Gardiner\, ME\, 04345\, United States
CATEGORIES:Safety Care Recertification
END:VEVENT
BEGIN:VEVENT
DTSTART;TZID=America/New_York:20260806T083000
DTEND;TZID=America/New_York:20260806T150000
DTSTAMP:20260422T181122
CREATED:20260421T190409Z
LAST-MODIFIED:20260421T190409Z
UID:10000498-1786005000-1786028400@newcommunitiesinc.org
SUMMARY:Safety Care Recertification One-Day In-Person (NCI only) Venture House
DESCRIPTION:This is a one-day\, in-person Safety Care Recertification class for DSPs who are currently certified and need to renew their certificate. The class safely trains people in the basics of applied behavioral analysis principles such as challenging behavior\, identification of antecedents and consequences\, and differential reinforcement as methods for preventing or minimizing behavioral crises.
URL:https://newcommunitiesinc.org/event/safety-care-recertification-one-day-in-person-nci-only-venture-house-2/
LOCATION:Venture House (Lewiston)\, 23 Ventura Street\, Lewiston\, ME\, 04240\, United States
CATEGORIES:Safety Care Recertification
END:VEVENT
BEGIN:VEVENT
DTSTART;TZID=America/New_York:20260812T090000
DTEND;TZID=America/New_York:20260812T133000
DTSTAMP:20260422T181122
CREATED:20260421T192507Z
LAST-MODIFIED:20260421T192507Z
UID:10000499-1786525200-1786541400@newcommunitiesinc.org
SUMMARY:Safety Care Recertification One-Day In-Person (NCI only) Hampden Meadows
DESCRIPTION:This is a one-day\, in-person Safety Care Recertification class for MHRTs who are currently certified and need to renew their certificate. The class safely trains people in the basics of applied behavioral analysis principles such as challenging behavior\, identification of antecedents and consequences\, and differential reinforcement as methods for preventing or minimizing behavioral crises.
URL:https://newcommunitiesinc.org/event/safety-care-recertification-one-day-in-person-nci-only-hampden-meadows-12/
LOCATION:Hampden Meadows\, 1282 Kennebec Road\, Hampden\, ME\, 04444
CATEGORIES:Safety Care Recertification
END:VEVENT
BEGIN:VEVENT
DTSTART;TZID=America/New_York:20260901T083000
DTEND;TZID=America/New_York:20260901T150000
DTSTAMP:20260422T181122
CREATED:20260421T194042Z
LAST-MODIFIED:20260421T194042Z
UID:10000507-1788251400-1788274800@newcommunitiesinc.org
SUMMARY:Safety Care Recertification One-Day In-Person (NCI only) Skowhegan Training Center
DESCRIPTION:This is a one-day\, in-person Safety Care Recertification class for DSPs and MHRTs who are currently certified and need to renew their certificate. The class safely trains people in the basics of applied behavioral analysis principles such as challenging behavior\, identification of antecedents and consequences\, and differential reinforcement as methods for preventing or minimizing behavioral crises.
URL:https://newcommunitiesinc.org/event/safety-care-recertification-one-day-in-person-nci-only-skowhegan-training-center-18/
LOCATION:Skowhegan Training Center\, 52 High Street\, Skowhegan\, ME\, 04976
CATEGORIES:Safety Care Recertification
END:VEVENT
BEGIN:VEVENT
DTSTART;TZID=America/New_York:20260902T083000
DTEND;TZID=America/New_York:20260902T150000
DTSTAMP:20260422T181122
CREATED:20260421T193208Z
LAST-MODIFIED:20260421T193208Z
UID:10000503-1788337800-1788361200@newcommunitiesinc.org
SUMMARY:Safety Care Recertification One-Day In-Person (NCI only) Gardiner Training Center
DESCRIPTION:This is a one-day\, in-person Safety Care Recertification class for DSPs and MHRT’s who are currently certified and need to renew their certificate. The class safely trains people in the basics of applied behavioral analysis principles such as challenging behavior\, identification of antecedents and consequences\, and differential reinforcement as methods for preventing or minimizing behavioral crises.
URL:https://newcommunitiesinc.org/event/safety-care-recertification-one-day-in-person-nci-only-gardiner-training-center-9/
LOCATION:Gardiner Training Center\, 13 Plaisted Street\, Gardiner\, ME\, 04345\, United States
CATEGORIES:Safety Care Recertification
END:VEVENT
BEGIN:VEVENT
DTSTART;TZID=America/New_York:20260929T083000
DTEND;TZID=America/New_York:20260929T150000
DTSTAMP:20260422T181122
CREATED:20260421T194803Z
LAST-MODIFIED:20260421T194803Z
UID:10000511-1790670600-1790694000@newcommunitiesinc.org
SUMMARY:Safety Care Recertification One-Day In-Person (NCI only) Marston Street Training Center
DESCRIPTION:This is a one-day\, in-person Safety Care Recertification class for DSPs and MHRTs who are currently certified and need to renew their certificate. The class safely trains people in the basics of applied behavioral analysis principles such as challenging behavior\, identification of antecedents and consequences\, and differential reinforcement as methods for preventing or minimizing behavioral crises.
URL:https://newcommunitiesinc.org/event/safety-care-recertification-one-day-in-person-nci-only-marston-street-training-center-16/
LOCATION:Norway Training Center (Marston Street)\, 16 Marston Street\, Norway\, ME\, 04268\, United States
CATEGORIES:Safety Care Recertification
END:VEVENT
BEGIN:VEVENT
DTSTART;TZID=America/New_York:20261001T090000
DTEND;TZID=America/New_York:20261001T133000
DTSTAMP:20260422T181122
CREATED:20260421T192600Z
LAST-MODIFIED:20260421T192600Z
UID:10000500-1790845200-1790861400@newcommunitiesinc.org
SUMMARY:Safety Care Recertification One-Day In-Person (NCI only) Hampden Meadows
DESCRIPTION:This is a one-day\, in-person Safety Care Recertification class for MHRTs who are currently certified and need to renew their certificate. The class safely trains people in the basics of applied behavioral analysis principles such as challenging behavior\, identification of antecedents and consequences\, and differential reinforcement as methods for preventing or minimizing behavioral crises.
URL:https://newcommunitiesinc.org/event/safety-care-recertification-one-day-in-person-nci-only-hampden-meadows-13/
LOCATION:Hampden Meadows\, 1282 Kennebec Road\, Hampden\, ME\, 04444
CATEGORIES:Safety Care Recertification
END:VEVENT
BEGIN:VEVENT
DTSTART;TZID=America/New_York:20261014T083000
DTEND;TZID=America/New_York:20261014T150000
DTSTAMP:20260422T181122
CREATED:20260421T194850Z
LAST-MODIFIED:20260421T194850Z
UID:10000512-1791966600-1791990000@newcommunitiesinc.org
SUMMARY:Safety Care Recertification One-Day In-Person (NCI only) Marston Street Training Center
DESCRIPTION:This is a one-day\, in-person Safety Care Recertification class for DSPs and MHRTs who are currently certified and need to renew their certificate. The class safely trains people in the basics of applied behavioral analysis principles such as challenging behavior\, identification of antecedents and consequences\, and differential reinforcement as methods for preventing or minimizing behavioral crises.
URL:https://newcommunitiesinc.org/event/safety-care-recertification-one-day-in-person-nci-only-marston-street-training-center-17/
LOCATION:Norway Training Center (Marston Street)\, 16 Marston Street\, Norway\, ME\, 04268\, United States
CATEGORIES:Safety Care Recertification
END:VEVENT
BEGIN:VEVENT
DTSTART;TZID=America/New_York:20261026T083000
DTEND;TZID=America/New_York:20261026T150000
DTSTAMP:20260422T181122
CREATED:20260421T193300Z
LAST-MODIFIED:20260421T193300Z
UID:10000504-1793003400-1793026800@newcommunitiesinc.org
SUMMARY:Safety Care Recertification One-Day In-Person (NCI only) Gardiner Training Center
DESCRIPTION:This is a one-day\, in-person Safety Care Recertification class for DSPs and MHRT’s who are currently certified and need to renew their certificate. The class safely trains people in the basics of applied behavioral analysis principles such as challenging behavior\, identification of antecedents and consequences\, and differential reinforcement as methods for preventing or minimizing behavioral crises.
URL:https://newcommunitiesinc.org/event/safety-care-recertification-one-day-in-person-nci-only-gardiner-training-center-10/
LOCATION:Gardiner Training Center\, 13 Plaisted Street\, Gardiner\, ME\, 04345\, United States
CATEGORIES:Safety Care Recertification
END:VEVENT
BEGIN:VEVENT
DTSTART;TZID=America/New_York:20261106T083000
DTEND;TZID=America/New_York:20261106T150000
DTSTAMP:20260422T181122
CREATED:20260421T194940Z
LAST-MODIFIED:20260421T194940Z
UID:10000513-1793953800-1793977200@newcommunitiesinc.org
SUMMARY:Safety Care Recertification One-Day In-Person (NCI only) Marston Street Training Center
DESCRIPTION:This is a one-day\, in-person Safety Care Recertification class for DSPs and MHRTs who are currently certified and need to renew their certificate. The class safely trains people in the basics of applied behavioral analysis principles such as challenging behavior\, identification of antecedents and consequences\, and differential reinforcement as methods for preventing or minimizing behavioral crises.
URL:https://newcommunitiesinc.org/event/safety-care-recertification-one-day-in-person-nci-only-marston-street-training-center-18/
LOCATION:Norway Training Center (Marston Street)\, 16 Marston Street\, Norway\, ME\, 04268\, United States
CATEGORIES:Safety Care Recertification
END:VEVENT
BEGIN:VEVENT
DTSTART;TZID=America/New_York:20261109T083000
DTEND;TZID=America/New_York:20261109T150000
DTSTAMP:20260422T181122
CREATED:20260421T194325Z
LAST-MODIFIED:20260421T194325Z
UID:10000508-1794213000-1794236400@newcommunitiesinc.org
SUMMARY:Safety Care Recertification One-Day In-Person (NCI only) Skowhegan Training Center
DESCRIPTION:This is a one-day\, in-person Safety Care Recertification class for DSPs and MHRTs who are currently certified and need to renew their certificate. The class safely trains people in the basics of applied behavioral analysis principles such as challenging behavior\, identification of antecedents and consequences\, and differential reinforcement as methods for preventing or minimizing behavioral crises.
URL:https://newcommunitiesinc.org/event/safety-care-recertification-one-day-in-person-nci-only-skowhegan-training-center-19/
LOCATION:Skowhegan Training Center\, 52 High Street\, Skowhegan\, ME\, 04976
CATEGORIES:Safety Care Recertification
END:VEVENT
BEGIN:VEVENT
DTSTART;TZID=America/New_York:20261118T090000
DTEND;TZID=America/New_York:20261118T133000
DTSTAMP:20260422T181122
CREATED:20260421T192701Z
LAST-MODIFIED:20260421T192915Z
UID:10000501-1794992400-1795008600@newcommunitiesinc.org
SUMMARY:Safety Care Recertification One-Day In-Person (NCI only) Hampden Meadows
DESCRIPTION:This is a one-day\, in-person Safety Care Recertification class for MHRTs who are currently certified and need to renew their certificate. The class safely trains people in the basics of applied behavioral analysis principles such as challenging behavior\, identification of antecedents and consequences\, and differential reinforcement as methods for preventing or minimizing behavioral crises.
URL:https://newcommunitiesinc.org/event/safety-care-recertification-one-day-in-person-nci-only-hampden-meadows-14/
LOCATION:Hampden Meadows\, 1282 Kennebec Road\, Hampden\, ME\, 04444
CATEGORIES:Safety Care Recertification
END:VEVENT
BEGIN:VEVENT
DTSTART;TZID=America/New_York:20261201T083000
DTEND;TZID=America/New_York:20261201T150000
DTSTAMP:20260422T181122
CREATED:20260421T195027Z
LAST-MODIFIED:20260421T195027Z
UID:10000514-1796113800-1796137200@newcommunitiesinc.org
SUMMARY:Safety Care Recertification One-Day In-Person (NCI only) Marston Street Training Center
DESCRIPTION:This is a one-day\, in-person Safety Care Recertification class for DSPs and MHRTs who are currently certified and need to renew their certificate. The class safely trains people in the basics of applied behavioral analysis principles such as challenging behavior\, identification of antecedents and consequences\, and differential reinforcement as methods for preventing or minimizing behavioral crises.
URL:https://newcommunitiesinc.org/event/safety-care-recertification-one-day-in-person-nci-only-marston-street-training-center-19/
LOCATION:Norway Training Center (Marston Street)\, 16 Marston Street\, Norway\, ME\, 04268\, United States
CATEGORIES:Safety Care Recertification
END:VEVENT
END:VCALENDAR