BEGIN:VCALENDAR
VERSION:2.0
PRODID:-//New Communities, Inc. - ECPv6.15.20//NONSGML v1.0//EN
CALSCALE:GREGORIAN
METHOD:PUBLISH
X-WR-CALNAME:New Communities, Inc.
X-ORIGINAL-URL:https://newcommunitiesinc.org
X-WR-CALDESC:Events for New Communities, Inc.
REFRESH-INTERVAL;VALUE=DURATION:PT1H
X-Robots-Tag:noindex
X-PUBLISHED-TTL:PT1H
BEGIN:VTIMEZONE
TZID:America/New_York
BEGIN:DAYLIGHT
TZOFFSETFROM:-0500
TZOFFSETTO:-0400
TZNAME:EDT
DTSTART:20230312T070000
END:DAYLIGHT
BEGIN:STANDARD
TZOFFSETFROM:-0400
TZOFFSETTO:-0500
TZNAME:EST
DTSTART:20231105T060000
END:STANDARD
BEGIN:DAYLIGHT
TZOFFSETFROM:-0500
TZOFFSETTO:-0400
TZNAME:EDT
DTSTART:20240310T070000
END:DAYLIGHT
BEGIN:STANDARD
TZOFFSETFROM:-0400
TZOFFSETTO:-0500
TZNAME:EST
DTSTART:20241103T060000
END:STANDARD
BEGIN:DAYLIGHT
TZOFFSETFROM:-0500
TZOFFSETTO:-0400
TZNAME:EDT
DTSTART:20250309T070000
END:DAYLIGHT
BEGIN:STANDARD
TZOFFSETFROM:-0400
TZOFFSETTO:-0500
TZNAME:EST
DTSTART:20251102T060000
END:STANDARD
END:VTIMEZONE
BEGIN:VEVENT
DTSTART;TZID=America/New_York:20241003T083000
DTEND;TZID=America/New_York:20241003T160000
DTSTAMP:20260423T140032
CREATED:20240703T164250Z
LAST-MODIFIED:20240923T172901Z
UID:10000113-1727944200-1727971200@newcommunitiesinc.org
SUMMARY:Certified Residential Medication Aide (CRMA) (Skowhegan)
DESCRIPTION:This class is scheduled for October 3\,4\,7\,8 and 9 at the Skowhegan Training Center. \n5-day course in-person from 8:30 – 4:00pm. \nTeaches the skills needed for safe medication administration and covers State of Maine regulations\, common medications and side effects\, and basic anatomy and physiology.  \nParticipants may choose to add supervised Medication Administration provided by an RN and needed to obtain the certification. If you are not an NCI employee and will use an alternate RN\, you may opt out of the NCI supervised medication pass during the registration process. The class fee without the medication pass is $325.
URL:https://newcommunitiesinc.org/event/certified-residential-medication-aide-crma-skowhegan-2/
LOCATION:Skowhegan Training Center\, 52 High Street\, Skowhegan\, ME\, 04976
CATEGORIES:Certified Residential Medication Aide (CRMA)
END:VEVENT
BEGIN:VEVENT
DTSTART;TZID=America/New_York:20241004T090000
DTEND;TZID=America/New_York:20241004T223000
DTSTAMP:20260423T140032
CREATED:20240701T134322Z
LAST-MODIFIED:20240701T134322Z
UID:10000075-1728032400-1728081000@newcommunitiesinc.org
SUMMARY:Medication Administration Policies and Practices Remote (NCI only)
DESCRIPTION:This remote\, RN instructor-led class reviews New Communities’ medication administration policies and practices and is a required annual training for CRMAs. \nAfter registration confirmation\, you will receive an email with information about accessing the class\, including a Zoom link to the remote class. \nMaterials needed for class: \n\nPrinted: How to Administer Medications\nPrinted: Medication Administration Common Errors
URL:https://newcommunitiesinc.org/event/medication-administration-policies-and-practices-remote-nci-only-2/
LOCATION:ME
CATEGORIES:Medication Administration
END:VEVENT
END:VCALENDAR