BEGIN:VCALENDAR
VERSION:2.0
PRODID:-//New Communities, Inc. - ECPv6.15.20//NONSGML v1.0//EN
CALSCALE:GREGORIAN
METHOD:PUBLISH
X-WR-CALNAME:New Communities, Inc.
X-ORIGINAL-URL:https://newcommunitiesinc.org
X-WR-CALDESC:Events for New Communities, Inc.
REFRESH-INTERVAL;VALUE=DURATION:PT1H
X-Robots-Tag:noindex
X-PUBLISHED-TTL:PT1H
BEGIN:VTIMEZONE
TZID:America/New_York
BEGIN:DAYLIGHT
TZOFFSETFROM:-0500
TZOFFSETTO:-0400
TZNAME:EDT
DTSTART:20240310T070000
END:DAYLIGHT
BEGIN:STANDARD
TZOFFSETFROM:-0400
TZOFFSETTO:-0500
TZNAME:EST
DTSTART:20241103T060000
END:STANDARD
BEGIN:DAYLIGHT
TZOFFSETFROM:-0500
TZOFFSETTO:-0400
TZNAME:EDT
DTSTART:20250309T070000
END:DAYLIGHT
BEGIN:STANDARD
TZOFFSETFROM:-0400
TZOFFSETTO:-0500
TZNAME:EST
DTSTART:20251102T060000
END:STANDARD
BEGIN:DAYLIGHT
TZOFFSETFROM:-0500
TZOFFSETTO:-0400
TZNAME:EDT
DTSTART:20260308T070000
END:DAYLIGHT
BEGIN:STANDARD
TZOFFSETFROM:-0400
TZOFFSETTO:-0500
TZNAME:EST
DTSTART:20261101T060000
END:STANDARD
END:VTIMEZONE
BEGIN:VEVENT
DTSTART;TZID=America/New_York:20250128T083000
DTEND;TZID=America/New_York:20250128T170000
DTSTAMP:20260423T034413
CREATED:20250116T175946Z
LAST-MODIFIED:20250116T175946Z
UID:10000222-1738053000-1738083600@newcommunitiesinc.org
SUMMARY:Safety Care Initial Two-Day In-Person (NCI ID Employees only) Skowhegan Training Center
DESCRIPTION:This class is scheduled for January 28\,29\, 2025. \nThis is a two-day\, in-person class for New Communities ID employees only. \nSafety-Care safely trains people in the basics of applied behavioral analysis principles such as challenging behavior\, identification of antecedents and consequences\, and differential reinforcement as methods for preventing or minimizing behavioral crises.
URL:https://newcommunitiesinc.org/event/safety-care-initial-two-day-in-person-nci-id-employees-only-skowhegan-training-center-5/
LOCATION:Skowhegan Training Center\, 52 High Street\, Skowhegan\, ME\, 04976
CATEGORIES:Safety Care (ID Staff)
END:VEVENT
BEGIN:VEVENT
DTSTART;TZID=America/New_York:20250128T091500
DTEND;TZID=America/New_York:20250128T104500
DTSTAMP:20260423T034413
CREATED:20241118T201050Z
LAST-MODIFIED:20250123T162555Z
UID:10000162-1738055700-1738061100@newcommunitiesinc.org
SUMMARY:Medication Administration Policies and Practices Remote (NCI only)
DESCRIPTION:This remote\, RN instructor-led class reviews New Communities’ medication administration policies and practices and is a required annual training for CRMAs. \nAfter registration confirmation\, you will receive an email with information about accessing the class\, including a Zoom link to the remote class. \nMaterials needed for class: \n\nPrinted: How to Administer Medications\nPrinted: Medication Administration Common Errors
URL:https://newcommunitiesinc.org/event/medication-administration-policies-and-practices-remote-nci-only-4/
LOCATION:ME
CATEGORIES:Medication Administration
END:VEVENT
BEGIN:VEVENT
DTSTART;TZID=America/New_York:20250129T083000
DTEND;TZID=America/New_York:20250129T123000
DTSTAMP:20260423T034413
CREATED:20241118T190959Z
LAST-MODIFIED:20250123T162855Z
UID:10000134-1738139400-1738153800@newcommunitiesinc.org
SUMMARY:Certified Residential Medication Aide (CRMA) Recertification Hybrid (Skowhegan Training Center)
DESCRIPTION:This class is scheduled for January 29\,30\, 2025. Additional make-up date for this course will be scheduled for 1/31 if any classes need to be cancelled due to inclement weather. \nThis RN led\, two-day course for certified CRMAs renewing their certificate includes one day of remote review and study via Zoom\, followed by an in-person exam on the second day. CRMAs who do not work for New Communities (NCI) may choose to attend only the exam day. \nTwo Day Option: Exam plus study group $150 (NCI employees must take the Two Day Option) \nOne Day Option: Exam only $95 \nDay 1 January 29\, 2025 – remote\, instructor-led study group\, 8:30am-12:30pm \nDay 2 January 30\, 2025 – in-person exam\, 8:30am-1:00pm \nAfter registration and payment confirmation\, you will receive an email with information about accessing the class\, including a Zoom link for the remote study day. \n  \nMaterials needed for class: \n\nCRMAs must bring their current CRMA certificates to the live day for verification. Certificates may not be more than 30 days past expiration.\nThe Fortitier Study Guide and other required class materials can be downloaded for printing here: CRMA Recertification Packet.\nPaper\, pen/pencil\, and highlighter for activities and notes.\nA face mask is optional on the live second day.
URL:https://newcommunitiesinc.org/event/certified-residential-medication-aide-crma-recertification-hybrid-skowhegan-training-center-5/
LOCATION:Skowhegan Training Center\, 52 High Street\, Skowhegan\, ME\, 04976
CATEGORIES:Certified Residential Medication Aide (CRMA) Recert
END:VEVENT
BEGIN:VEVENT
DTSTART;TZID=America/New_York:20250130T090000
DTEND;TZID=America/New_York:20250130T103000
DTSTAMP:20260423T034413
CREATED:20250130T200523Z
LAST-MODIFIED:20250130T200948Z
UID:10000224-1738227600-1738233000@newcommunitiesinc.org
SUMMARY:Diabetes Certification Remote
DESCRIPTION:This remote\, RN instructor-led course includes information required to be taught annually by an RN to direct care workers\, according to Maine regulations governing the licensing and functioning of assisted housing programs\, including: \n\nDietary requirements\nAnti-Diabetic Oral medications – inclusive of adverse reactions and interventions\, hyper and hypo glycemic reactions\nInsulin storage\nInsulin injection techniques and site rotation (video demonstration)\nTreatment and prevention of insulin reaction including signs/symptoms\nFoot care\nLab testing\, urine testing and blood glucose monitoring\, and\nStandard Precautions\n\nThis course includes diabetes information for direct care professionals and must be combined with a CRMA certificate if the individual will be administering insulin. Students will receive a one-year Diabetes Certificate at the completion of the course. Diabetes skills such as insulin administration are taught via video but live skills are not practiced. \nAfter registration and payment confirmation\, you will receive an email with information about accessing the class\, including a Zoom link. \nMaterials needed for class: \n\nDiabetes Overview (student should review prior to class\, printing is optional)\nPrinted: Diabetes quiz and sign-in sheet\nPen
URL:https://newcommunitiesinc.org/event/diabetes-certification-remote-24/
LOCATION:Biddeford Training Center\, 25 Amherst Street\, Biddeford\, ME\, 04005\, United States
CATEGORIES:Diabetic Certification
END:VEVENT
BEGIN:VEVENT
DTSTART;TZID=America/New_York:20250130T090000
DTEND;TZID=America/New_York:20250130T170000
DTSTAMP:20260423T034413
CREATED:20241126T120834Z
LAST-MODIFIED:20250127T204046Z
UID:10000168-1738227600-1738256400@newcommunitiesinc.org
SUMMARY:Safety Care Initial One-Day In-Person (NCI MH Employees only) Hampden Meadows
DESCRIPTION:This is a one-day\, in-person class for New Communities MH employees only. \nSafety-Care safely trains people in the basics of applied behavioral analysis principles such as challenging behavior\, identification of antecedents and consequences\, and differential reinforcement as methods for preventing or minimizing behavioral crises.
URL:https://newcommunitiesinc.org/event/safety-care-initial-one-day-in-person-nci-mh-employees-only-hampden-meadows-3/
LOCATION:Hampden Meadows\, 1282 Kennebec Road\, Hampden\, ME\, 04444
CATEGORIES:Safety Care (MH Staff)
END:VEVENT
END:VCALENDAR