BEGIN:VCALENDAR
VERSION:2.0
PRODID:-//New Communities, Inc. - ECPv6.15.20//NONSGML v1.0//EN
CALSCALE:GREGORIAN
METHOD:PUBLISH
X-ORIGINAL-URL:https://newcommunitiesinc.org
X-WR-CALDESC:Events for New Communities, Inc.
REFRESH-INTERVAL;VALUE=DURATION:PT1H
X-Robots-Tag:noindex
X-PUBLISHED-TTL:PT1H
BEGIN:VTIMEZONE
TZID:America/New_York
BEGIN:DAYLIGHT
TZOFFSETFROM:-0500
TZOFFSETTO:-0400
TZNAME:EDT
DTSTART:20240310T070000
END:DAYLIGHT
BEGIN:STANDARD
TZOFFSETFROM:-0400
TZOFFSETTO:-0500
TZNAME:EST
DTSTART:20241103T060000
END:STANDARD
BEGIN:DAYLIGHT
TZOFFSETFROM:-0500
TZOFFSETTO:-0400
TZNAME:EDT
DTSTART:20250309T070000
END:DAYLIGHT
BEGIN:STANDARD
TZOFFSETFROM:-0400
TZOFFSETTO:-0500
TZNAME:EST
DTSTART:20251102T060000
END:STANDARD
BEGIN:DAYLIGHT
TZOFFSETFROM:-0500
TZOFFSETTO:-0400
TZNAME:EDT
DTSTART:20260308T070000
END:DAYLIGHT
BEGIN:STANDARD
TZOFFSETFROM:-0400
TZOFFSETTO:-0500
TZNAME:EST
DTSTART:20261101T060000
END:STANDARD
END:VTIMEZONE
BEGIN:VEVENT
DTSTART;TZID=America/New_York:20250303T083000
DTEND;TZID=America/New_York:20250303T160000
DTSTAMP:20260421T154203
CREATED:20241118T194254Z
LAST-MODIFIED:20250227T161013Z
UID:10000141-1740990600-1741017600@newcommunitiesinc.org
SUMMARY:Certified Residential Medication Aide (CRMA) (Gardiner)
DESCRIPTION:This class is scheduled for March 3\,5\,6\,7 and 12 at the Gardiner Training Center. \n5-day course in-person from 8:30 – 4:00pm. \nTeaches the skills needed for safe medication administration and covers State of Maine regulations\, common medications and side effects\, and basic anatomy and physiology.  \nParticipants may choose to add supervised Medication Administration provided by an RN and needed to obtain the certification. If you are not an NCI employee and will use an alternate RN\, you may opt out of the NCI supervised medication pass during the registration process. The class fee without the medication pass is $325.
URL:https://newcommunitiesinc.org/event/certified-residential-medication-aide-crma-gardiner-4/
LOCATION:Gardiner Training Center\, 13 Plaisted Street\, Gardiner\, ME\, 04345\, United States
CATEGORIES:Certified Residential Medication Aide (CRMA)
END:VEVENT
BEGIN:VEVENT
DTSTART;TZID=America/New_York:20250305T083000
DTEND;TZID=America/New_York:20250305T150000
DTSTAMP:20260421T154203
CREATED:20241126T122322Z
LAST-MODIFIED:20250224T123505Z
UID:10000186-1741163400-1741186800@newcommunitiesinc.org
SUMMARY:Safety Care Recertification One-Day In-Person (NCI only) Norway
DESCRIPTION:This is a one-day\, in-person Safety Care Recertification class for DSPs and MHRTs who are currently certified and need to renew their certificate. The class safely trains people in the basics of applied behavioral analysis principles such as challenging behavior\, identification of antecedents and consequences\, and differential reinforcement as methods for preventing or minimizing behavioral crises.
URL:https://newcommunitiesinc.org/event/safety-care-recertification-one-day-in-person-nci-only-norway-training-center-4/
LOCATION:Norway Training Center (Marston Street)\, 16 Marston Street\, Norway\, ME\, 04268\, United States
CATEGORIES:Safety Care Recertification
END:VEVENT
BEGIN:VEVENT
DTSTART;TZID=America/New_York:20250306T083000
DTEND;TZID=America/New_York:20250306T150000
DTSTAMP:20260421T154203
CREATED:20241126T125055Z
LAST-MODIFIED:20241126T125055Z
UID:10000190-1741249800-1741273200@newcommunitiesinc.org
SUMMARY:Safety Care Recertification One-Day In-Person (NCI only) Skowhegan Training Center
DESCRIPTION:This is a one-day\, in-person Safety Care Recertification class for DSPs and MHRTs who are currently certified and need to renew their certificate. The class safely trains people in the basics of applied behavioral analysis principles such as challenging behavior\, identification of antecedents and consequences\, and differential reinforcement as methods for preventing or minimizing behavioral crises.
URL:https://newcommunitiesinc.org/event/safety-care-recertification-one-day-in-person-nci-only-skowhegan-training-center-4/
LOCATION:Skowhegan Training Center\, 52 High Street\, Skowhegan\, ME\, 04976
CATEGORIES:Safety Care Recertification
END:VEVENT
END:VCALENDAR