BEGIN:VCALENDAR
VERSION:2.0
PRODID:-//New Communities, Inc. - ECPv6.15.20//NONSGML v1.0//EN
CALSCALE:GREGORIAN
METHOD:PUBLISH
X-WR-CALNAME:New Communities, Inc.
X-ORIGINAL-URL:https://newcommunitiesinc.org
X-WR-CALDESC:Events for New Communities, Inc.
REFRESH-INTERVAL;VALUE=DURATION:PT1H
X-Robots-Tag:noindex
X-PUBLISHED-TTL:PT1H
BEGIN:VTIMEZONE
TZID:America/New_York
BEGIN:DAYLIGHT
TZOFFSETFROM:-0500
TZOFFSETTO:-0400
TZNAME:EDT
DTSTART:20240310T070000
END:DAYLIGHT
BEGIN:STANDARD
TZOFFSETFROM:-0400
TZOFFSETTO:-0500
TZNAME:EST
DTSTART:20241103T060000
END:STANDARD
BEGIN:DAYLIGHT
TZOFFSETFROM:-0500
TZOFFSETTO:-0400
TZNAME:EDT
DTSTART:20250309T070000
END:DAYLIGHT
BEGIN:STANDARD
TZOFFSETFROM:-0400
TZOFFSETTO:-0500
TZNAME:EST
DTSTART:20251102T060000
END:STANDARD
BEGIN:DAYLIGHT
TZOFFSETFROM:-0500
TZOFFSETTO:-0400
TZNAME:EDT
DTSTART:20260308T070000
END:DAYLIGHT
BEGIN:STANDARD
TZOFFSETFROM:-0400
TZOFFSETTO:-0500
TZNAME:EST
DTSTART:20261101T060000
END:STANDARD
END:VTIMEZONE
BEGIN:VEVENT
DTSTART;TZID=America/New_York:20250407T133000
DTEND;TZID=America/New_York:20250407T150000
DTSTAMP:20260419T154427
CREATED:20241118T200639Z
LAST-MODIFIED:20250319T163247Z
UID:10000159-1744032600-1744038000@newcommunitiesinc.org
SUMMARY:Diabetes Certification Remote
DESCRIPTION:This remote\, RN instructor-led course includes information required to be taught annually by an RN to direct care workers\, according to Maine regulations governing the licensing and functioning of assisted housing programs\, including: \n\nDietary requirements\nAnti-Diabetic Oral medications – inclusive of adverse reactions and interventions\, hyper and hypo glycemic reactions\nInsulin storage\nInsulin injection techniques and site rotation (video demonstration)\nTreatment and prevention of insulin reaction including signs/symptoms\nFoot care\nLab testing\, urine testing and blood glucose monitoring\, and\nStandard Precautions\n\nThis course includes diabetes information for direct care professionals and must be combined with a CRMA certificate if the individual will be administering insulin. Students will receive a one-year Diabetes Certificate at the completion of the course. Diabetes skills such as insulin administration are taught via video but live skills are not practiced. \nAfter registration and payment confirmation\, you will receive an email with information about accessing the class\, including a Zoom link. \nMaterials needed for class: \n\nDiabetes Overview (student should review prior to class\, printing is optional)\nPrinted: Diabetes quiz and sign-in sheet\nPen
URL:https://newcommunitiesinc.org/event/diabetes-certification-remote-21/
CATEGORIES:Diabetic Certification
END:VEVENT
BEGIN:VEVENT
DTSTART;TZID=America/New_York:20250408T090000
DTEND;TZID=America/New_York:20250408T130000
DTSTAMP:20260419T154427
CREATED:20241126T135705Z
LAST-MODIFIED:20250224T122710Z
UID:10000204-1744102800-1744117200@newcommunitiesinc.org
SUMMARY:American Heart Association CPR-First Aid-AED In-Person (Gardiner Training Center)
DESCRIPTION:A video-based\, instructor-led course that teaches students critical skills to respond to and manage an emergency in the first few minutes before emergency medical services arrive. The instructor observes student practice and guides students’ learning of skills.
URL:https://newcommunitiesinc.org/event/american-heart-association-cpr-first-aid-aed-in-person-gardiner-training-center-2/
LOCATION:Gardiner Training Center\, 13 Plaisted Street\, Gardiner\, ME\, 04345\, United States
CATEGORIES:American Heart Association CPR & First Aid
END:VEVENT
BEGIN:VEVENT
DTSTART;TZID=America/New_York:20250410T083000
DTEND;TZID=America/New_York:20250410T150000
DTSTAMP:20260419T154427
CREATED:20241126T122348Z
LAST-MODIFIED:20250224T123257Z
UID:10000187-1744273800-1744297200@newcommunitiesinc.org
SUMMARY:Safety Care Recertification One-Day In-Person (NCI only) Norway
DESCRIPTION:This is a one-day\, in-person Safety Care Recertification class for DSPs and MHRTs who are currently certified and need to renew their certificate. The class safely trains people in the basics of applied behavioral analysis principles such as challenging behavior\, identification of antecedents and consequences\, and differential reinforcement as methods for preventing or minimizing behavioral crises.
URL:https://newcommunitiesinc.org/event/safety-care-recertification-one-day-in-person-nci-only-norway-training-center-5/
LOCATION:Norway Training Center (Marston Street)\, 16 Marston Street\, Norway\, ME\, 04268\, United States
CATEGORIES:Safety Care Recertification
END:VEVENT
END:VCALENDAR