BEGIN:VCALENDAR
VERSION:2.0
PRODID:-//New Communities, Inc. - ECPv6.15.20//NONSGML v1.0//EN
CALSCALE:GREGORIAN
METHOD:PUBLISH
X-ORIGINAL-URL:https://newcommunitiesinc.org
X-WR-CALDESC:Events for New Communities, Inc.
REFRESH-INTERVAL;VALUE=DURATION:PT1H
X-Robots-Tag:noindex
X-PUBLISHED-TTL:PT1H
BEGIN:VTIMEZONE
TZID:America/New_York
BEGIN:DAYLIGHT
TZOFFSETFROM:-0500
TZOFFSETTO:-0400
TZNAME:EDT
DTSTART:20240310T070000
END:DAYLIGHT
BEGIN:STANDARD
TZOFFSETFROM:-0400
TZOFFSETTO:-0500
TZNAME:EST
DTSTART:20241103T060000
END:STANDARD
BEGIN:DAYLIGHT
TZOFFSETFROM:-0500
TZOFFSETTO:-0400
TZNAME:EDT
DTSTART:20250309T070000
END:DAYLIGHT
BEGIN:STANDARD
TZOFFSETFROM:-0400
TZOFFSETTO:-0500
TZNAME:EST
DTSTART:20251102T060000
END:STANDARD
BEGIN:DAYLIGHT
TZOFFSETFROM:-0500
TZOFFSETTO:-0400
TZNAME:EDT
DTSTART:20260308T070000
END:DAYLIGHT
BEGIN:STANDARD
TZOFFSETFROM:-0400
TZOFFSETTO:-0500
TZNAME:EST
DTSTART:20261101T060000
END:STANDARD
END:VTIMEZONE
BEGIN:VEVENT
DTSTART;TZID=America/New_York:20250625T083000
DTEND;TZID=America/New_York:20250625T150000
DTSTAMP:20260419T170157
CREATED:20241126T140429Z
LAST-MODIFIED:20241216T162337Z
UID:10000211-1750840200-1750863600@newcommunitiesinc.org
SUMMARY:Direct Support Professional (DSP) Remote
DESCRIPTION:This class is scheduled for June 25\,26\, 2025. \nTwo-day instructor led course needed to complete the DSP certificate. Instruction covers all material required to be taught live by the Maine standard in a participatory\, interactive environment. \n$320 – remote class and online classes; and tracking & reporting (for NCI employees only) \n$100 – remote class only \nAfter registration and payment confirmation\, you will receive an email with information about accessing the class\, including a Zoom link.
URL:https://newcommunitiesinc.org/event/direct-support-professional-dsp-remote-10/
CATEGORIES:Direct Support Professional Certificate
END:VEVENT
BEGIN:VEVENT
DTSTART;TZID=America/New_York:20250625T083000
DTEND;TZID=America/New_York:20250625T150000
DTSTAMP:20260419T170157
CREATED:20250604T135807Z
LAST-MODIFIED:20250618T160534Z
UID:10000320-1750840200-1750863600@newcommunitiesinc.org
SUMMARY:Direct Support Professional (DSP) Remote
DESCRIPTION:This class is scheduled for December 17\,18\, 2025. \nTwo-day instructor led course needed to complete the DSP certificate. Instruction covers all material required to be taught live by the Maine standard in a participatory\, interactive environment. \n$320 – remote class and online classes; and tracking & reporting (for NCI employees only) \n$100 – remote class only \nAfter registration and payment confirmation\, you will receive an email with information about accessing the class\, including a Zoom link.
URL:https://newcommunitiesinc.org/event/direct-support-professional-dsp-remote-16/
CATEGORIES:Direct Support Professional Certificate
END:VEVENT
BEGIN:VEVENT
DTSTART;TZID=America/New_York:20250626T083000
DTEND;TZID=America/New_York:20250626T110000
DTSTAMP:20260419T170157
CREATED:20241126T140824Z
LAST-MODIFIED:20241126T140824Z
UID:10000217-1750926600-1750935600@newcommunitiesinc.org
SUMMARY:Individual Rights and Choice (Remote)
DESCRIPTION:A live\, remote class that fulfills the refresher course for DSPs needed 36 months after an individual receives their DSP certificate. The course will review the rights of individuals with intellectual disabilities and how to facilitate choice for individuals supported.
URL:https://newcommunitiesinc.org/event/individual-rights-and-choice-remote-10/
CATEGORIES:Individual Rights and Choice
END:VEVENT
BEGIN:VEVENT
DTSTART;TZID=America/New_York:20250626T083000
DTEND;TZID=America/New_York:20250626T123000
DTSTAMP:20260419T170157
CREATED:20250520T172714Z
LAST-MODIFIED:20250620T123723Z
UID:10000228-1750926600-1750941000@newcommunitiesinc.org
SUMMARY:Certified Residential Medication Aide (CRMA) Recertification Hybrid (Skowhegan Training Center)
DESCRIPTION:This class is scheduled for June 26\,27\, 2025. \nThis RN led\, two-day course for certified CRMAs renewing their certificate includes one day of remote review and study via Zoom\, followed by an in-person exam on the second day. CRMAs who do not work for New Communities (NCI) may choose to attend only the exam day. \nTwo Day Option: Exam plus study group $150 (NCI employees must take the Two Day Option) \nOne Day Option: Exam only $95 \nDay 1 June 26\, 2025 – remote\, instructor-led study group\, 8:30am-12:30pm \nDay 2 June 27\, 2025 – in-person exam\, 8:30am-1:00pm \nAfter registration and payment confirmation\, you will receive an email with information about accessing the class\, including a Zoom link for the remote study day. \n  \nMaterials needed for class: \n\nCRMAs must bring their current CRMA certificates to the live day for verification. Certificates may not be more than 30 days past expiration.\nThe Fortitier Study Guide and other required class materials can be downloaded for printing here: CRMA Recertification Packet.\nPaper\, pen/pencil\, and highlighter for activities and notes.\nA face mask is optional on the live second day.
URL:https://newcommunitiesinc.org/event/certified-residential-medication-aide-crma-recertification-hybrid-skowhegan-training-center-8/
LOCATION:Skowhegan Training Center\, 52 High Street\, Skowhegan\, ME\, 04976
CATEGORIES:Certified Residential Medication Aide (CRMA) Recert
END:VEVENT
END:VCALENDAR