BEGIN:VCALENDAR
VERSION:2.0
PRODID:-//New Communities, Inc. - ECPv6.15.20//NONSGML v1.0//EN
CALSCALE:GREGORIAN
METHOD:PUBLISH
X-ORIGINAL-URL:https://newcommunitiesinc.org
X-WR-CALDESC:Events for New Communities, Inc.
REFRESH-INTERVAL;VALUE=DURATION:PT1H
X-Robots-Tag:noindex
X-PUBLISHED-TTL:PT1H
BEGIN:VTIMEZONE
TZID:America/New_York
BEGIN:DAYLIGHT
TZOFFSETFROM:-0500
TZOFFSETTO:-0400
TZNAME:EDT
DTSTART:20240310T070000
END:DAYLIGHT
BEGIN:STANDARD
TZOFFSETFROM:-0400
TZOFFSETTO:-0500
TZNAME:EST
DTSTART:20241103T060000
END:STANDARD
BEGIN:DAYLIGHT
TZOFFSETFROM:-0500
TZOFFSETTO:-0400
TZNAME:EDT
DTSTART:20250309T070000
END:DAYLIGHT
BEGIN:STANDARD
TZOFFSETFROM:-0400
TZOFFSETTO:-0500
TZNAME:EST
DTSTART:20251102T060000
END:STANDARD
BEGIN:DAYLIGHT
TZOFFSETFROM:-0500
TZOFFSETTO:-0400
TZNAME:EDT
DTSTART:20260308T070000
END:DAYLIGHT
BEGIN:STANDARD
TZOFFSETFROM:-0400
TZOFFSETTO:-0500
TZNAME:EST
DTSTART:20261101T060000
END:STANDARD
END:VTIMEZONE
BEGIN:VEVENT
DTSTART;TZID=America/New_York:20250709T090000
DTEND;TZID=America/New_York:20250709T133000
DTSTAMP:20260422T043501
CREATED:20250604T132810Z
LAST-MODIFIED:20250604T133223Z
UID:10000299-1752051600-1752067800@newcommunitiesinc.org
SUMMARY:Safety Care Recertification One-Day In-Person (NCI only) Hampden Meadows
DESCRIPTION:This is a one-day\, in-person Safety Care Recertification class for MHRTs who are currently certified and need to renew their certificate. The class safely trains people in the basics of applied behavioral analysis principles such as challenging behavior\, identification of antecedents and consequences\, and differential reinforcement as methods for preventing or minimizing behavioral crises.
URL:https://newcommunitiesinc.org/event/safety-care-recertification-one-day-in-person-nci-only-hampden-meadows-6/
LOCATION:Hampden Meadows\, 1282 Kennebec Road\, Hampden\, ME\, 04444
CATEGORIES:Safety Care Recertification
END:VEVENT
BEGIN:VEVENT
DTSTART;TZID=America/New_York:20250710T083000
DTEND;TZID=America/New_York:20250710T150000
DTSTAMP:20260422T043501
CREATED:20250604T133408Z
LAST-MODIFIED:20250604T133408Z
UID:10000303-1752136200-1752159600@newcommunitiesinc.org
SUMMARY:Safety Care Recertification One-Day In-Person (NCI only) Gardiner Training Center
DESCRIPTION:This is a one-day\, in-person Safety Care Recertification class for DSPs and MHRT’s who are currently certified and need to renew their certificate. The class safely trains people in the basics of applied behavioral analysis principles such as challenging behavior\, identification of antecedents and consequences\, and differential reinforcement as methods for preventing or minimizing behavioral crises.
URL:https://newcommunitiesinc.org/event/safety-care-recertification-one-day-in-person-nci-only-gardiner-training-center-3/
LOCATION:Gardiner Training Center\, 13 Plaisted Street\, Gardiner\, ME\, 04345\, United States
CATEGORIES:Safety Care Recertification
END:VEVENT
BEGIN:VEVENT
DTSTART;TZID=America/New_York:20250711T083000
DTEND;TZID=America/New_York:20250711T123000
DTSTAMP:20260422T043501
CREATED:20250714T113353Z
LAST-MODIFIED:20250714T145417Z
UID:10000331-1752222600-1752237000@newcommunitiesinc.org
SUMMARY:Certified Residential Medication Aide (CRMA) Recertification Hybrid (Biddeford Training Center)
DESCRIPTION:This class is scheduled for July 11\, 2025. \nThis RN led\, two-day course for certified CRMAs renewing their certificate includes one day of remote review and study via Zoom\, followed by an in-person exam on the second day. CRMAs who do not work for New Communities (NCI) may choose to attend only the exam day. \nTwo Day Option: Exam plus study group $150 (NCI employees must take the Two Day Option) \nOne Day Option: Exam only $95 \nJuly 11\, 2025 – in-person exam\, 8:30am-1:00pm \nAfter registration and payment confirmation\, you will receive an email with information about accessing the class\, including a Zoom link for the remote study day. \n  \nMaterials needed for class: \n\nCRMAs must bring their current CRMA certificates to the live day for verification. Certificates may not be more than 30 days past expiration.\nThe Fortitier Study Guide and other required class materials can be downloaded for printing here: CRMA Recertification Packet.\nPaper\, pen/pencil\, and highlighter for activities and notes.\nA face mask is optional on the live second day.
URL:https://newcommunitiesinc.org/event/certified-residential-medication-aide-crma-recertification-hybrid-biddeford-training-center-10/
LOCATION:Biddeford Training Center\, 25 Amherst Street\, Biddeford\, ME\, 04005\, United States
CATEGORIES:Certified Residential Medication Aide (CRMA) Recert
END:VEVENT
END:VCALENDAR