BEGIN:VCALENDAR
VERSION:2.0
PRODID:-//New Communities, Inc. - ECPv6.15.20//NONSGML v1.0//EN
CALSCALE:GREGORIAN
METHOD:PUBLISH
X-WR-CALNAME:New Communities, Inc.
X-ORIGINAL-URL:https://newcommunitiesinc.org
X-WR-CALDESC:Events for New Communities, Inc.
REFRESH-INTERVAL;VALUE=DURATION:PT1H
X-Robots-Tag:noindex
X-PUBLISHED-TTL:PT1H
BEGIN:VTIMEZONE
TZID:America/New_York
BEGIN:DAYLIGHT
TZOFFSETFROM:-0500
TZOFFSETTO:-0400
TZNAME:EDT
DTSTART:20240310T070000
END:DAYLIGHT
BEGIN:STANDARD
TZOFFSETFROM:-0400
TZOFFSETTO:-0500
TZNAME:EST
DTSTART:20241103T060000
END:STANDARD
BEGIN:DAYLIGHT
TZOFFSETFROM:-0500
TZOFFSETTO:-0400
TZNAME:EDT
DTSTART:20250309T070000
END:DAYLIGHT
BEGIN:STANDARD
TZOFFSETFROM:-0400
TZOFFSETTO:-0500
TZNAME:EST
DTSTART:20251102T060000
END:STANDARD
BEGIN:DAYLIGHT
TZOFFSETFROM:-0500
TZOFFSETTO:-0400
TZNAME:EDT
DTSTART:20260308T070000
END:DAYLIGHT
BEGIN:STANDARD
TZOFFSETFROM:-0400
TZOFFSETTO:-0500
TZNAME:EST
DTSTART:20261101T060000
END:STANDARD
END:VTIMEZONE
BEGIN:VEVENT
DTSTART;TZID=America/New_York:20250729T083000
DTEND;TZID=America/New_York:20250729T170000
DTSTAMP:20260421T140728
CREATED:20250604T130024Z
LAST-MODIFIED:20250604T130024Z
UID:10000276-1753777800-1753808400@newcommunitiesinc.org
SUMMARY:Safety Care Initial One-Day In-Person (NCI ID and MH Employees only) Norway
DESCRIPTION:This is a one-day\, in-person class for New Communities ID & MH Norway employees only. \nSafety-Care safely trains people in the basics of applied behavioral analysis principles such as challenging behavior\, identification of antecedents and consequences\, and differential reinforcement as methods for preventing or minimizing behavioral crises.
URL:https://newcommunitiesinc.org/event/safety-care-initial-one-day-in-person-nci-id-and-mh-employees-only-norway-10/
LOCATION:Norway Training Center (Marston Street)\, 16 Marston Street\, Norway\, ME\, 04268\, United States
CATEGORIES:Safety Care (ID Staff),Safety Care (MH Staff)
END:VEVENT
BEGIN:VEVENT
DTSTART;TZID=America/New_York:20250730T083000
DTEND;TZID=America/New_York:20250730T150000
DTSTAMP:20260421T140728
CREATED:20250604T132159Z
LAST-MODIFIED:20250604T132159Z
UID:10000292-1753864200-1753887600@newcommunitiesinc.org
SUMMARY:Safety Care Recertification One-Day In-Person (NCI only) Marston Street Training Center
DESCRIPTION:This is a one-day\, in-person Safety Care Recertification class for DSPs and MHRTs who are currently certified and need to renew their certificate. The class safely trains people in the basics of applied behavioral analysis principles such as challenging behavior\, identification of antecedents and consequences\, and differential reinforcement as methods for preventing or minimizing behavioral crises.
URL:https://newcommunitiesinc.org/event/safety-care-recertification-one-day-in-person-nci-only-marston-street-training-center-3/
LOCATION:Norway Training Center (Marston Street)\, 16 Marston Street\, Norway\, ME\, 04268\, United States
CATEGORIES:Safety Care Recertification
END:VEVENT
BEGIN:VEVENT
DTSTART;TZID=America/New_York:20250731T083000
DTEND;TZID=America/New_York:20250731T123000
DTSTAMP:20260421T140728
CREATED:20250520T172841Z
LAST-MODIFIED:20250620T123542Z
UID:10000229-1753950600-1753965000@newcommunitiesinc.org
SUMMARY:Certified Residential Medication Aide (CRMA) Recertification Hybrid (Skowhegan Training Center)
DESCRIPTION:This class is scheduled for July 31\, August 1\, 2025. \nThis RN led\, two-day course for certified CRMAs renewing their certificate includes one day of remote review and study via Zoom\, followed by an in-person exam on the second day. CRMAs who do not work for New Communities (NCI) may choose to attend only the exam day. \nTwo Day Option: Exam plus study group $150 (NCI employees must take the Two Day Option) \nOne Day Option: Exam only $95 \nDay 1 July 31\, 2025 – remote\, instructor-led study group\, 8:30am-12:30pm \nDay 2 August 1\, 2025 – in-person exam\, 8:30am-1:00pm \nAfter registration and payment confirmation\, you will receive an email with information about accessing the class\, including a Zoom link for the remote study day. \n  \nMaterials needed for class: \n\nCRMAs must bring their current CRMA certificates to the live day for verification. Certificates may not be more than 30 days past expiration.\nThe Fortitier Study Guide and other required class materials can be downloaded for printing here: CRMA Recertification Packet.\nPaper\, pen/pencil\, and highlighter for activities and notes.\nA face mask is optional on the live second day.
URL:https://newcommunitiesinc.org/event/certified-residential-medication-aide-crma-recertification-hybrid-skowhegan-training-center-9/
LOCATION:Skowhegan Training Center\, 52 High Street\, Skowhegan\, ME\, 04976
CATEGORIES:Certified Residential Medication Aide (CRMA) Recert
END:VEVENT
BEGIN:VEVENT
DTSTART;TZID=America/New_York:20250731T090000
DTEND;TZID=America/New_York:20250731T130000
DTSTAMP:20260421T140728
CREATED:20250604T134817Z
LAST-MODIFIED:20250604T134817Z
UID:10000309-1753952400-1753966800@newcommunitiesinc.org
SUMMARY:American Heart Association CPR-First Aid-AED In-Person (Hampden Meadows)
DESCRIPTION:A video-based\, instructor-led course that teaches students critical skills to respond to and manage an emergency in the first few minutes before emergency medical services arrive. The instructor observes student practice and guides students’ learning of skills.
URL:https://newcommunitiesinc.org/event/american-heart-association-cpr-first-aid-aed-in-person-hampden-meadows-5/
LOCATION:Hampden Meadows\, 1282 Kennebec Road\, Hampden\, ME\, 04444
CATEGORIES:American Heart Association CPR & First Aid
END:VEVENT
BEGIN:VEVENT
DTSTART;TZID=America/New_York:20250801T083000
DTEND;TZID=America/New_York:20250801T110000
DTSTAMP:20260421T140728
CREATED:20250815T142025Z
LAST-MODIFIED:20250815T142025Z
UID:10000334-1754037000-1754046000@newcommunitiesinc.org
SUMMARY:Individual Rights and Choice (Remote)
DESCRIPTION:A live\, remote class that fulfills the refresher course for DSPs needed 36 months after an individual receives their DSP certificate. The course will review the rights of individuals with intellectual disabilities and how to facilitate choice for individuals supported.
URL:https://newcommunitiesinc.org/event/individual-rights-and-choice-remote-17/
LOCATION:ME
CATEGORIES:Individual Rights and Choice
END:VEVENT
END:VCALENDAR