BEGIN:VCALENDAR
VERSION:2.0
PRODID:-//New Communities, Inc. - ECPv6.15.20//NONSGML v1.0//EN
CALSCALE:GREGORIAN
METHOD:PUBLISH
X-WR-CALNAME:New Communities, Inc.
X-ORIGINAL-URL:https://newcommunitiesinc.org
X-WR-CALDESC:Events for New Communities, Inc.
REFRESH-INTERVAL;VALUE=DURATION:PT1H
X-Robots-Tag:noindex
X-PUBLISHED-TTL:PT1H
BEGIN:VTIMEZONE
TZID:America/New_York
BEGIN:DAYLIGHT
TZOFFSETFROM:-0500
TZOFFSETTO:-0400
TZNAME:EDT
DTSTART:20240310T070000
END:DAYLIGHT
BEGIN:STANDARD
TZOFFSETFROM:-0400
TZOFFSETTO:-0500
TZNAME:EST
DTSTART:20241103T060000
END:STANDARD
BEGIN:DAYLIGHT
TZOFFSETFROM:-0500
TZOFFSETTO:-0400
TZNAME:EDT
DTSTART:20250309T070000
END:DAYLIGHT
BEGIN:STANDARD
TZOFFSETFROM:-0400
TZOFFSETTO:-0500
TZNAME:EST
DTSTART:20251102T060000
END:STANDARD
BEGIN:DAYLIGHT
TZOFFSETFROM:-0500
TZOFFSETTO:-0400
TZNAME:EDT
DTSTART:20260308T070000
END:DAYLIGHT
BEGIN:STANDARD
TZOFFSETFROM:-0400
TZOFFSETTO:-0500
TZNAME:EST
DTSTART:20261101T060000
END:STANDARD
END:VTIMEZONE
BEGIN:VEVENT
DTSTART;TZID=America/New_York:20250804T083000
DTEND;TZID=America/New_York:20250804T123000
DTSTAMP:20260419T101045
CREATED:20250604T112651Z
LAST-MODIFIED:20250718T113617Z
UID:10000246-1754296200-1754310600@newcommunitiesinc.org
SUMMARY:Certified Residential Medication Aide (CRMA) Recertification Hybrid (Gardiner Training Center)
DESCRIPTION:This class is scheduled for August 4\,5\, 2025. \nThis RN led\, two-day course for certified CRMAs renewing their certificate includes one day of remote review and study via Zoom\, followed by an in-person exam on the second day. CRMAs who do not work for New Communities (NCI) may choose to attend only the exam day. \nTwo Day Option: Exam plus study group $150 (NCI employees must take the Two Day Option) \nOne Day Option: Exam only $95 \nDay 1 August 4\, 2025 – remote\, instructor-led study group\, 8:30am-12:30pm \nDay 2 August 5\, 2025 – in-person exam\, 8:30am-1:00pm \nAfter registration and payment confirmation\, you will receive an email with information about accessing the class\, including a Zoom link for the remote study day. \n  \nMaterials needed for class: \n\nCRMAs must bring their current CRMA certificates to the live day for verification. Certificates may not be more than 30 days past expiration.\nThe Fortitier Study Guide and other required class materials can be downloaded for printing here: CRMA Recertification Packet.\nPaper\, pen/pencil\, and highlighter for activities and notes.\nA face mask is optional on the live second day.
URL:https://newcommunitiesinc.org/event/certified-residential-medication-aide-crma-recertification-hybrid-gardiner-training-center-6/
LOCATION:Gardiner Training Center\, 13 Plaisted Street\, Gardiner\, ME\, 04345\, United States
CATEGORIES:Certified Residential Medication Aide (CRMA) Recert
END:VEVENT
BEGIN:VEVENT
DTSTART;TZID=America/New_York:20250804T083000
DTEND;TZID=America/New_York:20250804T123000
DTSTAMP:20260419T101045
CREATED:20250604T113631Z
LAST-MODIFIED:20250620T122459Z
UID:10000249-1754296200-1754310600@newcommunitiesinc.org
SUMMARY:Certified Residential Medication Aide (CRMA) Recertification Hybrid (Biddeford Training Center)
DESCRIPTION:This class is scheduled for August 4\,5\, 2025. \nThis RN led\, two-day course for certified CRMAs renewing their certificate includes one day of remote review and study via Zoom\, followed by an in-person exam on the second day. CRMAs who do not work for New Communities (NCI) may choose to attend only the exam day. \nTwo Day Option: Exam plus study group $150 (NCI employees must take the Two Day Option) \nOne Day Option: Exam only $95 \nDay 1 August 4\, 2025 – remote\, instructor-led study group\, 8:30am-12:30pm \nDay 2 August 5\, 2025 – in-person exam\, 8:30am-1:00pm \nAfter registration and payment confirmation\, you will receive an email with information about accessing the class\, including a Zoom link for the remote study day. \n  \nMaterials needed for class: \n\nCRMAs must bring their current CRMA certificates to the live day for verification. Certificates may not be more than 30 days past expiration.\nThe Fortitier Study Guide and other required class materials can be downloaded for printing here: CRMA Recertification Packet.\nPaper\, pen/pencil\, and highlighter for activities and notes.\nA face mask is optional on the live second day.
URL:https://newcommunitiesinc.org/event/certified-residential-medication-aide-crma-recertification-hybrid-biddeford-training-center-7/
LOCATION:Biddeford Training Center\, 25 Amherst Street\, Biddeford\, ME\, 04005\, United States
CATEGORIES:Certified Residential Medication Aide (CRMA) Recert
END:VEVENT
BEGIN:VEVENT
DTSTART;TZID=America/New_York:20250804T133000
DTEND;TZID=America/New_York:20250804T150000
DTSTAMP:20260419T101045
CREATED:20250604T120127Z
LAST-MODIFIED:20250701T134755Z
UID:10000258-1754314200-1754319600@newcommunitiesinc.org
SUMMARY:Diabetes Certification Remote
DESCRIPTION:This remote\, RN instructor-led course includes information required to be taught annually by an RN to direct care workers\, according to Maine regulations governing the licensing and functioning of assisted housing programs\, including: \n\nDietary requirements\nAnti-Diabetic Oral medications – inclusive of adverse reactions and interventions\, hyper and hypo glycemic reactions\nInsulin storage\nInsulin injection techniques and site rotation (video demonstration)\nTreatment and prevention of insulin reaction including signs/symptoms\nFoot care\nLab testing\, urine testing and blood glucose monitoring\, and\nStandard Precautions\n\nThis course includes diabetes information for direct care professionals and must be combined with a CRMA certificate if the individual will be administering insulin. Students will receive a one-year Diabetes Certificate at the completion of the course. Diabetes skills such as insulin administration are taught via video but live skills are not practiced. \nAfter registration and payment confirmation\, you will receive an email with information about accessing the class\, including a Zoom link. \nMaterials needed for class: \n\nDiabetes Overview (student should review prior to class\, printing is optional)\nPrinted: Diabetes quiz and sign-in sheet\nPen
URL:https://newcommunitiesinc.org/event/diabetes-certification-remote-26/
CATEGORIES:Diabetic Certification
END:VEVENT
BEGIN:VEVENT
DTSTART;TZID=America/New_York:20250806T083000
DTEND;TZID=America/New_York:20250806T160000
DTSTAMP:20260419T101045
CREATED:20250604T105238Z
LAST-MODIFIED:20250731T111434Z
UID:10000234-1754469000-1754496000@newcommunitiesinc.org
SUMMARY:Certified Residential Medication Aide (CRMA) (Skowhegan)
DESCRIPTION:This class is scheduled for August 6\,8\,12\,13 and 15 at the Skowhegan Training Center. \n5-day course in-person from 8:30 – 4:00pm. \nTeaches the skills needed for safe medication administration and covers State of Maine regulations\, common medications and side effects\, and basic anatomy and physiology.  \nParticipants may choose to add supervised Medication Administration provided by an RN and needed to obtain the certification. If you are not an NCI employee and will use an alternate RN\, you may opt out of the NCI supervised medication pass during the registration process. The class fee without the medication pass is $325.
URL:https://newcommunitiesinc.org/event/certified-residential-medication-aide-crma-skowhegan-7/
LOCATION:Skowhegan Training Center\, 52 High Street\, Skowhegan\, ME\, 04976
CATEGORIES:Certified Residential Medication Aide (CRMA)
END:VEVENT
END:VCALENDAR