BEGIN:VCALENDAR
VERSION:2.0
PRODID:-//New Communities, Inc. - ECPv6.15.20//NONSGML v1.0//EN
CALSCALE:GREGORIAN
METHOD:PUBLISH
X-WR-CALNAME:New Communities, Inc.
X-ORIGINAL-URL:https://newcommunitiesinc.org
X-WR-CALDESC:Events for New Communities, Inc.
REFRESH-INTERVAL;VALUE=DURATION:PT1H
X-Robots-Tag:noindex
X-PUBLISHED-TTL:PT1H
BEGIN:VTIMEZONE
TZID:America/New_York
BEGIN:DAYLIGHT
TZOFFSETFROM:-0500
TZOFFSETTO:-0400
TZNAME:EDT
DTSTART:20240310T070000
END:DAYLIGHT
BEGIN:STANDARD
TZOFFSETFROM:-0400
TZOFFSETTO:-0500
TZNAME:EST
DTSTART:20241103T060000
END:STANDARD
BEGIN:DAYLIGHT
TZOFFSETFROM:-0500
TZOFFSETTO:-0400
TZNAME:EDT
DTSTART:20250309T070000
END:DAYLIGHT
BEGIN:STANDARD
TZOFFSETFROM:-0400
TZOFFSETTO:-0500
TZNAME:EST
DTSTART:20251102T060000
END:STANDARD
BEGIN:DAYLIGHT
TZOFFSETFROM:-0500
TZOFFSETTO:-0400
TZNAME:EDT
DTSTART:20260308T070000
END:DAYLIGHT
BEGIN:STANDARD
TZOFFSETFROM:-0400
TZOFFSETTO:-0500
TZNAME:EST
DTSTART:20261101T060000
END:STANDARD
END:VTIMEZONE
BEGIN:VEVENT
DTSTART;TZID=America/New_York:20250818T083000
DTEND;TZID=America/New_York:20250818T160000
DTSTAMP:20260420T155004
CREATED:20250604T104921Z
LAST-MODIFIED:20250813T141529Z
UID:10000231-1755505800-1755532800@newcommunitiesinc.org
SUMMARY:Certified Residential Medication Aide (CRMA) (Norway)
DESCRIPTION:This class is scheduled for August 18\,19\,21\,22 and 25 at the Progress Center Training Center. \n5-day course in-person from 8:30 – 4:00pm. \nTeaches the skills needed for safe medication administration and covers State of Maine regulations\, common medications and side effects\, and basic anatomy and physiology.  \nParticipants may choose to add supervised Medication Administration provided by an RN and needed to obtain the certification. If you are not an NCI employee and will use an alternate RN\, you may opt out of the NCI supervised medication pass during the registration process. The class fee without the medication pass is $325.
URL:https://newcommunitiesinc.org/event/certified-residential-medication-aide-crma-norway-7/
LOCATION:Oxford Training Center (The Waypoint Training Center)\, 143 Pottle Road\, Oxford\, ME\, 04270\, United States
CATEGORIES:Certified Residential Medication Aide (CRMA)
END:VEVENT
BEGIN:VEVENT
DTSTART;TZID=America/New_York:20250820T083000
DTEND;TZID=America/New_York:20250820T123000
DTSTAMP:20260420T155004
CREATED:20250828T203927Z
LAST-MODIFIED:20250828T203927Z
UID:10000335-1755678600-1755693000@newcommunitiesinc.org
SUMMARY:Certified Residential Medication Aide (CRMA) Recertification Hybrid (Pinewood Terrace)
DESCRIPTION:This class is scheduled for October 20\, 2025. \nThis RN led\, two-day course for certified CRMAs renewing their certificate includes one day of remote review and study via Zoom\, followed by an in-person exam on the second day. CRMAs who do not work for New Communities (NCI) may choose to attend only the exam day. \nTwo Day Option: Exam plus study group $150 (NCI employees must take the Two Day Option) \nOne Day Option: Exam only $95 \nAfter registration and payment confirmation\, you will receive an email with information about accessing the class\, including a Zoom link for the remote study day. \n  \nMaterials needed for class: \n\nCRMAs must bring their current CRMA certificates to the live day for verification. Certificates may not be more than 30 days past expiration.\nThe Fortitier Study Guide and other required class materials can be downloaded for printing here: CRMA Recertification Packet.\nPaper\, pen/pencil\, and highlighter for activities and notes.\nA face mask is optional on the live second day.
URL:https://newcommunitiesinc.org/event/certified-residential-medication-aide-crma-recertification-hybrid-pinewood-terrace/
LOCATION:Skowhegan Training Center\, 52 High Street\, Skowhegan\, ME\, 04976
CATEGORIES:Certified Residential Medication Aide (CRMA) Recert
END:VEVENT
BEGIN:VEVENT
DTSTART;TZID=America/New_York:20250820T083000
DTEND;TZID=America/New_York:20250820T150000
DTSTAMP:20260420T155004
CREATED:20250604T135453Z
LAST-MODIFIED:20250718T153222Z
UID:10000316-1755678600-1755702000@newcommunitiesinc.org
SUMMARY:Direct Support Professional (DSP) Remote
DESCRIPTION:This class is scheduled for August 20\,21\, 2025. \nTwo-day instructor led course needed to complete the DSP certificate. Instruction covers all material required to be taught live by the Maine standard in a participatory\, interactive environment. \n$320 – remote class and online classes; and tracking & reporting (for NCI employees only) \n$100 – remote class only \nAfter registration and payment confirmation\, you will receive an email with information about accessing the class\, including a Zoom link.
URL:https://newcommunitiesinc.org/event/direct-support-professional-dsp-remote-12/
CATEGORIES:Direct Support Professional Certificate
END:VEVENT
BEGIN:VEVENT
DTSTART;TZID=America/New_York:20250821T083000
DTEND;TZID=America/New_York:20250821T110000
DTSTAMP:20260420T155004
CREATED:20250604T140607Z
LAST-MODIFIED:20250604T140607Z
UID:10000323-1755765000-1755774000@newcommunitiesinc.org
SUMMARY:Individual Rights and Choice (Remote)
DESCRIPTION:A live\, remote class that fulfills the refresher course for DSPs needed 36 months after an individual receives their DSP certificate. The course will review the rights of individuals with intellectual disabilities and how to facilitate choice for individuals supported.
URL:https://newcommunitiesinc.org/event/individual-rights-and-choice-remote-12/
CATEGORIES:Individual Rights and Choice
END:VEVENT
END:VCALENDAR