BEGIN:VCALENDAR
VERSION:2.0
PRODID:-//New Communities, Inc. - ECPv6.15.20//NONSGML v1.0//EN
CALSCALE:GREGORIAN
METHOD:PUBLISH
X-ORIGINAL-URL:https://newcommunitiesinc.org
X-WR-CALDESC:Events for New Communities, Inc.
REFRESH-INTERVAL;VALUE=DURATION:PT1H
X-Robots-Tag:noindex
X-PUBLISHED-TTL:PT1H
BEGIN:VTIMEZONE
TZID:America/New_York
BEGIN:DAYLIGHT
TZOFFSETFROM:-0500
TZOFFSETTO:-0400
TZNAME:EDT
DTSTART:20240310T070000
END:DAYLIGHT
BEGIN:STANDARD
TZOFFSETFROM:-0400
TZOFFSETTO:-0500
TZNAME:EST
DTSTART:20241103T060000
END:STANDARD
BEGIN:DAYLIGHT
TZOFFSETFROM:-0500
TZOFFSETTO:-0400
TZNAME:EDT
DTSTART:20250309T070000
END:DAYLIGHT
BEGIN:STANDARD
TZOFFSETFROM:-0400
TZOFFSETTO:-0500
TZNAME:EST
DTSTART:20251102T060000
END:STANDARD
BEGIN:DAYLIGHT
TZOFFSETFROM:-0500
TZOFFSETTO:-0400
TZNAME:EDT
DTSTART:20260308T070000
END:DAYLIGHT
BEGIN:STANDARD
TZOFFSETFROM:-0400
TZOFFSETTO:-0500
TZNAME:EST
DTSTART:20261101T060000
END:STANDARD
END:VTIMEZONE
BEGIN:VEVENT
DTSTART;TZID=America/New_York:20251014T083000
DTEND;TZID=America/New_York:20251014T160000
DTSTAMP:20260419T094251
CREATED:20250604T105033Z
LAST-MODIFIED:20251007T105444Z
UID:10000232-1760430600-1760457600@newcommunitiesinc.org
SUMMARY:Certified Residential Medication Aide (CRMA) (Norway)
DESCRIPTION:This class is scheduled for October 14\,16\,17\,20 and 22 at the Progress Center Training Center. \n5-day course in-person from 8:30 – 4:00pm. \nTeaches the skills needed for safe medication administration and covers State of Maine regulations\, common medications and side effects\, and basic anatomy and physiology.  \nParticipants may choose to add supervised Medication Administration provided by an RN and needed to obtain the certification. If you are not an NCI employee and will use an alternate RN\, you may opt out of the NCI supervised medication pass during the registration process. The class fee without the medication pass is $325.
URL:https://newcommunitiesinc.org/event/certified-residential-medication-aide-crma-norway-8/
LOCATION:Oxford Training Center (The Waypoint Training Center)\, 143 Pottle Road\, Oxford\, ME\, 04270\, United States
CATEGORIES:Certified Residential Medication Aide (CRMA)
END:VEVENT
BEGIN:VEVENT
DTSTART;TZID=America/New_York:20251014T090000
DTEND;TZID=America/New_York:20251014T170000
DTSTAMP:20260419T094251
CREATED:20250604T131122Z
LAST-MODIFIED:20250604T131122Z
UID:10000289-1760432400-1760461200@newcommunitiesinc.org
SUMMARY:Safety Care Initial One-Day In-Person (NCI MH Employees only) Hampden Meadows
DESCRIPTION:This is a one-day\, in-person class for New Communities MH employees only. \nSafety-Care safely trains people in the basics of applied behavioral analysis principles such as challenging behavior\, identification of antecedents and consequences\, and differential reinforcement as methods for preventing or minimizing behavioral crises.
URL:https://newcommunitiesinc.org/event/safety-care-initial-one-day-in-person-nci-mh-employees-only-hampden-meadows-7/
LOCATION:Hampden Meadows\, 1282 Kennebec Road\, Hampden\, ME\, 04444
CATEGORIES:Safety Care (MH Staff)
END:VEVENT
BEGIN:VEVENT
DTSTART;TZID=America/New_York:20251015T083000
DTEND;TZID=America/New_York:20251015T150000
DTSTAMP:20260419T094251
CREATED:20250604T135613Z
LAST-MODIFIED:20250718T153431Z
UID:10000318-1760517000-1760540400@newcommunitiesinc.org
SUMMARY:Direct Support Professional (DSP) Remote
DESCRIPTION:This class is scheduled for October 15\,16\, 2025. \nTwo-day instructor led course needed to complete the DSP certificate. Instruction covers all material required to be taught live by the Maine standard in a participatory\, interactive environment. \n$320 – remote class and online classes; and tracking & reporting (for NCI employees only) \n$100 – remote class only \nAfter registration and payment confirmation\, you will receive an email with information about accessing the class\, including a Zoom link.
URL:https://newcommunitiesinc.org/event/direct-support-professional-dsp-remote-14/
CATEGORIES:Direct Support Professional Certificate
END:VEVENT
BEGIN:VEVENT
DTSTART;TZID=America/New_York:20251016T083000
DTEND;TZID=America/New_York:20251016T110000
DTSTAMP:20260419T094251
CREATED:20250604T140707Z
LAST-MODIFIED:20250604T140707Z
UID:10000325-1760603400-1760612400@newcommunitiesinc.org
SUMMARY:Individual Rights and Choice (Remote)
DESCRIPTION:A live\, remote class that fulfills the refresher course for DSPs needed 36 months after an individual receives their DSP certificate. The course will review the rights of individuals with intellectual disabilities and how to facilitate choice for individuals supported.
URL:https://newcommunitiesinc.org/event/individual-rights-and-choice-remote-14/
CATEGORIES:Individual Rights and Choice
END:VEVENT
END:VCALENDAR