BEGIN:VCALENDAR
VERSION:2.0
PRODID:-//New Communities, Inc. - ECPv6.15.20//NONSGML v1.0//EN
CALSCALE:GREGORIAN
METHOD:PUBLISH
X-ORIGINAL-URL:https://newcommunitiesinc.org
X-WR-CALDESC:Events for New Communities, Inc.
REFRESH-INTERVAL;VALUE=DURATION:PT1H
X-Robots-Tag:noindex
X-PUBLISHED-TTL:PT1H
BEGIN:VTIMEZONE
TZID:America/New_York
BEGIN:DAYLIGHT
TZOFFSETFROM:-0500
TZOFFSETTO:-0400
TZNAME:EDT
DTSTART:20250309T070000
END:DAYLIGHT
BEGIN:STANDARD
TZOFFSETFROM:-0400
TZOFFSETTO:-0500
TZNAME:EST
DTSTART:20251102T060000
END:STANDARD
BEGIN:DAYLIGHT
TZOFFSETFROM:-0500
TZOFFSETTO:-0400
TZNAME:EDT
DTSTART:20260308T070000
END:DAYLIGHT
BEGIN:STANDARD
TZOFFSETFROM:-0400
TZOFFSETTO:-0500
TZNAME:EST
DTSTART:20261101T060000
END:STANDARD
BEGIN:DAYLIGHT
TZOFFSETFROM:-0500
TZOFFSETTO:-0400
TZNAME:EDT
DTSTART:20270314T070000
END:DAYLIGHT
BEGIN:STANDARD
TZOFFSETFROM:-0400
TZOFFSETTO:-0500
TZNAME:EST
DTSTART:20271107T060000
END:STANDARD
END:VTIMEZONE
BEGIN:VEVENT
DTSTART;TZID=America/New_York:20260309T083000
DTEND;TZID=America/New_York:20260309T150000
DTSTAMP:20260423T111417
CREATED:20251029T190458Z
LAST-MODIFIED:20251029T190458Z
UID:10000374-1773045000-1773068400@newcommunitiesinc.org
SUMMARY:Safety Care Recertification One-Day In-Person (NCI only) Skowhegan Training Center
DESCRIPTION:This is a one-day\, in-person Safety Care Recertification class for DSPs and MHRTs who are currently certified and need to renew their certificate. The class safely trains people in the basics of applied behavioral analysis principles such as challenging behavior\, identification of antecedents and consequences\, and differential reinforcement as methods for preventing or minimizing behavioral crises.
URL:https://newcommunitiesinc.org/event/safety-care-recertification-one-day-in-person-nci-only-skowhegan-training-center-12/
LOCATION:Skowhegan Training Center\, 52 High Street\, Skowhegan\, ME\, 04976
CATEGORIES:Safety Care Recertification
END:VEVENT
BEGIN:VEVENT
DTSTART;TZID=America/New_York:20260309T083000
DTEND;TZID=America/New_York:20260309T160000
DTSTAMP:20260423T111417
CREATED:20251103T142251Z
LAST-MODIFIED:20260302T154236Z
UID:10000443-1773045000-1773072000@newcommunitiesinc.org
SUMMARY:Certified Residential Medication Aide (CRMA) (Biddeford)
DESCRIPTION:This class is scheduled for March 9\,10\,12\,16 and 18 at the Biddeford Training Center. \n5-day course in-person from 8:30 – 4:00pm. \nTeaches the skills needed for safe medication administration and covers State of Maine regulations\, common medications and side effects\, and basic anatomy and physiology.  \nParticipants may choose to add supervised Medication Administration provided by an RN and needed to obtain the certification. If you are not an NCI employee and will use an alternate RN\, you may opt out of the NCI supervised medication pass during the registration process. The class fee without the medication pass is $325.
URL:https://newcommunitiesinc.org/event/certified-residential-medication-aide-crma-biddeford-10/
LOCATION:Biddeford Training Center\, 25 Amherst Street\, Biddeford\, ME\, 04005\, United States
CATEGORIES:Certified Residential Medication Aide (CRMA)
END:VEVENT
BEGIN:VEVENT
DTSTART;TZID=America/New_York:20260311T090000
DTEND;TZID=America/New_York:20260311T130000
DTSTAMP:20260423T111417
CREATED:20251029T182534Z
LAST-MODIFIED:20251029T182534Z
UID:10000360-1773219600-1773234000@newcommunitiesinc.org
SUMMARY:American Heart Association CPR-First Aid-AED In-Person (Gardiner Training Center)
DESCRIPTION:A video-based\, instructor-led course that teaches students critical skills to respond to and manage an emergency in the first few minutes before emergency medical services arrive. The instructor observes student practice and guides students’ learning of skills.
URL:https://newcommunitiesinc.org/event/american-heart-association-cpr-first-aid-aed-in-person-gardiner-training-center-9/
LOCATION:Gardiner Training Center\, 13 Plaisted Street\, Gardiner\, ME\, 04345\, United States
CATEGORIES:American Heart Association CPR & First Aid
END:VEVENT
BEGIN:VEVENT
DTSTART;TZID=America/New_York:20260312T083000
DTEND;TZID=America/New_York:20260312T170000
DTSTAMP:20260423T111417
CREATED:20251029T192628Z
LAST-MODIFIED:20260223T124752Z
UID:10000396-1773304200-1773334800@newcommunitiesinc.org
SUMMARY:Safety Care Initial Two-Day In-Person (NCI ID Employees only) Skowhegan Training Center
DESCRIPTION:This class is scheduled for March 12\,13\, 2026. \nThis is a two-day\, in-person class for New Communities ID employees only. \nSafety-Care safely trains people in the basics of applied behavioral analysis principles such as challenging behavior\, identification of antecedents and consequences\, and differential reinforcement as methods for preventing or minimizing behavioral crises.
URL:https://newcommunitiesinc.org/event/safety-care-initial-two-day-in-person-nci-id-employees-only-skowhegan-training-center-10/
LOCATION:Skowhegan Training Center\, 52 High Street\, Skowhegan\, ME\, 04976
CATEGORIES:Safety Care (ID Staff)
END:VEVENT
BEGIN:VEVENT
DTSTART;TZID=America/New_York:20260312T090000
DTEND;TZID=America/New_York:20260312T103000
DTSTAMP:20260423T111417
CREATED:20260304T200050Z
LAST-MODIFIED:20260305T180136Z
UID:10000463-1773306000-1773311400@newcommunitiesinc.org
SUMMARY:Medication Administration Policies and Practices Remote (NCI only)
DESCRIPTION:This remote\, RN instructor-led class reviews New Communities’ medication administration policies and practices and is a required annual training for CRMAs. \nAfter registration confirmation\, you will receive an email with information about accessing the class\, including a Zoom link to the remote class. \nMaterials needed for class: \n\nPrinted: How to Administer Medications\nPrinted: Medication Administration Common Errors
URL:https://newcommunitiesinc.org/event/medication-administration-policies-and-practices-remote-nci-only-25/
LOCATION:ME
CATEGORIES:Medication Administration
END:VEVENT
END:VCALENDAR