BEGIN:VCALENDAR
VERSION:2.0
PRODID:-//New Communities, Inc. - ECPv6.15.20//NONSGML v1.0//EN
CALSCALE:GREGORIAN
METHOD:PUBLISH
X-ORIGINAL-URL:https://newcommunitiesinc.org
X-WR-CALDESC:Events for New Communities, Inc.
REFRESH-INTERVAL;VALUE=DURATION:PT1H
X-Robots-Tag:noindex
X-PUBLISHED-TTL:PT1H
BEGIN:VTIMEZONE
TZID:America/New_York
BEGIN:DAYLIGHT
TZOFFSETFROM:-0500
TZOFFSETTO:-0400
TZNAME:EDT
DTSTART:20250309T070000
END:DAYLIGHT
BEGIN:STANDARD
TZOFFSETFROM:-0400
TZOFFSETTO:-0500
TZNAME:EST
DTSTART:20251102T060000
END:STANDARD
BEGIN:DAYLIGHT
TZOFFSETFROM:-0500
TZOFFSETTO:-0400
TZNAME:EDT
DTSTART:20260308T070000
END:DAYLIGHT
BEGIN:STANDARD
TZOFFSETFROM:-0400
TZOFFSETTO:-0500
TZNAME:EST
DTSTART:20261101T060000
END:STANDARD
BEGIN:DAYLIGHT
TZOFFSETFROM:-0500
TZOFFSETTO:-0400
TZNAME:EDT
DTSTART:20270314T070000
END:DAYLIGHT
BEGIN:STANDARD
TZOFFSETFROM:-0400
TZOFFSETTO:-0500
TZNAME:EST
DTSTART:20271107T060000
END:STANDARD
END:VTIMEZONE
BEGIN:VEVENT
DTSTART;TZID=America/New_York:20260713T090000
DTEND;TZID=America/New_York:20260713T130000
DTSTAMP:20260424T073902
CREATED:20260421T140310Z
LAST-MODIFIED:20260421T140310Z
UID:10000476-1783933200-1783947600@newcommunitiesinc.org
SUMMARY:American Heart Association CPR-First Aid-AED In-Person (Norway)
DESCRIPTION:A video-based\, instructor-led course that teaches students critical skills to respond to and manage an emergency in the first few minutes before emergency medical services arrive. The instructor observes student practice and guides students’ learning of skills.
URL:https://newcommunitiesinc.org/event/american-heart-association-cpr-first-aid-aed-in-person-norway-8/
LOCATION:Norway Training Center (Marston Street)\, 16 Marston Street\, Norway\, ME\, 04268\, United States
CATEGORIES:American Heart Association CPR & First Aid
END:VEVENT
BEGIN:VEVENT
DTSTART;TZID=America/New_York:20260715T083000
DTEND;TZID=America/New_York:20260715T150000
DTSTAMP:20260424T073902
CREATED:20260422T152658Z
LAST-MODIFIED:20260422T152906Z
UID:10000551-1784104200-1784127600@newcommunitiesinc.org
SUMMARY:Direct Support Professional (DSP) Remote
DESCRIPTION:This class is scheduled for July 15\,16\, 2026. \nTwo-day instructor led course needed to complete the DSP certificate. Instruction covers all material required to be taught live by the Maine standard in a participatory\, interactive environment. \n$320 – remote class and online classes; and tracking & reporting (for NCI employees only) \n$100 – remote class only \nAfter registration and payment confirmation\, you will receive an email with information about accessing the class\, including a Zoom link.
URL:https://newcommunitiesinc.org/event/direct-support-professional-dsp-remote-24/
LOCATION:ME
CATEGORIES:Direct Support Professional Certificate
END:VEVENT
BEGIN:VEVENT
DTSTART;TZID=America/New_York:20260716T083000
DTEND;TZID=America/New_York:20260716T110000
DTSTAMP:20260424T073902
CREATED:20260421T135606Z
LAST-MODIFIED:20260421T135606Z
UID:10000470-1784190600-1784199600@newcommunitiesinc.org
SUMMARY:Individual Rights and Choice (Remote)
DESCRIPTION:A live\, remote class that fulfills the refresher course for DSPs needed 36 months after an individual receives their DSP certificate. The course will review the rights of individuals with intellectual disabilities and how to facilitate choice for individuals supported.
URL:https://newcommunitiesinc.org/event/individual-rights-and-choice-remote-24/
LOCATION:ME
CATEGORIES:Individual Rights and Choice
END:VEVENT
BEGIN:VEVENT
DTSTART;TZID=America/New_York:20260717T090000
DTEND;TZID=America/New_York:20260717T130000
DTSTAMP:20260424T073902
CREATED:20260421T142854Z
LAST-MODIFIED:20260421T142854Z
UID:10000482-1784278800-1784293200@newcommunitiesinc.org
SUMMARY:American Heart Association CPR-First Aid-AED In-Person (Hampden Meadows)
DESCRIPTION:A video-based\, instructor-led course that teaches students critical skills to respond to and manage an emergency in the first few minutes before emergency medical services arrive. The instructor observes student practice and guides students’ learning of skills.
URL:https://newcommunitiesinc.org/event/american-heart-association-cpr-first-aid-aed-in-person-hampden-meadows-11/
LOCATION:Hampden Meadows\, 1282 Kennebec Road\, Hampden\, ME\, 04444
CATEGORIES:American Heart Association CPR & First Aid
END:VEVENT
END:VCALENDAR