BEGIN:VCALENDAR
VERSION:2.0
PRODID:-//New Communities, Inc. - ECPv6.15.20//NONSGML v1.0//EN
CALSCALE:GREGORIAN
METHOD:PUBLISH
X-ORIGINAL-URL:https://newcommunitiesinc.org
X-WR-CALDESC:Events for New Communities, Inc.
REFRESH-INTERVAL;VALUE=DURATION:PT1H
X-Robots-Tag:noindex
X-PUBLISHED-TTL:PT1H
BEGIN:VTIMEZONE
TZID:America/New_York
BEGIN:DAYLIGHT
TZOFFSETFROM:-0500
TZOFFSETTO:-0400
TZNAME:EDT
DTSTART:20250309T070000
END:DAYLIGHT
BEGIN:STANDARD
TZOFFSETFROM:-0400
TZOFFSETTO:-0500
TZNAME:EST
DTSTART:20251102T060000
END:STANDARD
BEGIN:DAYLIGHT
TZOFFSETFROM:-0500
TZOFFSETTO:-0400
TZNAME:EDT
DTSTART:20260308T070000
END:DAYLIGHT
BEGIN:STANDARD
TZOFFSETFROM:-0400
TZOFFSETTO:-0500
TZNAME:EST
DTSTART:20261101T060000
END:STANDARD
BEGIN:DAYLIGHT
TZOFFSETFROM:-0500
TZOFFSETTO:-0400
TZNAME:EDT
DTSTART:20270314T070000
END:DAYLIGHT
BEGIN:STANDARD
TZOFFSETFROM:-0400
TZOFFSETTO:-0500
TZNAME:EST
DTSTART:20271107T060000
END:STANDARD
END:VTIMEZONE
BEGIN:VEVENT
DTSTART;TZID=America/New_York:20260811T090000
DTEND;TZID=America/New_York:20260811T163000
DTSTAMP:20260422T045628
CREATED:20260421T134953Z
LAST-MODIFIED:20260421T134953Z
UID:10000466-1786438800-1786465800@newcommunitiesinc.org
SUMMARY:MHSS Remote
DESCRIPTION:MHSS Remote August 11\,13\,14\,17\,18\, 2026 \nThe Mental Health Support Specialist course is one of several requirements needed to complete the Mental Health Rehabilitation Technician certification. The course provides the basic knowledge and skills needed to support individuals with mental health diagnoses to live as independently as possible\, at home and in the community. Learners will have the opportunity to gain a greater understanding of their professional role and how to assist individuals with mental health challenges with daily activities. \nAfter registration and payment confirmation\, you will receive an email with information about accessing the class\, including a Zoom link.
URL:https://newcommunitiesinc.org/event/mhss-remote-11/
LOCATION:ME
CATEGORIES:MHSS
END:VEVENT
BEGIN:VEVENT
DTSTART;TZID=America/New_York:20260812T090000
DTEND;TZID=America/New_York:20260812T133000
DTSTAMP:20260422T045628
CREATED:20260421T192507Z
LAST-MODIFIED:20260421T192507Z
UID:10000499-1786525200-1786541400@newcommunitiesinc.org
SUMMARY:Safety Care Recertification One-Day In-Person (NCI only) Hampden Meadows
DESCRIPTION:This is a one-day\, in-person Safety Care Recertification class for MHRTs who are currently certified and need to renew their certificate. The class safely trains people in the basics of applied behavioral analysis principles such as challenging behavior\, identification of antecedents and consequences\, and differential reinforcement as methods for preventing or minimizing behavioral crises.
URL:https://newcommunitiesinc.org/event/safety-care-recertification-one-day-in-person-nci-only-hampden-meadows-12/
LOCATION:Hampden Meadows\, 1282 Kennebec Road\, Hampden\, ME\, 04444
CATEGORIES:Safety Care Recertification
END:VEVENT
END:VCALENDAR