BEGIN:VCALENDAR
VERSION:2.0
PRODID:-//New Communities, Inc. - ECPv6.15.20//NONSGML v1.0//EN
CALSCALE:GREGORIAN
METHOD:PUBLISH
X-ORIGINAL-URL:https://newcommunitiesinc.org
X-WR-CALDESC:Events for New Communities, Inc.
REFRESH-INTERVAL;VALUE=DURATION:PT1H
X-Robots-Tag:noindex
X-PUBLISHED-TTL:PT1H
BEGIN:VTIMEZONE
TZID:America/New_York
BEGIN:DAYLIGHT
TZOFFSETFROM:-0500
TZOFFSETTO:-0400
TZNAME:EDT
DTSTART:20250309T070000
END:DAYLIGHT
BEGIN:STANDARD
TZOFFSETFROM:-0400
TZOFFSETTO:-0500
TZNAME:EST
DTSTART:20251102T060000
END:STANDARD
BEGIN:DAYLIGHT
TZOFFSETFROM:-0500
TZOFFSETTO:-0400
TZNAME:EDT
DTSTART:20260308T070000
END:DAYLIGHT
BEGIN:STANDARD
TZOFFSETFROM:-0400
TZOFFSETTO:-0500
TZNAME:EST
DTSTART:20261101T060000
END:STANDARD
BEGIN:DAYLIGHT
TZOFFSETFROM:-0500
TZOFFSETTO:-0400
TZNAME:EDT
DTSTART:20270314T070000
END:DAYLIGHT
BEGIN:STANDARD
TZOFFSETFROM:-0400
TZOFFSETTO:-0500
TZNAME:EST
DTSTART:20271107T060000
END:STANDARD
END:VTIMEZONE
BEGIN:VEVENT
DTSTART;TZID=America/New_York:20261005T083000
DTEND;TZID=America/New_York:20261005T123000
DTSTAMP:20260424T090948
CREATED:20260423T141421Z
LAST-MODIFIED:20260423T141421Z
UID:10000576-1791189000-1791203400@newcommunitiesinc.org
SUMMARY:Certified Residential Medication Aide (CRMA) Recertification Hybrid (Gardiner Training Center)
DESCRIPTION:This class is scheduled for October 5\,6\, 2026. \nThis RN led\, two-day course for certified CRMAs renewing their certificate includes one day of remote review and study via Zoom\, followed by an in-person exam on the second day. CRMAs who do not work for New Communities (NCI) may choose to attend only the exam day. \nTwo Day Option: Exam plus study group $150 (NCI employees must take the Two Day Option) \nOne Day Option: Exam only $95 \nDay 1 October 5\, 2026 – remote\, instructor-led study group\, 8:30am-12:30pm \nDay 2 October 6\, 2026 – in-person exam\, 8:30am-1:00pm \nAfter registration and payment confirmation\, you will receive an email with information about accessing the class\, including a Zoom link for the remote study day. \n  \nMaterials needed for class: \n\nCRMAs must bring their current CRMA certificates to the live day for verification. Certificates may not be more than 30 days past expiration.\nThe Fortitier Study Guide and other required class materials can be downloaded for printing here: CRMA Recertification Packet.\nPaper\, pen/pencil\, and highlighter for activities and notes.\nA face mask is optional on the live second day.
URL:https://newcommunitiesinc.org/event/certified-residential-medication-aide-crma-recertification-hybrid-gardiner-training-center-13/
LOCATION:Gardiner Training Center\, 13 Plaisted Street\, Gardiner\, ME\, 04345\, United States
CATEGORIES:Certified Residential Medication Aide (CRMA) Recert
END:VEVENT
BEGIN:VEVENT
DTSTART;TZID=America/New_York:20261005T083000
DTEND;TZID=America/New_York:20261005T160000
DTSTAMP:20260424T090948
CREATED:20260423T132402Z
LAST-MODIFIED:20260423T132402Z
UID:10000562-1791189000-1791216000@newcommunitiesinc.org
SUMMARY:Certified Residential Medication Aide (CRMA) (Oxford)
DESCRIPTION:This class is scheduled for October 5\,6\,8\,9 and 13 at Waypoint Training Center in Oxford. \n5-day course in-person from 8:30 – 4:00pm. \nTeaches the skills needed for safe medication administration and covers State of Maine regulations\, common medications and side effects\, and basic anatomy and physiology.  \nParticipants may choose to add supervised Medication Administration provided by an RN and needed to obtain the certification. If you are not an NCI employee and will use an alternate RN\, you may opt out of the NCI supervised medication pass during the registration process. The class fee without the medication pass is $325.
URL:https://newcommunitiesinc.org/event/certified-residential-medication-aide-crma-oxford/
LOCATION:Oxford Training Center (The Waypoint Training Center)\, 143 Pottle Road\, Oxford\, ME\, 04270\, United States
CATEGORIES:Certified Residential Medication Aide (CRMA)
END:VEVENT
BEGIN:VEVENT
DTSTART;TZID=America/New_York:20261006T090000
DTEND;TZID=America/New_York:20261006T130000
DTSTAMP:20260424T090948
CREATED:20260421T141711Z
LAST-MODIFIED:20260421T141711Z
UID:10000479-1791277200-1791291600@newcommunitiesinc.org
SUMMARY:American Heart Association CPR-First Aid-AED In-Person (Norway)
DESCRIPTION:A video-based\, instructor-led course that teaches students critical skills to respond to and manage an emergency in the first few minutes before emergency medical services arrive. The instructor observes student practice and guides students’ learning of skills.
URL:https://newcommunitiesinc.org/event/american-heart-association-cpr-first-aid-aed-in-person-norway-11/
LOCATION:Norway Training Center (Marston Street)\, 16 Marston Street\, Norway\, ME\, 04268\, United States
CATEGORIES:American Heart Association CPR & First Aid
END:VEVENT
BEGIN:VEVENT
DTSTART;TZID=America/New_York:20261007T090000
DTEND;TZID=America/New_York:20261007T130000
DTSTAMP:20260424T090948
CREATED:20260421T155756Z
LAST-MODIFIED:20260421T155756Z
UID:10000495-1791363600-1791378000@newcommunitiesinc.org
SUMMARY:American Heart Association CPR-First Aid-AED In-Person (Skowhegan)
DESCRIPTION:A video-based\, instructor-led course that teaches students critical skills to respond to and manage an emergency in the first few minutes before emergency medical services arrive. The instructor observes student practice and guides students’ learning of skills.
URL:https://newcommunitiesinc.org/event/american-heart-association-cpr-first-aid-aed-in-person-skowhegan-4/
LOCATION:Skowhegan Training Center\, 52 High Street\, Skowhegan\, ME\, 04976
CATEGORIES:American Heart Association CPR & First Aid
END:VEVENT
BEGIN:VEVENT
DTSTART;TZID=America/New_York:20261008T083000
DTEND;TZID=America/New_York:20261008T170000
DTSTAMP:20260424T090948
CREATED:20260422T135351Z
LAST-MODIFIED:20260422T135351Z
UID:10000530-1791448200-1791478800@newcommunitiesinc.org
SUMMARY:Safety Care Initial One-Day In-Person (NCI ID and MH Employees only) Norway
DESCRIPTION:This is a one-day\, in-person class for New Communities ID & MH Norway employees only. \nSafety-Care safely trains people in the basics of applied behavioral analysis principles such as challenging behavior\, identification of antecedents and consequences\, and differential reinforcement as methods for preventing or minimizing behavioral crises.
URL:https://newcommunitiesinc.org/event/safety-care-initial-one-day-in-person-nci-id-and-mh-employees-only-norway-22/
LOCATION:Norway Training Center (Marston Street)\, 16 Marston Street\, Norway\, ME\, 04268\, United States
CATEGORIES:Safety Care (ID Staff),Safety Care (MH Staff)
END:VEVENT
END:VCALENDAR