BEGIN:VCALENDAR
VERSION:2.0
PRODID:-//New Communities, Inc. - ECPv6.15.20//NONSGML v1.0//EN
CALSCALE:GREGORIAN
METHOD:PUBLISH
X-WR-CALNAME:New Communities, Inc.
X-ORIGINAL-URL:https://newcommunitiesinc.org
X-WR-CALDESC:Events for New Communities, Inc.
REFRESH-INTERVAL;VALUE=DURATION:PT1H
X-Robots-Tag:noindex
X-PUBLISHED-TTL:PT1H
BEGIN:VTIMEZONE
TZID:America/New_York
BEGIN:DAYLIGHT
TZOFFSETFROM:-0500
TZOFFSETTO:-0400
TZNAME:EDT
DTSTART:20250309T070000
END:DAYLIGHT
BEGIN:STANDARD
TZOFFSETFROM:-0400
TZOFFSETTO:-0500
TZNAME:EST
DTSTART:20251102T060000
END:STANDARD
BEGIN:DAYLIGHT
TZOFFSETFROM:-0500
TZOFFSETTO:-0400
TZNAME:EDT
DTSTART:20260308T070000
END:DAYLIGHT
BEGIN:STANDARD
TZOFFSETFROM:-0400
TZOFFSETTO:-0500
TZNAME:EST
DTSTART:20261101T060000
END:STANDARD
BEGIN:DAYLIGHT
TZOFFSETFROM:-0500
TZOFFSETTO:-0400
TZNAME:EDT
DTSTART:20270314T070000
END:DAYLIGHT
BEGIN:STANDARD
TZOFFSETFROM:-0400
TZOFFSETTO:-0500
TZNAME:EST
DTSTART:20271107T060000
END:STANDARD
END:VTIMEZONE
BEGIN:VEVENT
DTSTART;TZID=America/New_York:20261019T083000
DTEND;TZID=America/New_York:20261019T160000
DTSTAMP:20260422T181344
CREATED:20260422T194304Z
LAST-MODIFIED:20260422T194304Z
UID:10000559-1792398600-1792425600@newcommunitiesinc.org
SUMMARY:Certified Residential Medication Aide (CRMA) (Skowhegan)
DESCRIPTION:This class is scheduled for October 19\,20\,22\,23 and 26 at the Skowhegan Training Center. \n5-day course in-person from 8:30 – 4:00pm. \nTeaches the skills needed for safe medication administration and covers State of Maine regulations\, common medications and side effects\, and basic anatomy and physiology.  \nParticipants may choose to add supervised Medication Administration provided by an RN and needed to obtain the certification. If you are not an NCI employee and will use an alternate RN\, you may opt out of the NCI supervised medication pass during the registration process. The class fee without the medication pass is $325.
URL:https://newcommunitiesinc.org/event/certified-residential-medication-aide-crma-skowhegan-14/
LOCATION:Skowhegan Training Center\, 52 High Street\, Skowhegan\, ME\, 04976
CATEGORIES:Certified Residential Medication Aide (CRMA)
END:VEVENT
BEGIN:VEVENT
DTSTART;TZID=America/New_York:20261021T090000
DTEND;TZID=America/New_York:20261021T130000
DTSTAMP:20260422T181344
CREATED:20260421T143826Z
LAST-MODIFIED:20260421T143826Z
UID:10000484-1792573200-1792587600@newcommunitiesinc.org
SUMMARY:American Heart Association CPR-First Aid-AED In-Person (Hampden Meadows)
DESCRIPTION:A video-based\, instructor-led course that teaches students critical skills to respond to and manage an emergency in the first few minutes before emergency medical services arrive. The instructor observes student practice and guides students’ learning of skills.
URL:https://newcommunitiesinc.org/event/american-heart-association-cpr-first-aid-aed-in-person-hampden-meadows-13/
LOCATION:Hampden Meadows\, 1282 Kennebec Road\, Hampden\, ME\, 04444
CATEGORIES:American Heart Association CPR & First Aid
END:VEVENT
BEGIN:VEVENT
DTSTART;TZID=America/New_York:20261022T073000
DTEND;TZID=America/New_York:20261022T090000
DTSTAMP:20260422T181344
CREATED:20260422T151210Z
LAST-MODIFIED:20260422T151210Z
UID:10000548-1792654200-1792659600@newcommunitiesinc.org
SUMMARY:Diabetes Certification Remote
DESCRIPTION:This remote\, RN instructor-led course includes information required to be taught annually by an RN to direct care workers\, according to Maine regulations governing the licensing and functioning of assisted housing programs\, including: \n\nDietary requirements\nAnti-Diabetic Oral medications – inclusive of adverse reactions and interventions\, hyper and hypo glycemic reactions\nInsulin storage\nInsulin injection techniques and site rotation (video demonstration)\nTreatment and prevention of insulin reaction including signs/symptoms\nFoot care\nLab testing\, urine testing and blood glucose monitoring\, and\nStandard Precautions\n\nThis course includes diabetes information for direct care professionals and must be combined with a CRMA certificate if the individual will be administering insulin. Students will receive a one-year Diabetes Certificate at the completion of the course. Diabetes skills such as insulin administration are taught via video but live skills are not practiced. \nAfter registration and payment confirmation\, you will receive an email with information about accessing the class\, including a Zoom link. \nMaterials needed for class: \n\nDiabetes Overview (student should review prior to class\, printing is optional)\nPrinted: Diabetes quiz and sign-in sheet\nPen
URL:https://newcommunitiesinc.org/event/diabetes-certification-remote-66/
LOCATION:ME
CATEGORIES:Diabetic Certification
END:VEVENT
END:VCALENDAR