BEGIN:VCALENDAR
VERSION:2.0
PRODID:-//New Communities, Inc. - ECPv6.15.20//NONSGML v1.0//EN
CALSCALE:GREGORIAN
METHOD:PUBLISH
X-WR-CALNAME:New Communities, Inc.
X-ORIGINAL-URL:https://newcommunitiesinc.org
X-WR-CALDESC:Events for New Communities, Inc.
REFRESH-INTERVAL;VALUE=DURATION:PT1H
X-Robots-Tag:noindex
X-PUBLISHED-TTL:PT1H
BEGIN:VTIMEZONE
TZID:America/New_York
BEGIN:DAYLIGHT
TZOFFSETFROM:-0500
TZOFFSETTO:-0400
TZNAME:EDT
DTSTART:20250309T070000
END:DAYLIGHT
BEGIN:STANDARD
TZOFFSETFROM:-0400
TZOFFSETTO:-0500
TZNAME:EST
DTSTART:20251102T060000
END:STANDARD
BEGIN:DAYLIGHT
TZOFFSETFROM:-0500
TZOFFSETTO:-0400
TZNAME:EDT
DTSTART:20260308T070000
END:DAYLIGHT
BEGIN:STANDARD
TZOFFSETFROM:-0400
TZOFFSETTO:-0500
TZNAME:EST
DTSTART:20261101T060000
END:STANDARD
BEGIN:DAYLIGHT
TZOFFSETFROM:-0500
TZOFFSETTO:-0400
TZNAME:EDT
DTSTART:20270314T070000
END:DAYLIGHT
BEGIN:STANDARD
TZOFFSETFROM:-0400
TZOFFSETTO:-0500
TZNAME:EST
DTSTART:20271107T060000
END:STANDARD
END:VTIMEZONE
BEGIN:VEVENT
DTSTART;TZID=America/New_York:20261130T083000
DTEND;TZID=America/New_York:20261130T123000
DTSTAMP:20260425T082012
CREATED:20260423T140600Z
LAST-MODIFIED:20260423T140600Z
UID:10000574-1796027400-1796041800@newcommunitiesinc.org
SUMMARY:Certified Residential Medication Aide (CRMA) Recertification Hybrid (Biddeford Training Center)
DESCRIPTION:This class is scheduled for November 30\, December 1\, 2026. \nThis RN led\, two-day course for certified CRMAs renewing their certificate includes one day of remote review and study via Zoom\, followed by an in-person exam on the second day. CRMAs who do not work for New Communities (NCI) may choose to attend only the exam day. \nTwo Day Option: Exam plus study group $150 (NCI employees must take the Two Day Option) \nOne Day Option: Exam only $95 \nDay 1 November 30\, 2026 – remote\, instructor-led study group\, 8:30am-12:30pm \nDay 2 December 1\, 2026 – in-person exam\, 8:30am-1:00pm \nAfter registration and payment confirmation\, you will receive an email with information about accessing the class\, including a Zoom link for the remote study day. \n  \nMaterials needed for class: \n\nCRMAs must bring their current CRMA certificates to the live day for verification. Certificates may not be more than 30 days past expiration.\nThe Fortitier Study Guide and other required class materials can be downloaded for printing here: CRMA Recertification Packet.\nPaper\, pen/pencil\, and highlighter for activities and notes.\nA face mask is optional on the live second day.
URL:https://newcommunitiesinc.org/event/certified-residential-medication-aide-crma-recertification-hybrid-biddeford-training-center-19/
LOCATION:Biddeford Training Center\, 25 Amherst Street\, Biddeford\, ME\, 04005\, United States
CATEGORIES:Certified Residential Medication Aide (CRMA) Recert
END:VEVENT
BEGIN:VEVENT
DTSTART;TZID=America/New_York:20261130T083000
DTEND;TZID=America/New_York:20261130T170000
DTSTAMP:20260425T082012
CREATED:20260422T135628Z
LAST-MODIFIED:20260422T135628Z
UID:10000531-1796027400-1796058000@newcommunitiesinc.org
SUMMARY:Safety Care Initial One-Day In-Person (NCI ID and MH Employees only) Norway
DESCRIPTION:This is a one-day\, in-person class for New Communities ID & MH Norway employees only. \nSafety-Care safely trains people in the basics of applied behavioral analysis principles such as challenging behavior\, identification of antecedents and consequences\, and differential reinforcement as methods for preventing or minimizing behavioral crises.
URL:https://newcommunitiesinc.org/event/safety-care-initial-one-day-in-person-nci-id-and-mh-employees-only-norway-23/
LOCATION:Norway Training Center (Marston Street)\, 16 Marston Street\, Norway\, ME\, 04268\, United States
CATEGORIES:Safety Care (ID Staff),Safety Care (MH Staff)
END:VEVENT
BEGIN:VEVENT
DTSTART;TZID=America/New_York:20261201T083000
DTEND;TZID=America/New_York:20261201T150000
DTSTAMP:20260425T082012
CREATED:20260421T195027Z
LAST-MODIFIED:20260421T195027Z
UID:10000514-1796113800-1796137200@newcommunitiesinc.org
SUMMARY:Safety Care Recertification One-Day In-Person (NCI only) Marston Street Training Center
DESCRIPTION:This is a one-day\, in-person Safety Care Recertification class for DSPs and MHRTs who are currently certified and need to renew their certificate. The class safely trains people in the basics of applied behavioral analysis principles such as challenging behavior\, identification of antecedents and consequences\, and differential reinforcement as methods for preventing or minimizing behavioral crises.
URL:https://newcommunitiesinc.org/event/safety-care-recertification-one-day-in-person-nci-only-marston-street-training-center-19/
LOCATION:Norway Training Center (Marston Street)\, 16 Marston Street\, Norway\, ME\, 04268\, United States
CATEGORIES:Safety Care Recertification
END:VEVENT
BEGIN:VEVENT
DTSTART;TZID=America/New_York:20261202T090000
DTEND;TZID=America/New_York:20261202T163000
DTSTAMP:20260425T082012
CREATED:20260421T135351Z
LAST-MODIFIED:20260422T190438Z
UID:10000469-1796202000-1796229000@newcommunitiesinc.org
SUMMARY:MHSS Remote
DESCRIPTION:MHSS Remote December 2\,4\,7\,9\,11\, 2026 \nThe Mental Health Support Specialist course is one of several requirements needed to complete the Mental Health Rehabilitation Technician certification. The course provides the basic knowledge and skills needed to support individuals with mental health diagnoses to live as independently as possible\, at home and in the community. Learners will have the opportunity to gain a greater understanding of their professional role and how to assist individuals with mental health challenges with daily activities. \nAfter registration and payment confirmation\, you will receive an email with information about accessing the class\, including a Zoom link.
URL:https://newcommunitiesinc.org/event/mhss-remote-14/
LOCATION:ME
CATEGORIES:MHSS
END:VEVENT
BEGIN:VEVENT
DTSTART;TZID=America/New_York:20261203T083000
DTEND;TZID=America/New_York:20261203T123000
DTSTAMP:20260425T082012
CREATED:20260423T145953Z
LAST-MODIFIED:20260423T145953Z
UID:10000577-1796286600-1796301000@newcommunitiesinc.org
SUMMARY:Certified Residential Medication Aide (CRMA) Recertification Hybrid (Gardiner Training Center)
DESCRIPTION:This class is scheduled for December 3\,4\, 2026. \nThis RN led\, two-day course for certified CRMAs renewing their certificate includes one day of remote review and study via Zoom\, followed by an in-person exam on the second day. CRMAs who do not work for New Communities (NCI) may choose to attend only the exam day. \nTwo Day Option: Exam plus study group $150 (NCI employees must take the Two Day Option) \nOne Day Option: Exam only $95 \nDay 1 December 3\, 2026 – remote\, instructor-led study group\, 8:30am-12:30pm \nDay 2 December 4\, 2026 – in-person exam\, 8:30am-1:00pm \nAfter registration and payment confirmation\, you will receive an email with information about accessing the class\, including a Zoom link for the remote study day. \n  \nMaterials needed for class: \n\nCRMAs must bring their current CRMA certificates to the live day for verification. Certificates may not be more than 30 days past expiration.\nThe Fortitier Study Guide and other required class materials can be downloaded for printing here: CRMA Recertification Packet.\nPaper\, pen/pencil\, and highlighter for activities and notes.\nA face mask is optional on the live second day.
URL:https://newcommunitiesinc.org/event/certified-residential-medication-aide-crma-recertification-hybrid-gardiner-training-center-14/
LOCATION:Gardiner Training Center\, 13 Plaisted Street\, Gardiner\, ME\, 04345\, United States
CATEGORIES:Certified Residential Medication Aide (CRMA) Recert
END:VEVENT
BEGIN:VEVENT
DTSTART;TZID=America/New_York:20261203T090000
DTEND;TZID=America/New_York:20261203T130000
DTSTAMP:20260425T082012
CREATED:20260421T141912Z
LAST-MODIFIED:20260422T190637Z
UID:10000481-1796288400-1796302800@newcommunitiesinc.org
SUMMARY:American Heart Association CPR-First Aid-AED In-Person (Norway)
DESCRIPTION:A video-based\, instructor-led course that teaches students critical skills to respond to and manage an emergency in the first few minutes before emergency medical services arrive. The instructor observes student practice and guides students’ learning of skills.
URL:https://newcommunitiesinc.org/event/american-heart-association-cpr-first-aid-aed-in-person-norway-13/
LOCATION:Norway Training Center (Marston Street)\, 16 Marston Street\, Norway\, ME\, 04268\, United States
CATEGORIES:American Heart Association CPR & First Aid
END:VEVENT
BEGIN:VEVENT
DTSTART;TZID=America/New_York:20261204T083000
DTEND;TZID=America/New_York:20261204T160000
DTSTAMP:20260425T082012
CREATED:20260423T132523Z
LAST-MODIFIED:20260423T132523Z
UID:10000563-1796373000-1796400000@newcommunitiesinc.org
SUMMARY:Certified Residential Medication Aide (CRMA) (Oxford)
DESCRIPTION:This class is scheduled for December 4\,7\,8\,10 and 14 at Waypoint Training Center in Oxford. \n5-day course in-person from 8:30 – 4:00pm. \nTeaches the skills needed for safe medication administration and covers State of Maine regulations\, common medications and side effects\, and basic anatomy and physiology.  \nParticipants may choose to add supervised Medication Administration provided by an RN and needed to obtain the certification. If you are not an NCI employee and will use an alternate RN\, you may opt out of the NCI supervised medication pass during the registration process. The class fee without the medication pass is $325.
URL:https://newcommunitiesinc.org/event/certified-residential-medication-aide-crma-oxford-2/
LOCATION:Oxford Training Center (The Waypoint Training Center)\, 143 Pottle Road\, Oxford\, ME\, 04270\, United States
CATEGORIES:Certified Residential Medication Aide (CRMA)
END:VEVENT
END:VCALENDAR