BEGIN:VCALENDAR
VERSION:2.0
PRODID:-//New Communities, Inc. - ECPv6.15.20//NONSGML v1.0//EN
CALSCALE:GREGORIAN
METHOD:PUBLISH
X-ORIGINAL-URL:https://newcommunitiesinc.org
X-WR-CALDESC:Events for New Communities, Inc.
REFRESH-INTERVAL;VALUE=DURATION:PT1H
X-Robots-Tag:noindex
X-PUBLISHED-TTL:PT1H
BEGIN:VTIMEZONE
TZID:America/New_York
BEGIN:DAYLIGHT
TZOFFSETFROM:-0500
TZOFFSETTO:-0400
TZNAME:EDT
DTSTART:20250309T070000
END:DAYLIGHT
BEGIN:STANDARD
TZOFFSETFROM:-0400
TZOFFSETTO:-0500
TZNAME:EST
DTSTART:20251102T060000
END:STANDARD
BEGIN:DAYLIGHT
TZOFFSETFROM:-0500
TZOFFSETTO:-0400
TZNAME:EDT
DTSTART:20260308T070000
END:DAYLIGHT
BEGIN:STANDARD
TZOFFSETFROM:-0400
TZOFFSETTO:-0500
TZNAME:EST
DTSTART:20261101T060000
END:STANDARD
BEGIN:DAYLIGHT
TZOFFSETFROM:-0500
TZOFFSETTO:-0400
TZNAME:EDT
DTSTART:20270314T070000
END:DAYLIGHT
BEGIN:STANDARD
TZOFFSETFROM:-0400
TZOFFSETTO:-0500
TZNAME:EST
DTSTART:20271107T060000
END:STANDARD
END:VTIMEZONE
BEGIN:VEVENT
DTSTART;TZID=America/New_York:20261207T073000
DTEND;TZID=America/New_York:20261207T090000
DTSTAMP:20260422T180822
CREATED:20260422T142056Z
LAST-MODIFIED:20260422T142056Z
UID:10000538-1796628600-1796634000@newcommunitiesinc.org
SUMMARY:Medication Administration Policies and Practices Remote (NCI only)
DESCRIPTION:This remote\, RN instructor-led class reviews New Communities’ medication administration policies and practices and is a required annual training for CRMAs. \nAfter registration confirmation\, you will receive an email with information about accessing the class\, including a Zoom link to the remote class. \nMaterials needed for class: \n\nPrinted: How to Administer Medications\nPrinted: Medication Administration Common Errors
URL:https://newcommunitiesinc.org/event/medication-administration-policies-and-practices-remote-nci-only-32/
LOCATION:ME
CATEGORIES:Medication Administration
END:VEVENT
BEGIN:VEVENT
DTSTART;TZID=America/New_York:20261207T090000
DTEND;TZID=America/New_York:20261207T103000
DTSTAMP:20260422T180822
CREATED:20260422T150017Z
LAST-MODIFIED:20260422T150017Z
UID:10000544-1796634000-1796639400@newcommunitiesinc.org
SUMMARY:Diabetes Certification Remote
DESCRIPTION:This remote\, RN instructor-led course includes information required to be taught annually by an RN to direct care workers\, according to Maine regulations governing the licensing and functioning of assisted housing programs\, including: \n\nDietary requirements\nAnti-Diabetic Oral medications – inclusive of adverse reactions and interventions\, hyper and hypo glycemic reactions\nInsulin storage\nInsulin injection techniques and site rotation (video demonstration)\nTreatment and prevention of insulin reaction including signs/symptoms\nFoot care\nLab testing\, urine testing and blood glucose monitoring\, and\nStandard Precautions\n\nThis course includes diabetes information for direct care professionals and must be combined with a CRMA certificate if the individual will be administering insulin. Students will receive a one-year Diabetes Certificate at the completion of the course. Diabetes skills such as insulin administration are taught via video but live skills are not practiced. \nAfter registration and payment confirmation\, you will receive an email with information about accessing the class\, including a Zoom link. \nMaterials needed for class: \n\nDiabetes Overview (student should review prior to class\, printing is optional)\nPrinted: Diabetes quiz and sign-in sheet\nPen
URL:https://newcommunitiesinc.org/event/diabetes-certification-remote-62/
LOCATION:ME
CATEGORIES:Diabetic Certification
END:VEVENT
BEGIN:VEVENT
DTSTART;TZID=America/New_York:20261210T090000
DTEND;TZID=America/New_York:20261210T170000
DTSTAMP:20260422T180822
CREATED:20260422T110318Z
LAST-MODIFIED:20260422T190725Z
UID:10000517-1796893200-1796922000@newcommunitiesinc.org
SUMMARY:Safety Care Initial One-Day In-Person (NCI MH Employees only) Hampden Meadows
DESCRIPTION:This is a one-day\, in-person class for New Communities MH employees only. \nSafety-Care safely trains people in the basics of applied behavioral analysis principles such as challenging behavior\, identification of antecedents and consequences\, and differential reinforcement as methods for preventing or minimizing behavioral crises.
URL:https://newcommunitiesinc.org/event/safety-care-initial-one-day-in-person-nci-mh-employees-only-hampden-meadows-14/
LOCATION:Hampden Meadows\, 1282 Kennebec Road\, Hampden\, ME\, 04444
CATEGORIES:Safety Care (MH Staff)
END:VEVENT
END:VCALENDAR